BEGIN:VCALENDAR
VERSION:2.0
PRODID:-//Comfort Lake Forest Lake Watershed District - ECPv6.15.14//NONSGML v1.0//EN
CALSCALE:GREGORIAN
METHOD:PUBLISH
X-ORIGINAL-URL:https://clflwd.org
X-WR-CALDESC:Events for Comfort Lake Forest Lake Watershed District
REFRESH-INTERVAL;VALUE=DURATION:PT1H
X-Robots-Tag:noindex
X-PUBLISHED-TTL:PT1H
BEGIN:VTIMEZONE
TZID:America/Chicago
BEGIN:DAYLIGHT
TZOFFSETFROM:-0600
TZOFFSETTO:-0500
TZNAME:CDT
DTSTART:20240310T080000
END:DAYLIGHT
BEGIN:STANDARD
TZOFFSETFROM:-0500
TZOFFSETTO:-0600
TZNAME:CST
DTSTART:20241103T070000
END:STANDARD
BEGIN:DAYLIGHT
TZOFFSETFROM:-0600
TZOFFSETTO:-0500
TZNAME:CDT
DTSTART:20250309T080000
END:DAYLIGHT
BEGIN:STANDARD
TZOFFSETFROM:-0500
TZOFFSETTO:-0600
TZNAME:CST
DTSTART:20251102T070000
END:STANDARD
BEGIN:DAYLIGHT
TZOFFSETFROM:-0600
TZOFFSETTO:-0500
TZNAME:CDT
DTSTART:20260308T080000
END:DAYLIGHT
BEGIN:STANDARD
TZOFFSETFROM:-0500
TZOFFSETTO:-0600
TZNAME:CST
DTSTART:20261101T070000
END:STANDARD
END:VTIMEZONE
BEGIN:VEVENT
DTSTART;TZID=America/Chicago:20250415T183000
DTEND;TZID=America/Chicago:20250415T203000
DTSTAMP:20260423T144051
CREATED:20250401T161112Z
LAST-MODIFIED:20250401T190719Z
UID:11880-1744741800-1744749000@clflwd.org
SUMMARY:04/15/25 Special Board Workshop – Strategic Planning
DESCRIPTION:Remote Attendance Instructions:\nClick here to join the zoom meeting online or dial by phone: 301-715-8592. Meeting ID: 884 8627 6837 \nMeeting Notice & Agenda\nFull agenda and board packet items will be posted on this page no later than 3 days preceding the meeting. \n\nCall to Order of Special Meeting\nStrategic Planning Workshop\n\nMemo\nStrategic Planning Initiative Table\nExpansion Process\nAccess Philanthropy Fundraising Feasibility Report\nISG Office Space Feasibility Report\n\n\nAdjourn\n\nNext regular board meeting – April 24\, 2025 6:30 pm
URL:https://clflwd.org/event/04-15-25-special-board-workshop-strategic-planning/
CATEGORIES:Special Meeting
END:VEVENT
BEGIN:VEVENT
DTSTART;TZID=America/Chicago:20250429T180000
DTEND;TZID=America/Chicago:20250429T200000
DTSTAMP:20260423T144051
CREATED:20250417T190904Z
LAST-MODIFIED:20250429T184104Z
UID:12074-1745949600-1745956800@clflwd.org
SUMMARY:04/29/25 Special Board Workshop – Strategic Planning
DESCRIPTION:Remote Attendance Instructions:\nClick here to join the zoom meeting online or dial by phone: 301-715-8592. Meeting ID: 832 3269 8733 \nMeeting Notice & Agenda\n\nCall to Order of Special Meeting\nStrategic Planning Workshop\n\nStrategic Planning Dashboard (Excel Download)\nStrategic Planning Dashboard (PDF)\n\n\nAdjourn\n\nNext regular board meeting – May 8\, 2025 6:30 pm
URL:https://clflwd.org/event/04-29-25-special-board-workshop-strategic-planning/
CATEGORIES:Special Meeting
END:VEVENT
END:VCALENDAR