BEGIN:VCALENDAR
VERSION:2.0
PRODID:-//Comfort Lake Forest Lake Watershed District - ECPv6.15.14//NONSGML v1.0//EN
CALSCALE:GREGORIAN
METHOD:PUBLISH
X-ORIGINAL-URL:https://clflwd.org
X-WR-CALDESC:Events for Comfort Lake Forest Lake Watershed District
REFRESH-INTERVAL;VALUE=DURATION:PT1H
X-Robots-Tag:noindex
X-PUBLISHED-TTL:PT1H
BEGIN:VTIMEZONE
TZID:America/Chicago
BEGIN:DAYLIGHT
TZOFFSETFROM:-0600
TZOFFSETTO:-0500
TZNAME:CDT
DTSTART:20240310T080000
END:DAYLIGHT
BEGIN:STANDARD
TZOFFSETFROM:-0500
TZOFFSETTO:-0600
TZNAME:CST
DTSTART:20241103T070000
END:STANDARD
BEGIN:DAYLIGHT
TZOFFSETFROM:-0600
TZOFFSETTO:-0500
TZNAME:CDT
DTSTART:20250309T080000
END:DAYLIGHT
BEGIN:STANDARD
TZOFFSETFROM:-0500
TZOFFSETTO:-0600
TZNAME:CST
DTSTART:20251102T070000
END:STANDARD
BEGIN:DAYLIGHT
TZOFFSETFROM:-0600
TZOFFSETTO:-0500
TZNAME:CDT
DTSTART:20260308T080000
END:DAYLIGHT
BEGIN:STANDARD
TZOFFSETFROM:-0500
TZOFFSETTO:-0600
TZNAME:CST
DTSTART:20261101T070000
END:STANDARD
END:VTIMEZONE
BEGIN:VEVENT
DTSTART;TZID=America/Chicago:20250304T173000
DTEND;TZID=America/Chicago:20250304T193000
DTSTAMP:20260423T160412
CREATED:20250221T144728Z
LAST-MODIFIED:20250228T213232Z
UID:11486-1741109400-1741116600@clflwd.org
SUMMARY:03/04/25 Special Board Workshop – Strategic Planning
DESCRIPTION:Remote Attendance Instructions:\nClick here to join the zoom meeting online or dial by phone: 301-715-8592. Meeting ID: 822 7754 9006 \nMeeting Notice & Agenda\n\nCall to Order of Special Meeting\nStrategic Planning Workshop\nAdjourn\n\nNext regular board meeting – March 13\, 2025 6:30 pm
URL:https://clflwd.org/event/03-04-25-special-board-workshop-strategic-planning/
CATEGORIES:Special Meeting
END:VEVENT
BEGIN:VEVENT
DTSTART;TZID=America/Chicago:20250325T173000
DTEND;TZID=America/Chicago:20250325T193000
DTSTAMP:20260423T160412
CREATED:20250306T202018Z
LAST-MODIFIED:20250325T225415Z
UID:11655-1742923800-1742931000@clflwd.org
SUMMARY:03/25/25 Special Board Workshop – Strategic Planning
DESCRIPTION:Remote Attendance Instructions:\nClick here to join the zoom meeting online or dial by phone: 301-715-8592. Meeting ID: 850 9825 9162 \nMeeting Notice & Agenda\n\nCall to Order of Special Meeting\nStrategic Planning Workshop\n\nMemo\nInitiative Table\n Statute\n\n103D.335 Subd. 19. Open Space and Greenbelts\n103D.201 Watershed District Purposes\n\n\n\n\nAdjourn\n\nNext regular board meeting – March 27\, 2025 6:30 pm
URL:https://clflwd.org/event/03-25-25-special-board-workshop-strategic-planning/
CATEGORIES:Special Meeting
END:VEVENT
END:VCALENDAR