BEGIN:VCALENDAR
VERSION:2.0
PRODID:-//Comfort Lake Forest Lake Watershed District - ECPv6.15.14//NONSGML v1.0//EN
CALSCALE:GREGORIAN
METHOD:PUBLISH
X-ORIGINAL-URL:https://clflwd.org
X-WR-CALDESC:Events for Comfort Lake Forest Lake Watershed District
REFRESH-INTERVAL;VALUE=DURATION:PT1H
X-Robots-Tag:noindex
X-PUBLISHED-TTL:PT1H
BEGIN:VTIMEZONE
TZID:America/Chicago
BEGIN:DAYLIGHT
TZOFFSETFROM:-0600
TZOFFSETTO:-0500
TZNAME:CDT
DTSTART:20240310T080000
END:DAYLIGHT
BEGIN:STANDARD
TZOFFSETFROM:-0500
TZOFFSETTO:-0600
TZNAME:CST
DTSTART:20241103T070000
END:STANDARD
BEGIN:DAYLIGHT
TZOFFSETFROM:-0600
TZOFFSETTO:-0500
TZNAME:CDT
DTSTART:20250309T080000
END:DAYLIGHT
BEGIN:STANDARD
TZOFFSETFROM:-0500
TZOFFSETTO:-0600
TZNAME:CST
DTSTART:20251102T070000
END:STANDARD
BEGIN:DAYLIGHT
TZOFFSETFROM:-0600
TZOFFSETTO:-0500
TZNAME:CDT
DTSTART:20260308T080000
END:DAYLIGHT
BEGIN:STANDARD
TZOFFSETFROM:-0500
TZOFFSETTO:-0600
TZNAME:CST
DTSTART:20261101T070000
END:STANDARD
END:VTIMEZONE
BEGIN:VEVENT
DTSTART;TZID=America/Chicago:20251001T090000
DTEND;TZID=America/Chicago:20251001T100000
DTSTAMP:20260420T104722
CREATED:20250929T164138Z
LAST-MODIFIED:20250929T164739Z
UID:13457-1759309200-1759312800@clflwd.org
SUMMARY:Alum On-Site Informational Event
DESCRIPTION:There will be an on-site informational event on October 1st from 9:00 – 10:00 a.m. at Forest Lake third lake boat launch (9467 North Shore Trail North\, Forest Lake\, MN 55025). This is a chance to see the alum treatment equipment firsthand and interact with CLFLWD staff\, engineers\, and the actual alum applicators themselves. This is an informal event\, and interested parties can just stop by the access anytime from 9:00 – 10:00 a.m.
URL:https://clflwd.org/event/alum-on-site-informational-event/
LOCATION:Forest Lake Launch 3\, 9467 North Shore Trail North\, Forest Lake\, MN\, 55025
CATEGORIES:Workshops/Presentations
END:VEVENT
BEGIN:VEVENT
DTSTART;TZID=America/Chicago:20251002T180000
DTEND;TZID=America/Chicago:20251002T193000
DTSTAMP:20260420T104722
CREATED:20250917T140941Z
LAST-MODIFIED:20250917T151244Z
UID:13351-1759428000-1759433400@clflwd.org
SUMMARY:Forest Lake Fall Alum Treatment Informational Meeting
DESCRIPTION:How does an alum treatment improve water quality?\nWhy does Forest Lake need another alum treatment this fall? \nDr. Wilkinson is a civil engineer and limnologist at Emmons & Olivier Resources\, Inc. where she applies her expertise in watershed engineering\, primarily focused on lake and stream water quality and ecology. She will present an introduction to lake science and discuss Forest Lake’s overall water quality. She will also be discussing results from the first alum treatment on Forest Lake and the upcoming second alum treatment scheduled for mid-October. \nThis FREE workshop will be held at the Forest Lake Senior Community Center (767 4th St SW\, Forest Lake\, MN 55025) starting at 6:00 p.m. The workshop includes an hour presentation\, a box supper\, and time for open discussion after the presentation. \nPlease RSVP before noon on October 1st for this workshop\, so we have an accurate headcount for food and seating.\nTo register\, please contact the CLFLWD at 651-395-5850 or by email. \nEvent Flyer\nOpen Meeting Notice
URL:https://clflwd.org/event/forest-lake-fall-alum-treatment-informational-meeting/
LOCATION:Forest Lake Senior Community  Center\, 767 4th St SW\, Forest Lake\, MN\, 55025
CATEGORIES:Workshops/Presentations
END:VEVENT
END:VCALENDAR