BEGIN:VCALENDAR
VERSION:2.0
PRODID:-//Comfort Lake Forest Lake Watershed District - ECPv6.15.14//NONSGML v1.0//EN
CALSCALE:GREGORIAN
METHOD:PUBLISH
X-WR-CALNAME:Comfort Lake Forest Lake Watershed District
X-ORIGINAL-URL:https://clflwd.org
X-WR-CALDESC:Events for Comfort Lake Forest Lake Watershed District
REFRESH-INTERVAL;VALUE=DURATION:PT1H
X-Robots-Tag:noindex
X-PUBLISHED-TTL:PT1H
BEGIN:VTIMEZONE
TZID:America/Chicago
BEGIN:DAYLIGHT
TZOFFSETFROM:-0600
TZOFFSETTO:-0500
TZNAME:CDT
DTSTART:20240310T080000
END:DAYLIGHT
BEGIN:STANDARD
TZOFFSETFROM:-0500
TZOFFSETTO:-0600
TZNAME:CST
DTSTART:20241103T070000
END:STANDARD
BEGIN:DAYLIGHT
TZOFFSETFROM:-0600
TZOFFSETTO:-0500
TZNAME:CDT
DTSTART:20250309T080000
END:DAYLIGHT
BEGIN:STANDARD
TZOFFSETFROM:-0500
TZOFFSETTO:-0600
TZNAME:CST
DTSTART:20251102T070000
END:STANDARD
BEGIN:DAYLIGHT
TZOFFSETFROM:-0600
TZOFFSETTO:-0500
TZNAME:CDT
DTSTART:20260308T080000
END:DAYLIGHT
BEGIN:STANDARD
TZOFFSETFROM:-0500
TZOFFSETTO:-0600
TZNAME:CST
DTSTART:20261101T070000
END:STANDARD
END:VTIMEZONE
BEGIN:VEVENT
DTSTART;TZID=America/Chicago:20251120T183000
DTEND;TZID=America/Chicago:20251120T193000
DTSTAMP:20260423T000355
CREATED:20250821T143600Z
LAST-MODIFIED:20250828T183907Z
UID:13159-1763663400-1763667000@clflwd.org
SUMMARY:Fall Septic System Care
DESCRIPTION:How does your individual septic system really work? How can you as a homeowner care for and protect your investment to maximize the life of the system? There are many simple things you can do to extend the life of your septic system while at the same time maximizing efficiency\, reducing expensive repairs\, and protecting water quality. Participants will receive an informational folder full of great publications. \n\n\n\n\n\n\n\n\n\n\nhttps://isd2144.ce.eleyo.com/course/3099/fall-2025/fall-septic-system-care
URL:https://clflwd.org/event/2025-fall-septic-system-care/
LOCATION:Wildcat Community Center\, 29330 Olinda Trail\, Lindstrom\, MN\, 55045\, United States
CATEGORIES:Workshops/Presentations
END:VEVENT
END:VCALENDAR