BEGIN:VCALENDAR
VERSION:2.0
PRODID:-//Comfort Lake Forest Lake Watershed District - ECPv6.15.14//NONSGML v1.0//EN
CALSCALE:GREGORIAN
METHOD:PUBLISH
X-WR-CALNAME:Comfort Lake Forest Lake Watershed District
X-ORIGINAL-URL:https://clflwd.org
X-WR-CALDESC:Events for Comfort Lake Forest Lake Watershed District
REFRESH-INTERVAL;VALUE=DURATION:PT1H
X-Robots-Tag:noindex
X-PUBLISHED-TTL:PT1H
BEGIN:VTIMEZONE
TZID:America/Chicago
BEGIN:DAYLIGHT
TZOFFSETFROM:-0600
TZOFFSETTO:-0500
TZNAME:CDT
DTSTART:20240310T080000
END:DAYLIGHT
BEGIN:STANDARD
TZOFFSETFROM:-0500
TZOFFSETTO:-0600
TZNAME:CST
DTSTART:20241103T070000
END:STANDARD
BEGIN:DAYLIGHT
TZOFFSETFROM:-0600
TZOFFSETTO:-0500
TZNAME:CDT
DTSTART:20250309T080000
END:DAYLIGHT
BEGIN:STANDARD
TZOFFSETFROM:-0500
TZOFFSETTO:-0600
TZNAME:CST
DTSTART:20251102T070000
END:STANDARD
BEGIN:DAYLIGHT
TZOFFSETFROM:-0600
TZOFFSETTO:-0500
TZNAME:CDT
DTSTART:20260308T080000
END:DAYLIGHT
BEGIN:STANDARD
TZOFFSETFROM:-0500
TZOFFSETTO:-0600
TZNAME:CST
DTSTART:20261101T070000
END:STANDARD
END:VTIMEZONE
BEGIN:VEVENT
DTSTART;TZID=America/Chicago:20250227T183000
DTEND;TZID=America/Chicago:20250227T193000
DTSTAMP:20260423T104919
CREATED:20250113T215543Z
LAST-MODIFIED:20250225T163237Z
UID:11067-1740681000-1740684600@clflwd.org
SUMMARY:Many MN Milkweeds
DESCRIPTION:We have over a dozen milkweeds that are native to Minnesota. Let’s chat about the wide variety of these great pollinator plants! Some are wildly popular and very common growing in gardens and local sceneries. We will also discuss where to buy milkweed plants and seed\, plus how and where to add these pollinator magnets to your landscapes. Participants will receive an informational folder full of great publications and several door prizes from local plant specialists will be given away.
URL:https://clflwd.org/event/many-mn-milkweeds/
LOCATION:MN
CATEGORIES:Workshops/Presentations
END:VEVENT
END:VCALENDAR