BEGIN:VCALENDAR
VERSION:2.0
PRODID:-//Comfort Lake Forest Lake Watershed District - ECPv6.15.14//NONSGML v1.0//EN
CALSCALE:GREGORIAN
METHOD:PUBLISH
X-WR-CALNAME:Comfort Lake Forest Lake Watershed District
X-ORIGINAL-URL:https://clflwd.org
X-WR-CALDESC:Events for Comfort Lake Forest Lake Watershed District
REFRESH-INTERVAL;VALUE=DURATION:PT1H
X-Robots-Tag:noindex
X-PUBLISHED-TTL:PT1H
BEGIN:VTIMEZONE
TZID:America/Chicago
BEGIN:DAYLIGHT
TZOFFSETFROM:-0600
TZOFFSETTO:-0500
TZNAME:CDT
DTSTART:20230312T080000
END:DAYLIGHT
BEGIN:STANDARD
TZOFFSETFROM:-0500
TZOFFSETTO:-0600
TZNAME:CST
DTSTART:20231105T070000
END:STANDARD
BEGIN:DAYLIGHT
TZOFFSETFROM:-0600
TZOFFSETTO:-0500
TZNAME:CDT
DTSTART:20240310T080000
END:DAYLIGHT
BEGIN:STANDARD
TZOFFSETFROM:-0500
TZOFFSETTO:-0600
TZNAME:CST
DTSTART:20241103T070000
END:STANDARD
BEGIN:DAYLIGHT
TZOFFSETFROM:-0600
TZOFFSETTO:-0500
TZNAME:CDT
DTSTART:20250309T080000
END:DAYLIGHT
BEGIN:STANDARD
TZOFFSETFROM:-0500
TZOFFSETTO:-0600
TZNAME:CST
DTSTART:20251102T070000
END:STANDARD
END:VTIMEZONE
BEGIN:VEVENT
DTSTART;TZID=America/Chicago:20241028T183000
DTEND;TZID=America/Chicago:20241028T193000
DTSTAMP:20260423T162449
CREATED:20240911T152816Z
LAST-MODIFIED:20240911T152816Z
UID:10133-1730140200-1730143800@clflwd.org
SUMMARY:Fall Septic System Care Class
DESCRIPTION:How does your septic system really work? How can you as a homeowner care for and protect your investment to maximize the life of the system? Learn how to extend the life of your septic system while maximizing efficiency\, reducing expensive repairs and protecting water quality. Participants will receive a folder full of great information and a native plant book. Several door prizes will be given away from local plant specialists. \n**In person and virtual options** \n\n\n\n\n\n\n\n\n\n\n\n\nhttps://forestlake.ce.eleyo.com/course/7546/fall-2024/fall-septic-system-care
URL:https://clflwd.org/event/fall-septic-system-care-class/
LOCATION:Forest Lake Area Schools Education Center\, 943 9th Ave SW\, Forest Lake\, MN\, 55025\, United States
CATEGORIES:Workshops/Presentations
END:VEVENT
END:VCALENDAR