BEGIN:VCALENDAR
VERSION:2.0
PRODID:-//Comfort Lake Forest Lake Watershed District - ECPv6.15.14//NONSGML v1.0//EN
CALSCALE:GREGORIAN
METHOD:PUBLISH
X-WR-CALNAME:Comfort Lake Forest Lake Watershed District
X-ORIGINAL-URL:https://clflwd.org
X-WR-CALDESC:Events for Comfort Lake Forest Lake Watershed District
REFRESH-INTERVAL;VALUE=DURATION:PT1H
X-Robots-Tag:noindex
X-PUBLISHED-TTL:PT1H
BEGIN:VTIMEZONE
TZID:America/Chicago
BEGIN:DAYLIGHT
TZOFFSETFROM:-0600
TZOFFSETTO:-0500
TZNAME:CDT
DTSTART:20230312T080000
END:DAYLIGHT
BEGIN:STANDARD
TZOFFSETFROM:-0500
TZOFFSETTO:-0600
TZNAME:CST
DTSTART:20231105T070000
END:STANDARD
BEGIN:DAYLIGHT
TZOFFSETFROM:-0600
TZOFFSETTO:-0500
TZNAME:CDT
DTSTART:20240310T080000
END:DAYLIGHT
BEGIN:STANDARD
TZOFFSETFROM:-0500
TZOFFSETTO:-0600
TZNAME:CST
DTSTART:20241103T070000
END:STANDARD
BEGIN:DAYLIGHT
TZOFFSETFROM:-0600
TZOFFSETTO:-0500
TZNAME:CDT
DTSTART:20250309T080000
END:DAYLIGHT
BEGIN:STANDARD
TZOFFSETFROM:-0500
TZOFFSETTO:-0600
TZNAME:CST
DTSTART:20251102T070000
END:STANDARD
END:VTIMEZONE
BEGIN:VEVENT
DTSTART;TZID=America/Chicago:20240805T150000
DTEND;TZID=America/Chicago:20240805T160000
DTSTAMP:20260423T204735
CREATED:20240725T183631Z
LAST-MODIFIED:20240814T225126Z
UID:7178-1722870000-1722873600@clflwd.org
SUMMARY:Making Bee Houses Class
DESCRIPTION:Come and join us to learn about native bees. We will learn the basics of bees and the importance of these incredible insects. We will also make bee houses that you can take home. Turn your crafty creativity into functional fun. More bees means more fruits\, veggies\, and flowers in your backyard! All the supplies and materials are provided\, just bring your creativity. This program is put on by the Comfort Forest Lake Watershed District at Hardwood Creek Library.\nThis class is for kids and their adults. This program will be outside in the reading loft. Please use one registration slot per child and adult pair.
URL:https://clflwd.org/event/making-bee-houses-class-2/
LOCATION:MN
CATEGORIES:Workshops/Presentations
END:VEVENT
END:VCALENDAR