BEGIN:VCALENDAR
VERSION:2.0
PRODID:-//Comfort Lake Forest Lake Watershed District - ECPv6.15.14//NONSGML v1.0//EN
CALSCALE:GREGORIAN
METHOD:PUBLISH
X-WR-CALNAME:Comfort Lake Forest Lake Watershed District
X-ORIGINAL-URL:https://clflwd.org
X-WR-CALDESC:Events for Comfort Lake Forest Lake Watershed District
REFRESH-INTERVAL;VALUE=DURATION:PT1H
X-Robots-Tag:noindex
X-PUBLISHED-TTL:PT1H
BEGIN:VTIMEZONE
TZID:America/Chicago
BEGIN:DAYLIGHT
TZOFFSETFROM:-0600
TZOFFSETTO:-0500
TZNAME:CDT
DTSTART:20220313T080000
END:DAYLIGHT
BEGIN:STANDARD
TZOFFSETFROM:-0500
TZOFFSETTO:-0600
TZNAME:CST
DTSTART:20221106T070000
END:STANDARD
BEGIN:DAYLIGHT
TZOFFSETFROM:-0600
TZOFFSETTO:-0500
TZNAME:CDT
DTSTART:20230312T080000
END:DAYLIGHT
BEGIN:STANDARD
TZOFFSETFROM:-0500
TZOFFSETTO:-0600
TZNAME:CST
DTSTART:20231105T070000
END:STANDARD
BEGIN:DAYLIGHT
TZOFFSETFROM:-0600
TZOFFSETTO:-0500
TZNAME:CDT
DTSTART:20240310T080000
END:DAYLIGHT
BEGIN:STANDARD
TZOFFSETFROM:-0500
TZOFFSETTO:-0600
TZNAME:CST
DTSTART:20241103T070000
END:STANDARD
END:VTIMEZONE
BEGIN:VEVENT
DTSTART;TZID=America/Chicago:20230830T090000
DTEND;TZID=America/Chicago:20230830T110000
DTSTAMP:20260424T132701
CREATED:20240725T182629Z
LAST-MODIFIED:20240819T165951Z
UID:7101-1693386000-1693393200@clflwd.org
SUMMARY:Project Completion Celebration
DESCRIPTION:Join District Staff and Managers as we celebrate the completion of two exciting water quality improvement projects! Visit the project sites\, see how they work\, and learn about the benefits they have for our local lakes\, rivers\, and wetlands. \nThe Projects: \n\nCounty Road-50 Iron Enhanced Sand Filter\nLocated along County Road-50 on the south side of Forest Lake\, this project treats nutrient rich water from Washington Judicial Ditch-6 keeping an estimated 97lb/yr of phosphorus from entering Forest Lake.\nSunrise River HWY-61 Wetland Enhancement\nLocated along HWY-61 just north of HWY 8 in Wyoming\, this project provides numerous benefits to the Sunrise River and Comfort Lake including increased flood storage\, restored wetland habitat\, and estimated phosphorus reductions of up to 89lb/yr.\n\nLogistics: \nBoard a transit bus at Lakeside Memorial Park in Forest Lake at 9:00am on August 30th. Visit both project sites where you’ll be given the option to disembark\, learn how the project works\, and participate in a celebratory tree planting and seed dispersal. The bus will return to the park at 11:00am. \nDue to the physical constraints of the project sites and the proximity to high traffic roadways\, individuals participating in the project tour and celebration must take the provided bus. If you need special accommodations please let us know. \nRSVP Strongly Encouraged: https://forms.gle/buawiapBznaEjPFV7  \nQuestions? Contact (651) 395-5858 or info@clflwd.org
URL:https://clflwd.org/event/project-completion-celebration/
LOCATION:Lakeside Memorial Park\, 95 East Broadway Avenue\, Forest Lake\, MN\, 55025\, United States
CATEGORIES:Workshops/Presentations
END:VEVENT
END:VCALENDAR