BEGIN:VCALENDAR
VERSION:2.0
PRODID:-//Comfort Lake Forest Lake Watershed District - ECPv6.15.14//NONSGML v1.0//EN
CALSCALE:GREGORIAN
METHOD:PUBLISH
X-ORIGINAL-URL:https://clflwd.org
X-WR-CALDESC:Events for Comfort Lake Forest Lake Watershed District
REFRESH-INTERVAL;VALUE=DURATION:PT1H
X-Robots-Tag:noindex
X-PUBLISHED-TTL:PT1H
BEGIN:VTIMEZONE
TZID:America/Chicago
BEGIN:DAYLIGHT
TZOFFSETFROM:-0600
TZOFFSETTO:-0500
TZNAME:CDT
DTSTART:20250309T080000
END:DAYLIGHT
BEGIN:STANDARD
TZOFFSETFROM:-0500
TZOFFSETTO:-0600
TZNAME:CST
DTSTART:20251102T070000
END:STANDARD
BEGIN:DAYLIGHT
TZOFFSETFROM:-0600
TZOFFSETTO:-0500
TZNAME:CDT
DTSTART:20260308T080000
END:DAYLIGHT
BEGIN:STANDARD
TZOFFSETFROM:-0500
TZOFFSETTO:-0600
TZNAME:CST
DTSTART:20261101T070000
END:STANDARD
BEGIN:DAYLIGHT
TZOFFSETFROM:-0600
TZOFFSETTO:-0500
TZNAME:CDT
DTSTART:20270314T080000
END:DAYLIGHT
BEGIN:STANDARD
TZOFFSETFROM:-0500
TZOFFSETTO:-0600
TZNAME:CST
DTSTART:20271107T070000
END:STANDARD
END:VTIMEZONE
BEGIN:VEVENT
DTSTART;TZID=America/Chicago:20260305T180000
DTEND;TZID=America/Chicago:20260305T190000
DTSTAMP:20260422T171612
CREATED:20251218T202523Z
LAST-MODIFIED:20251218T202523Z
UID:14034-1772733600-1772737200@clflwd.org
SUMMARY:Bee Houses - Winter 2026
DESCRIPTION:This is a Family Class…so kids bring an adult with you! \nCome and join us to learn about native bees. We will learn the bee basics and also the importance of these incredible insects. We will also be making bee houses that you will be able to take home. Turn your crafty creativity into functional fun. More bees means more fruits\, veggies\, and flowers in your own backyard! All the supplies and materials are provided\, just bring your creativity. \nhttps://isd2144.ce.eleyo.com/course/3239/winter-2026/bee-houses
URL:https://clflwd.org/event/bee-houses-winter-2026/
LOCATION:Chisago Lakes High School\, 29400 Olinda Trail\, Lindstrom\, MN\, United States
CATEGORIES:Workshops/Presentations
END:VEVENT
BEGIN:VEVENT
DTSTART;TZID=America/Chicago:20260309T140000
DTEND;TZID=America/Chicago:20260309T150000
DTSTAMP:20260422T171612
CREATED:20260218T214928Z
LAST-MODIFIED:20260218T214928Z
UID:14332-1773064800-1773068400@clflwd.org
SUMMARY:Pollinator Lawns - Winter 2026
DESCRIPTION:We love our lush green lawns\, maybe a bit too much? Join Comfort Lake Forest Lake Watershed District at Hardwood Creek Library to learn what we can plant. We’ll discuss lawn alternatives that are more environmentally friendly and will keep your backyard buzzing. Small changes can save you time and money while creating beauty and protecting our environment. \nhttps://washcolib.libcal.com/event/15491670
URL:https://clflwd.org/event/pollinator-lawns-winter-2026/
LOCATION:Hardwood Creek Library\, 19955 Forest Rd N\, Forest Lake\, MN\, 55025\, United States
CATEGORIES:Workshops/Presentations
END:VEVENT
BEGIN:VEVENT
DTSTART;TZID=America/Chicago:20260312T183000
DTEND;TZID=America/Chicago:20260312T193000
DTSTAMP:20260422T171612
CREATED:20251126T170517Z
LAST-MODIFIED:20251126T170517Z
UID:13923-1773340200-1773343800@clflwd.org
SUMMARY:Gardening - Planning and Planting Pocket Gardens - Winter 2026
DESCRIPTION:A native wildflower garden will attract beautiful butterflies and bees to your yard and help pollinators stay healthy. You can plant a garden anywhere from the boulevard of your city lot\, under pine trees and even that shady corner where nothing ever seems to ever grow. We will cover it all from weeds to seeds and start to bountiful blooms. We will even “walk” through a project from scratch. You will receive an informational folder full of great publications\, a native plant book and several door prizes will be given away from local plant specialists. \n\n\n\n\n\n\n\n\n\n\nhttps://forestlake.ce.eleyo.com/course/8539/winter-2026-jan-apr/gardening-planning-and-planting-pocket-gardens
URL:https://clflwd.org/event/gardening-planning-and-planting-pocket-gardens-winter-2026/
LOCATION:Normandy Park Education Center / Senior Center\, 2484 County Rd F East\, White Bear Lake\, Minnesota\, 55110
CATEGORIES:Workshops/Presentations
END:VEVENT
BEGIN:VEVENT
DTSTART;TZID=America/Chicago:20260316T180000
DTEND;TZID=America/Chicago:20260316T193000
DTSTAMP:20260422T171612
CREATED:20260210T214853Z
LAST-MODIFIED:20260210T214907Z
UID:14307-1773684000-1773689400@clflwd.org
SUMMARY:Watershed Connections: Climate-Resilient Trees for a Changing Landscape
DESCRIPTION:More frequent extreme weather events and the spread of invasive pests are intensifying the challenges caused by low plant diversity in managed landscapes. These pressures can lead to weaker ecosystems that are less able to adapt to environmental stress\, disease\, and climate change. The University of Minnesota Extension Horticulture promotes increasing plant diversity as a key strategy for creating healthier\, more resilient landscapes that can better withstand these growing threats. \nJoin Laura Irish-Hanson (MN Landscape Arboretum) to explore the factors that influence long-term landscape success\, including site conditions\, climate considerations\, and maintenance practices. You’ll learn practical plant selection criteria\, discover new and underused species that can expand your plant palette\, and gain tools for addressing common landscape challenges in a more sustainable and adaptable way. \nThis FREE workshop will be held at the Forest Lake Senior Community Center (767 4th St SW\, Forest Lake\, MN 55025) starting at 6:00 p.m. The workshop includes an hour presentation\, a box supper\, and time for open discussion after the presentation. \nPlease RSVP before Friday\, March 13th for this workshop\, so we have an accurate headcount for food and seating. To register\, please contact the CLFLWD at 651-395-5850 or by email. \nEvent Flyer\nOpen Meeting Notice
URL:https://clflwd.org/event/watershed-connections-climate-resilient-trees-for-a-changing-landscape/
LOCATION:Forest Lake Senior Community  Center\, 767 4th St SW\, Forest Lake\, MN\, 55025
CATEGORIES:Workshops/Presentations
END:VEVENT
BEGIN:VEVENT
DTSTART;TZID=America/Chicago:20260326T180000
DTEND;TZID=America/Chicago:20260326T190000
DTSTAMP:20260422T171612
CREATED:20251126T171034Z
LAST-MODIFIED:20251126T171034Z
UID:13929-1774548000-1774551600@clflwd.org
SUMMARY:Bee Houses Parent/Child Ages 5-10 - Winter 2026
DESCRIPTION:Come and join us to learn about bee basics and the importance of native bees. We will also be making bee houses to take home. Turn your crafty creativity into functional fun. More bees means more fruits\, veggies and flowers in your own backyard! Supplies and materials are provided\, just bring your creativity. \n\n\n\n\n\n\n\n\n\n\nhttps://forestlake.ce.eleyo.com/course/8445/winter-2026-jan-apr/bee-houses-parent-child-ages-5-10
URL:https://clflwd.org/event/bee-houses-parent-child-ages-5-10-winter-2026/
LOCATION:Normandy Park Education Center / Senior Center\, 2484 County Rd F East\, White Bear Lake\, Minnesota\, 55110
CATEGORIES:Workshops/Presentations
END:VEVENT
BEGIN:VEVENT
DTSTART;TZID=America/Chicago:20260330T180000
DTEND;TZID=America/Chicago:20260330T193000
DTSTAMP:20260422T171612
CREATED:20260128T152408Z
LAST-MODIFIED:20260212T184711Z
UID:14245-1774893600-1774899000@clflwd.org
SUMMARY:Bone Lake South Property Informational Meeting
DESCRIPTION:The Comfort Lake-Forest Lake Watershed District was awarded Lessard-Sams Outdoor Heritage and MNDNR Conservation Partnership funds to purchase 238-acres of property south of Bone Lake\, Scandia\, MN. These state grants provide funding for restoration\, protection\, and enhancement of wetlands\, prairies\, forests\, and habitat for fish\, game\, and wildlife.  The property is undeveloped with many wetland habitats\, remnant oak savanna\, and mature mixed northern hardwood species. \nOver the coming years\, the District will work to restore several of the high value wetland habitats\, convert agriculture fields to native prairie\, and establish over three miles of trails open to non-motorized access. Upon completion of restoration efforts\, the property will be open to the public for day-use recreation. \nJoin the District on March 30th\, 6:00 to 7:30 p.m. at Scandia Community Center (14727 209th Street North\, Scandia MN 55073) to learn more about the property\, the restoration plans\, and the overall timeline. \nPlease RSVP before Friday\, March 27th for this meeting\, so we have an accurate headcount for seating and materials. To register\, please contact the CLFLWD at 651-395-5850 or by email. \nInformational Meeting Flyer\nOpen Meeting Notice
URL:https://clflwd.org/event/bone-lake-south-property-informational-meeting/
LOCATION:Scandia Community Center\, 14727 209th St. N.\, Scandia\, MN\, 55073\, United States
CATEGORIES:Workshops/Presentations
END:VEVENT
END:VCALENDAR