BEGIN:VCALENDAR
VERSION:2.0
PRODID:-//Comfort Lake Forest Lake Watershed District - ECPv6.15.14//NONSGML v1.0//EN
CALSCALE:GREGORIAN
METHOD:PUBLISH
X-ORIGINAL-URL:https://clflwd.org
X-WR-CALDESC:Events for Comfort Lake Forest Lake Watershed District
REFRESH-INTERVAL;VALUE=DURATION:PT1H
X-Robots-Tag:noindex
X-PUBLISHED-TTL:PT1H
BEGIN:VTIMEZONE
TZID:America/Chicago
BEGIN:DAYLIGHT
TZOFFSETFROM:-0600
TZOFFSETTO:-0500
TZNAME:CDT
DTSTART:20240310T080000
END:DAYLIGHT
BEGIN:STANDARD
TZOFFSETFROM:-0500
TZOFFSETTO:-0600
TZNAME:CST
DTSTART:20241103T070000
END:STANDARD
BEGIN:DAYLIGHT
TZOFFSETFROM:-0600
TZOFFSETTO:-0500
TZNAME:CDT
DTSTART:20250309T080000
END:DAYLIGHT
BEGIN:STANDARD
TZOFFSETFROM:-0500
TZOFFSETTO:-0600
TZNAME:CST
DTSTART:20251102T070000
END:STANDARD
BEGIN:DAYLIGHT
TZOFFSETFROM:-0600
TZOFFSETTO:-0500
TZNAME:CDT
DTSTART:20260308T080000
END:DAYLIGHT
BEGIN:STANDARD
TZOFFSETFROM:-0500
TZOFFSETTO:-0600
TZNAME:CST
DTSTART:20261101T070000
END:STANDARD
END:VTIMEZONE
BEGIN:VEVENT
DTSTART;TZID=America/Chicago:20250909T183000
DTEND;TZID=America/Chicago:20250909T193000
DTSTAMP:20260423T012601
CREATED:20250821T143814Z
LAST-MODIFIED:20250821T143814Z
UID:13163-1757442600-1757446200@clflwd.org
SUMMARY:2025 Fall Lawn Care
DESCRIPTION:Lawn care can be expensive and puzzling. You will learn some simple tips and techniques that can help you get the best performance out of your yard while protecting area lakes and stream from pollutants and runoff. We will cover a wide variety of topics and answer your questions about watering\, fertilizing\, weed identification and so much more to make your lawn the best it can be. We will also discuss prepping your lawn for the cold winter months ahead\, so in the spring you have a yard that is the envy of the neighborhood. Participants will receive an informational folder full of great publications\, a native plant book\, and several door prizes will be given away from local plant specialists. \n\n\n\n\n\n\n\n\n\n\nhttps://isd2144.ce.eleyo.com/course/3098/fall-2025/fall-lawn-care
URL:https://clflwd.org/event/2025-fall-lawn-care/
LOCATION:Wildcat Community Center\, 29330 Olinda Trail\, Lindstrom\, MN\, 55045\, United States
CATEGORIES:Workshops/Presentations
END:VEVENT
BEGIN:VEVENT
DTSTART;TZID=America/Chicago:20250915T180000
DTEND;TZID=America/Chicago:20250915T190000
DTSTAMP:20260423T012601
CREATED:20250724T165033Z
LAST-MODIFIED:20250724T165135Z
UID:12957-1757959200-1757962800@clflwd.org
SUMMARY:Bugged Out Water Parent/Child Ages 5-10
DESCRIPTION:Is there anything more exciting than playing with bugs? We will be digging right in and seeing what kind of buggy neighbors are swimming around the lakes and streams. This is a very hands-on session full of creepy crawly fun that will leave you with a better appreciation of how important insects are as well as what they can tell us about the water. \nRegister here: https://forestlake.ce.eleyo.com/course/8273/fall-2025/bugged-out-water-parent-child-ages-5-10
URL:https://clflwd.org/event/bugged-out-water-parent-child-ages-5-10/
LOCATION:Forest Lake Area Schools Education Center\, 943 9th Ave SW\, Forest Lake\, MN\, 55025\, United States
CATEGORIES:Workshops/Presentations
END:VEVENT
BEGIN:VEVENT
DTSTART;TZID=America/Chicago:20250917T173000
DTEND;TZID=America/Chicago:20250917T190000
DTSTAMP:20260423T012601
CREATED:20250822T144910Z
LAST-MODIFIED:20250915T144654Z
UID:13195-1758130200-1758135600@clflwd.org
SUMMARY:CANCELLED: Tour of Moody Lake Capstone Projects
DESCRIPTION:This event has been cancelled.
URL:https://clflwd.org/event/pontoon-shoreline-tour-of-moody-lake/
LOCATION:Moody Lake Park\, 842H+9P Chisago City\, Minnesota\, MN
CATEGORIES:Workshops/Presentations
END:VEVENT
BEGIN:VEVENT
DTSTART;TZID=America/Chicago:20250922T150000
DTEND;TZID=America/Chicago:20250922T160000
DTSTAMP:20260423T012601
CREATED:20250507T154620Z
LAST-MODIFIED:20250507T154620Z
UID:12410-1758553200-1758556800@clflwd.org
SUMMARY:Hands on Seed Saving
DESCRIPTION:Looking to save some money and learn a new gardening skill? Seed saving is an easy and rewarding practice that will let you select varieties of plants that do best in your unique gardening situations. Come learn how to save seeds from your favorite plants and give them the best chance of germinating next spring. We will also go right outside the library and save some native plant seeds to take home. Participants will receive native plant books\, and several gift certificates from area nurseries will be given as door prizes. \nRegister at https://washcolib.libcal.com/event/14570008
URL:https://clflwd.org/event/hands-on-seed-saving/
LOCATION:Hardwood Creek Library\, 19955 Forest Rd N\, Forest Lake\, MN\, 55025\, United States
CATEGORIES:Workshops/Presentations
END:VEVENT
BEGIN:VEVENT
DTSTART;TZID=America/Chicago:20250924T140000
DTEND;TZID=America/Chicago:20250924T150000
DTSTAMP:20260423T012601
CREATED:20250912T143237Z
LAST-MODIFIED:20250912T143237Z
UID:13344-1758722400-1758726000@clflwd.org
SUMMARY:Create Your Own Lure
DESCRIPTION:Why do fish chase after one lure but ignore the next one? Do they see every color\, certain colors\, or none at all? We will be talking about and looking at a wide variety of gadgets and lures\, as well as giving you a chance to make your own to take home and try out in this class with the Comfort Forest Lake Watershed District at Hardwood Creek Library. \nThis class is for teens. \nAll the supplies and materials are provided\, just bring your creativity! \nhttps://washcolib.libcal.com/event/14969172
URL:https://clflwd.org/event/create-your-own-lure/
LOCATION:Hardwood Creek Library\, 19955 Forest Rd N\, Forest Lake\, MN\, 55025\, United States
CATEGORIES:Workshops/Presentations
END:VEVENT
END:VCALENDAR