BEGIN:VCALENDAR
VERSION:2.0
PRODID:-//Comfort Lake Forest Lake Watershed District - ECPv6.15.14//NONSGML v1.0//EN
CALSCALE:GREGORIAN
METHOD:PUBLISH
X-ORIGINAL-URL:https://clflwd.org
X-WR-CALDESC:Events for Comfort Lake Forest Lake Watershed District
REFRESH-INTERVAL;VALUE=DURATION:PT1H
X-Robots-Tag:noindex
X-PUBLISHED-TTL:PT1H
BEGIN:VTIMEZONE
TZID:America/Chicago
BEGIN:DAYLIGHT
TZOFFSETFROM:-0600
TZOFFSETTO:-0500
TZNAME:CDT
DTSTART:20220313T080000
END:DAYLIGHT
BEGIN:STANDARD
TZOFFSETFROM:-0500
TZOFFSETTO:-0600
TZNAME:CST
DTSTART:20221106T070000
END:STANDARD
BEGIN:DAYLIGHT
TZOFFSETFROM:-0600
TZOFFSETTO:-0500
TZNAME:CDT
DTSTART:20230312T080000
END:DAYLIGHT
BEGIN:STANDARD
TZOFFSETFROM:-0500
TZOFFSETTO:-0600
TZNAME:CST
DTSTART:20231105T070000
END:STANDARD
BEGIN:DAYLIGHT
TZOFFSETFROM:-0600
TZOFFSETTO:-0500
TZNAME:CDT
DTSTART:20240310T080000
END:DAYLIGHT
BEGIN:STANDARD
TZOFFSETFROM:-0500
TZOFFSETTO:-0600
TZNAME:CST
DTSTART:20241103T070000
END:STANDARD
END:VTIMEZONE
BEGIN:VEVENT
DTSTART;TZID=America/Chicago:20231108T163000
DTEND;TZID=America/Chicago:20231108T180000
DTSTAMP:20260424T081133
CREATED:20240725T182651Z
LAST-MODIFIED:20240816T195809Z
UID:7105-1699461000-1699466400@clflwd.org
SUMMARY:Open House
DESCRIPTION:The Comfort Lake–Forest Lake Watershed District (CLFLWD) is hosting an open house on Wednesday\, November 8\, 2023\, from 4:30pm – 6:00pm. The open house will be held at the CLFLWD offices at 44 Lake St. South\, Suite A\, Forest Lake\, MN. This is a “drop-in” event\, and no registration is necessary. \nMembers of the public are invited and encouraged to attend the open house to learn about CLFLWD programs and projects to protect and improve the region’s lakes and rivers. District staff and engineers will be available to answer questions. Key topics include: upcoming projects to improve water quality in Moody Lake\, the Washington Judicial Ditch 6 Wetland Enhancement Project\, shoreline protection and restoration efforts\, the District’s grants and Legacy Payment programs\, and office planning efforts. \nOpen Meeting Notice \nProject Webpages \nProject Slideshow
URL:https://clflwd.org/event/open-house/
LOCATION:MN
CATEGORIES:Workshops/Presentations
END:VEVENT
END:VCALENDAR