BEGIN:VCALENDAR
VERSION:2.0
PRODID:-//Comfort Lake Forest Lake Watershed District - ECPv6.15.14//NONSGML v1.0//EN
CALSCALE:GREGORIAN
METHOD:PUBLISH
X-WR-CALNAME:Comfort Lake Forest Lake Watershed District
X-ORIGINAL-URL:https://clflwd.org
X-WR-CALDESC:Events for Comfort Lake Forest Lake Watershed District
REFRESH-INTERVAL;VALUE=DURATION:PT1H
X-Robots-Tag:noindex
X-PUBLISHED-TTL:PT1H
BEGIN:VTIMEZONE
TZID:America/Chicago
BEGIN:DAYLIGHT
TZOFFSETFROM:-0600
TZOFFSETTO:-0500
TZNAME:CDT
DTSTART:20250309T080000
END:DAYLIGHT
BEGIN:STANDARD
TZOFFSETFROM:-0500
TZOFFSETTO:-0600
TZNAME:CST
DTSTART:20251102T070000
END:STANDARD
BEGIN:DAYLIGHT
TZOFFSETFROM:-0600
TZOFFSETTO:-0500
TZNAME:CDT
DTSTART:20260308T080000
END:DAYLIGHT
BEGIN:STANDARD
TZOFFSETFROM:-0500
TZOFFSETTO:-0600
TZNAME:CST
DTSTART:20261101T070000
END:STANDARD
BEGIN:DAYLIGHT
TZOFFSETFROM:-0600
TZOFFSETTO:-0500
TZNAME:CDT
DTSTART:20270314T080000
END:DAYLIGHT
BEGIN:STANDARD
TZOFFSETFROM:-0500
TZOFFSETTO:-0600
TZNAME:CST
DTSTART:20271107T070000
END:STANDARD
END:VTIMEZONE
BEGIN:VEVENT
DTSTART;TZID=America/Chicago:20260514T183000
DTEND;TZID=America/Chicago:20260514T203000
DTSTAMP:20260423T162252
CREATED:20251114T152733Z
LAST-MODIFIED:20251114T152733Z
UID:13783-1778783400-1778790600@clflwd.org
SUMMARY:05/14/26 Regular Board Meeting
DESCRIPTION:Remote Attendance Instructions:\nClick here to join the zoom meeting online or dial by phone: 301-715-8592. Meeting ID: \nMeeting Notice & Agenda\nFull agenda and board packet items will be posted on this page no later than the Monday immediately preceding the meeting.
URL:https://clflwd.org/event/05-14-26-regular-board-meeting/
LOCATION:MN
CATEGORIES:Regular Meeting
END:VEVENT
BEGIN:VEVENT
DTSTART;TZID=America/Chicago:20260519T170000
DTEND;TZID=America/Chicago:20260519T180000
DTSTAMP:20260423T162252
CREATED:20251114T152828Z
LAST-MODIFIED:20260223T155802Z
UID:13785-1779210000-1779213600@clflwd.org
SUMMARY:05/19/26 CAC Meeting
DESCRIPTION:
URL:https://clflwd.org/event/05-19-26-cac-meeting/
LOCATION:MN
CATEGORIES:CAC Meeting
END:VEVENT
BEGIN:VEVENT
DTSTART;VALUE=DATE:20260525
DTEND;VALUE=DATE:20260526
DTSTAMP:20260423T162252
CREATED:20251114T152927Z
LAST-MODIFIED:20251114T152927Z
UID:13788-1779667200-1779753599@clflwd.org
SUMMARY:Office Holiday – Memorial Day 2026
DESCRIPTION:The Comfort Lake-Forest Lake Watershed District office will be closed to observe this holiday.
URL:https://clflwd.org/event/office-holiday-memorial-day-2026/
LOCATION:MN
END:VEVENT
BEGIN:VEVENT
DTSTART;TZID=America/Chicago:20260528T080000
DTEND;TZID=America/Chicago:20260528T170000
DTSTAMP:20260423T162252
CREATED:20251114T153009Z
LAST-MODIFIED:20251223T144437Z
UID:13790-1779955200-1779987600@clflwd.org
SUMMARY:05/28/26 Regular Board Meeting
DESCRIPTION:Remote Attendance Instructions:\nClick here to join the zoom meeting online or dial by phone: 301-715-8592. Meeting ID: \nMeeting Notice & Agenda\nFull agenda and board packet items will be posted on this page no later than the Monday immediately preceding the meeting.
URL:https://clflwd.org/event/05-28-26-regular-board-meeting/
LOCATION:MN
CATEGORIES:Regular Meeting
END:VEVENT
END:VCALENDAR