BEGIN:VCALENDAR
VERSION:2.0
PRODID:-//Comfort Lake Forest Lake Watershed District - ECPv6.15.14//NONSGML v1.0//EN
CALSCALE:GREGORIAN
METHOD:PUBLISH
X-ORIGINAL-URL:https://clflwd.org
X-WR-CALDESC:Events for Comfort Lake Forest Lake Watershed District
REFRESH-INTERVAL;VALUE=DURATION:PT1H
X-Robots-Tag:noindex
X-PUBLISHED-TTL:PT1H
BEGIN:VTIMEZONE
TZID:America/Chicago
BEGIN:DAYLIGHT
TZOFFSETFROM:-0600
TZOFFSETTO:-0500
TZNAME:CDT
DTSTART:20250309T080000
END:DAYLIGHT
BEGIN:STANDARD
TZOFFSETFROM:-0500
TZOFFSETTO:-0600
TZNAME:CST
DTSTART:20251102T070000
END:STANDARD
BEGIN:DAYLIGHT
TZOFFSETFROM:-0600
TZOFFSETTO:-0500
TZNAME:CDT
DTSTART:20260308T080000
END:DAYLIGHT
BEGIN:STANDARD
TZOFFSETFROM:-0500
TZOFFSETTO:-0600
TZNAME:CST
DTSTART:20261101T070000
END:STANDARD
BEGIN:DAYLIGHT
TZOFFSETFROM:-0600
TZOFFSETTO:-0500
TZNAME:CDT
DTSTART:20270314T080000
END:DAYLIGHT
BEGIN:STANDARD
TZOFFSETFROM:-0500
TZOFFSETTO:-0600
TZNAME:CST
DTSTART:20271107T070000
END:STANDARD
END:VTIMEZONE
BEGIN:VEVENT
DTSTART;TZID=America/Chicago:20260205T063000
DTEND;TZID=America/Chicago:20260205T193000
DTSTAMP:20260423T175831
CREATED:20251126T172135Z
LAST-MODIFIED:20251126T172135Z
UID:13933-1770273000-1770319800@clflwd.org
SUMMARY:Gardening - Living Fence Lines - Winter 2026
DESCRIPTION:Natural fences constructed of shrubbery\, tall flowers and clumping grasses are attractive and environmentally friendly. These living fences add an eye-catching way to define your property boundaries\, while also adding pollinator plants that serve as effective privacy screens. Good fences make for good neighbors….and good habitat! You will receive an informational folder full of great publications\, a native plant book and several door prizes will be given away from local plant specialists. \n\n\n\n\n\n\n\n\n\n\nhttps://forestlake.ce.eleyo.com/course/8538/winter-2026-jan-apr/gardening-living-fence-lines
URL:https://clflwd.org/event/gardening-living-fence-lines-winter-2026/
LOCATION:Forest Lake Area Schools Education Center\, 943 9th Ave SW\, Forest Lake\, MN\, 55025\, United States
CATEGORIES:Workshops/Presentations
END:VEVENT
BEGIN:VEVENT
DTSTART;TZID=America/Chicago:20260209T180000
DTEND;TZID=America/Chicago:20260209T193000
DTSTAMP:20260423T175831
CREATED:20260128T153515Z
LAST-MODIFIED:20260128T153515Z
UID:14247-1770660000-1770665400@clflwd.org
SUMMARY:Watershed Connections: Addressing PFAS Pollution in Minnesota
DESCRIPTION:In 2021\, several Minnesota state agencies came together to publish the PFAS Blueprint\, which identified potential paths forward to prevent\, mitigate\, and clean up PFAS pollution across Minnesota. This presentation covers the progress made in the almost five years since publication\, with special attention to work done to understand PFAS in water. \nFawkes currently serves as the Agency PFAS Coordinator at the Minnesota Pollution Control Agency (MPCA). In this role\, Fawkes coordinates and collaborates with staff and leadership across the MPCA and at other state agencies\, and acts as liaison with other states\, federal partners\, and a variety of stakeholders to advance the goals identified under Minnesota’s PFAS Blueprint. Fawkes’ expertise ranges from media-specific technical issues to big-picture policy considerations. \nThis FREE workshop will be held at the Forest Lake Senior Community Center (767 4th St SW\, Forest Lake\, MN 55025) starting at 6:00 p.m. The workshop includes an hour presentation\, a box supper\, and time for open discussion after the presentation. \nPlease RSVP before Friday\, February 6th for this workshop\, so we have an accurate headcount for food and seating. To register\, please contact the CLFLWD at 651-395-5850 or by email. \nEvent Flyer\nOpen Meeting Notice
URL:https://clflwd.org/event/watershed-connections-addressing-pfas-pollution-in-minnesota/
LOCATION:Forest Lake Senior Community  Center\, 767 4th St SW\, Forest Lake\, MN\, 55025
CATEGORIES:Workshops/Presentations
END:VEVENT
BEGIN:VEVENT
DTSTART;TZID=America/Chicago:20260211T183000
DTEND;TZID=America/Chicago:20260211T200000
DTSTAMP:20260423T175831
CREATED:20251126T170148Z
LAST-MODIFIED:20251126T170148Z
UID:13917-1770834600-1770840000@clflwd.org
SUMMARY:Butterfly Bombs - Winter 2026
DESCRIPTION:Join Adam\, Education and Outreach Coordinator from CLFLWD\, to learn about the magical and mystical journey of the monarch butterfly. We will follow the migration and incredible journey of these insects. We will also be making butterfly bombs to help increase the population of their favorite and necessary foods…milkweeds! All supplies and materials are provided\, just bring your creativity. Registration deadline is Tues\, Feb 10. \nhttps://forestlake.ce.eleyo.com/course/8575/winter-2026-jan-apr/butterfly-bombs%E2%80%941
URL:https://clflwd.org/event/butterfly-bombs-winter-2026/
LOCATION:Forest Lake Area Schools Education Center\, 943 9th Ave SW\, Forest Lake\, MN\, 55025\, United States
CATEGORIES:Workshops/Presentations
END:VEVENT
BEGIN:VEVENT
DTSTART;TZID=America/Chicago:20260212T183000
DTEND;TZID=America/Chicago:20260212T203000
DTSTAMP:20260423T175831
CREATED:20251114T143259Z
LAST-MODIFIED:20260212T190653Z
UID:13759-1770921000-1770928200@clflwd.org
SUMMARY:02/12/26 Regular Board Meeting
DESCRIPTION:Remote Attendance Instructions:\nClick here to join the zoom meeting online or dial by phone: 301-715-8592. Meeting ID: 893 3429 7570 \nMeeting Notice & Agenda\n\nCall to Order of Regular Meeting\nSetting of Meeting Agenda\nNew Business\n\na) 2026-2028 Forest Lake Cooperative Aquatic Invasive Species Agreement\n\n\nOld Business\n\na) 2025 Blue Water Science Reports\nb) 2025 Education & Outreach Yearend Report\nc) 2026 Education & Outreach Implementation Plan\nd) 2026 Education & Outreach Events\ne) 2026 Rule Revision\nf) Clean Water Partnership Loan E\n\n\nProgram/Project Update\n\na) Project Update\n\n\nReport of Officers and Managers\nSummary and Approval of Board Direction\nAdjourn\n\na) Next regular board meeting – February 26\, 2026\, 6:30 pm
URL:https://clflwd.org/event/02-12-26-regular-board-meeting/
LOCATION:MN
CATEGORIES:Regular Meeting
END:VEVENT
BEGIN:VEVENT
DTSTART;VALUE=DATE:20260216
DTEND;VALUE=DATE:20260217
DTSTAMP:20260423T175831
CREATED:20251114T143349Z
LAST-MODIFIED:20251114T143349Z
UID:13761-1771200000-1771286399@clflwd.org
SUMMARY:Office Holiday – Presidents' Day 2026
DESCRIPTION:The Comfort Lake-Forest Lake Watershed District office will be closed to observe this holiday.
URL:https://clflwd.org/event/office-holiday-presidents-day-2026/
LOCATION:MN
END:VEVENT
BEGIN:VEVENT
DTSTART;TZID=America/Chicago:20260217T170000
DTEND;TZID=America/Chicago:20260217T180000
DTSTAMP:20260423T175831
CREATED:20251114T143517Z
LAST-MODIFIED:20260223T155937Z
UID:13763-1771347600-1771351200@clflwd.org
SUMMARY:02/17/26 CAC Meeting
DESCRIPTION:
URL:https://clflwd.org/event/02-17-26-cac-meeting/
LOCATION:MN
CATEGORIES:CAC Meeting
END:VEVENT
BEGIN:VEVENT
DTSTART;TZID=America/Chicago:20260223T183000
DTEND;TZID=America/Chicago:20260223T193000
DTSTAMP:20260423T175831
CREATED:20251218T202929Z
LAST-MODIFIED:20251218T202937Z
UID:14042-1771871400-1771875000@clflwd.org
SUMMARY:Hands on Butterfly Garden Design - Winter 2026
DESCRIPTION:If you’d like to attract more butterflies to your yard\, consider adding native plants\, shrubs\, and trees that help support their diverse nutritional needs. Native plants generally require less maintenance on your part and provide \nfood and shelter for local wildlife. We will go through several host plants that will attract specific pollinators. Participants will receive an informational folder full of great publications\, a native plant book\, and several door prizes will be given away from local plant specialists. \nhttps://isd2144.ce.eleyo.com/course/3241/winter-2026/hands-on-butterfly-garden-design
URL:https://clflwd.org/event/hands-on-butterfly-garden-design-winter-2026/
LOCATION:Chisago Lakes High School\, 29400 Olinda Trail\, Lindstrom\, MN\, United States
CATEGORIES:Workshops/Presentations
END:VEVENT
BEGIN:VEVENT
DTSTART;TZID=America/Chicago:20260226T180000
DTEND;TZID=America/Chicago:20260226T190000
DTSTAMP:20260423T175831
CREATED:20251126T170321Z
LAST-MODIFIED:20251126T170321Z
UID:13919-1772128800-1772132400@clflwd.org
SUMMARY:Butterfly Bombs Parent/Child Ages 5-10 - Winter 2026
DESCRIPTION:Join us to learn about the magical and mystical journey of the monarch butterfly. We will follow the migration and incredible journey of these insects. We will also be making butterfly bombs to help increase the population of their favorite and necessary foods…milkweeds! All supplies and materials are provided\, just bring your creativity. \n\n\n\n\n\n\n\n\n\n\nhttps://forestlake.ce.eleyo.com/course/8444/winter-2026-jan-apr/butterfly-bombs-parent-child-ages-5-10
URL:https://clflwd.org/event/butterfly-bombs-parent-child-ages-5-10-winter-2026/
LOCATION:Normandy Park Education Center / Senior Center\, 2484 County Rd F East\, White Bear Lake\, Minnesota\, 55110
CATEGORIES:Workshops/Presentations
END:VEVENT
BEGIN:VEVENT
DTSTART;TZID=America/Chicago:20260226T183000
DTEND;TZID=America/Chicago:20260226T203000
DTSTAMP:20260423T175831
CREATED:20251114T143638Z
LAST-MODIFIED:20260224T185718Z
UID:13766-1772130600-1772137800@clflwd.org
SUMMARY:02/26/26 Regular Board Meeting
DESCRIPTION:Remote Attendance Instructions:\nClick here to join the zoom meeting online or dial by phone: 301-715-8592. Meeting ID: 894 3964 8866 \nMeeting Notice & Agenda\n\nCall to Order of Regular Meeting\nSetting of Meeting Agenda\nConsent Agenda: The consent agenda is considered as one item of business. It consists of routine administrative items or items not requiring discussion. Items can be removed from the consent agenda at the request of the Board member\, staff member\, or a member of the audience. Please state which item or items you wish to remove for separate discussion.\n\na) January 8\, 2026 Regular Board Meeting Minutes\nb) January 22\, 2026 Regular Board Meeting Minutes\n\nCLFLWD YouTube Channel (for watching past meetings)\n\n\n\n\nPublic Open Forum\nAdvisory Committee Updates\nNew Business\n\na) 2026 Aquatic Invasive Species Treatment Service Contract\nb) 2026 Chisago County Watercraft Inspection Joint Powers Agreement\nc) Operations & Maintenance Program Update\n\nYouTube Presentation\n\n\nd) Minnesota Watersheds Legislative Event 2026\n\nEvent Packet\n\n\n\n\nOld Business\n\na) Water Management Districts\n\n\nReport of Staff\n\na) Administrator\nb) Emmons and Olivier Resources\nc) Smith Partners\n\n\nReport of Treasurer and Approval of Bills\nReport of Officers and Managers\nSummary and Approval of Board Direction\n Adjourn\n\na) Next regular board meeting – March 12\, 2026\, 6:30 pm
URL:https://clflwd.org/event/02-26-26-regular-board-meeting/
LOCATION:MN
CATEGORIES:Regular Meeting
END:VEVENT
END:VCALENDAR