BEGIN:VCALENDAR
VERSION:2.0
PRODID:-//Comfort Lake Forest Lake Watershed District - ECPv6.15.14//NONSGML v1.0//EN
CALSCALE:GREGORIAN
METHOD:PUBLISH
X-WR-CALNAME:Comfort Lake Forest Lake Watershed District
X-ORIGINAL-URL:https://clflwd.org
X-WR-CALDESC:Events for Comfort Lake Forest Lake Watershed District
REFRESH-INTERVAL;VALUE=DURATION:PT1H
X-Robots-Tag:noindex
X-PUBLISHED-TTL:PT1H
BEGIN:VTIMEZONE
TZID:America/Chicago
BEGIN:DAYLIGHT
TZOFFSETFROM:-0600
TZOFFSETTO:-0500
TZNAME:CDT
DTSTART:20240310T080000
END:DAYLIGHT
BEGIN:STANDARD
TZOFFSETFROM:-0500
TZOFFSETTO:-0600
TZNAME:CST
DTSTART:20241103T070000
END:STANDARD
BEGIN:DAYLIGHT
TZOFFSETFROM:-0600
TZOFFSETTO:-0500
TZNAME:CDT
DTSTART:20250309T080000
END:DAYLIGHT
BEGIN:STANDARD
TZOFFSETFROM:-0500
TZOFFSETTO:-0600
TZNAME:CST
DTSTART:20251102T070000
END:STANDARD
BEGIN:DAYLIGHT
TZOFFSETFROM:-0600
TZOFFSETTO:-0500
TZNAME:CDT
DTSTART:20260308T080000
END:DAYLIGHT
BEGIN:STANDARD
TZOFFSETFROM:-0500
TZOFFSETTO:-0600
TZNAME:CST
DTSTART:20261101T070000
END:STANDARD
END:VTIMEZONE
BEGIN:VEVENT
DTSTART;VALUE=DATE:20251203
DTEND;VALUE=DATE:20251206
DTSTAMP:20260423T204701
CREATED:20251016T175537Z
LAST-MODIFIED:20251117T181212Z
UID:13563-1764720000-1764979199@clflwd.org
SUMMARY:MN Watersheds Annual Conference 2025
DESCRIPTION:A quorum of the Comfort Lake-Forest Lake Watershed District Board of Managers may attend the Minnesota Watersheds Annual Conference in Nisswa\, MN. \nOpen Meeting Notice
URL:https://clflwd.org/event/mn-watersheds-annual-conference-2025/
LOCATION:Grand View Lodge\, 23521 Nokomis Ave\, Nisswa\, MN\, 56468\, United States
CATEGORIES:Special Meeting
END:VEVENT
BEGIN:VEVENT
DTSTART;TZID=America/Chicago:20251204T173000
DTEND;TZID=America/Chicago:20251204T183000
DTSTAMP:20260423T204701
CREATED:20250821T143925Z
LAST-MODIFIED:20250828T183713Z
UID:13165-1764869400-1764873000@clflwd.org
SUMMARY:Build Your Own Lures
DESCRIPTION:Get ready for a fun\, family-friendly adventure! Kids\, bring an adult along for the ride! \nWhy do fish chase after one lure but ignore the next one? Do they see every color\, certain colors\, or none at all? We will be talking about and looking at a wide variety of gadgets and lures\, as well as giving you a chance to make your own to take home and try out. All the supplies and materials are provided\, just bring your creativity. \nhttps://isd2144.ce.eleyo.com/course/3100/fall-2025/build-your-own-lures
URL:https://clflwd.org/event/build-your-own-lures-fall-2025/
LOCATION:Wildcat Community Center\, 29330 Olinda Trail\, Lindstrom\, MN\, 55045\, United States
CATEGORIES:Workshops/Presentations
END:VEVENT
BEGIN:VEVENT
DTSTART;TZID=America/Chicago:20251215T180000
DTEND;TZID=America/Chicago:20251215T190000
DTSTAMP:20260423T204701
CREATED:20250724T170236Z
LAST-MODIFIED:20250828T183654Z
UID:12975-1765821600-1765825200@clflwd.org
SUMMARY:Butterfly Bombs
DESCRIPTION:Join us to learn about the magical and mystical journey of the monarch butterfly. We will follow the migration and incredible journey of these insects. We will also be making butterfly bombs to help increase the population of their favorite and necessary foods…milkweeds! All supplies and materials are provided\, just bring your creativity. \n\n\n\n\n\n\n\n\n\n\nhttps://forestlake.ce.eleyo.com/course/8272/fall-2025/butterfly-bombs-parent-child-ages-5-10
URL:https://clflwd.org/event/butterfly-bombs-parent-child-ages-5-10/
LOCATION:Forest Lake Area Schools Education Center\, 943 9th Ave SW\, Forest Lake\, MN\, 55025\, United States
CATEGORIES:Workshops/Presentations
END:VEVENT
BEGIN:VEVENT
DTSTART;TZID=America/Chicago:20251216T170000
DTEND;TZID=America/Chicago:20251216T180000
DTSTAMP:20260423T204701
CREATED:20250407T191531Z
LAST-MODIFIED:20250407T191531Z
UID:12014-1765904400-1765908000@clflwd.org
SUMMARY:12/16/25 CAC Meeting
DESCRIPTION:
URL:https://clflwd.org/event/12-16-25-cac-meeting/
LOCATION:MN
CATEGORIES:CAC Meeting
END:VEVENT
BEGIN:VEVENT
DTSTART;TZID=America/Chicago:20251218T183000
DTEND;TZID=America/Chicago:20251218T203000
DTSTAMP:20260423T204701
CREATED:20241127T204203Z
LAST-MODIFIED:20251217T214012Z
UID:10798-1766082600-1766089800@clflwd.org
SUMMARY:12/18/25 Regular Board Meeting
DESCRIPTION:Remote Attendance Instructions:\nClick here to join the zoom meeting online or dial by phone: 301-715-8592. Meeting ID: 813 2067 5126 \nMeeting Notice & Agenda\n\nCall to Order of Regular Meeting\nSetting of Meeting Agenda\nConsent Agenda: The consent agenda is considered as one item of business. It consists of routine administrative items or items not requiring discussion. Items can be removed from the consent agenda at the request of the Board member\, staff member\, or a member of the audience. Please state which item or items you wish to remove for separate discussion.\n\na) Special Board Meeting Minutes – November 6\, 2025\nb) Regular Board Meeting Minutes – November 20\, 2025\n\nCLFLWD YouTube Channel (for watching past meetings)\n\n\n\n\nPublic Comment Opportunity on 2026 Budget & Levy\nPublic Open Forum\nAdvisory Committee Updates\nNew Business\n\na) 2025 Blue Water Science Yearend Reports\nb) 2025 Aquatic Invasive Species Report\n\nYouTube Yearend Summary Video\n\n\nc) 2025 Watercraft Inspection Report\n\nYouTube Yearend Summary Video\n\n\nd) 2025 Yearend Accounting & Reimbursement Requests\n\n\nOld Business\n\na) Revision to Rule 9.0\nb) 2026 Budget & Levy\nc) Forest Lake Alum Treatment Project Closeout\nd) Governance Manual Update\ne) 2026 Staff Work Plan\nf) 5-Year Program & Project Plan\ng) 2025 Education & Outreach Yearend Report\n\nYouTube Yearend Summary Video\n\n\nh) 2026 Education & Outreach Implementation Plan\n\n\nReport of Staff\n\na) Administrator\n\nProgram Update – Lower St. Croix Watershed Partnership\n\nYouTube Video\n\n\nProject Update\n\n\nb) Emmons and Olivier Resources\nc) Smith Partners\n\n\nReport of Treasurer and Approval of Bills\nReport of Officers and Managers\nSummary and Approval of Board Direction\n Adjourn\n\na) Next regular board meeting – January 8\, 2026\, 6:30 pm
URL:https://clflwd.org/event/12-18-25-regular-board-meeting/
LOCATION:MN
CATEGORIES:Regular Meeting
END:VEVENT
BEGIN:VEVENT
DTSTART;VALUE=DATE:20251224
DTEND;VALUE=DATE:20251225
DTSTAMP:20260423T204701
CREATED:20241127T205316Z
LAST-MODIFIED:20241127T205328Z
UID:10827-1766534400-1766620799@clflwd.org
SUMMARY:Office Holiday - Christmas Eve 2025
DESCRIPTION:The Comfort Lake-Forest Lake Watershed District office will be closed to observe this holiday.
URL:https://clflwd.org/event/office-holiday-christmas-eve-2025/
LOCATION:MN
END:VEVENT
BEGIN:VEVENT
DTSTART;VALUE=DATE:20251225
DTEND;VALUE=DATE:20251226
DTSTAMP:20260423T204701
CREATED:20241127T205405Z
LAST-MODIFIED:20241127T205405Z
UID:10833-1766620800-1766707199@clflwd.org
SUMMARY:Office Holiday - Christmas 2025
DESCRIPTION:The Comfort Lake-Forest Lake Watershed District office will be closed to observe this holiday.
URL:https://clflwd.org/event/office-holiday-christmas-2025/
LOCATION:MN
END:VEVENT
END:VCALENDAR