BEGIN:VCALENDAR
VERSION:2.0
PRODID:-//Comfort Lake Forest Lake Watershed District - ECPv6.15.14//NONSGML v1.0//EN
CALSCALE:GREGORIAN
METHOD:PUBLISH
X-WR-CALNAME:Comfort Lake Forest Lake Watershed District
X-ORIGINAL-URL:https://clflwd.org
X-WR-CALDESC:Events for Comfort Lake Forest Lake Watershed District
REFRESH-INTERVAL;VALUE=DURATION:PT1H
X-Robots-Tag:noindex
X-PUBLISHED-TTL:PT1H
BEGIN:VTIMEZONE
TZID:America/Chicago
BEGIN:DAYLIGHT
TZOFFSETFROM:-0600
TZOFFSETTO:-0500
TZNAME:CDT
DTSTART:20240310T080000
END:DAYLIGHT
BEGIN:STANDARD
TZOFFSETFROM:-0500
TZOFFSETTO:-0600
TZNAME:CST
DTSTART:20241103T070000
END:STANDARD
BEGIN:DAYLIGHT
TZOFFSETFROM:-0600
TZOFFSETTO:-0500
TZNAME:CDT
DTSTART:20250309T080000
END:DAYLIGHT
BEGIN:STANDARD
TZOFFSETFROM:-0500
TZOFFSETTO:-0600
TZNAME:CST
DTSTART:20251102T070000
END:STANDARD
BEGIN:DAYLIGHT
TZOFFSETFROM:-0600
TZOFFSETTO:-0500
TZNAME:CDT
DTSTART:20260308T080000
END:DAYLIGHT
BEGIN:STANDARD
TZOFFSETFROM:-0500
TZOFFSETTO:-0600
TZNAME:CST
DTSTART:20261101T070000
END:STANDARD
END:VTIMEZONE
BEGIN:VEVENT
DTSTART;TZID=America/Chicago:20251106T173000
DTEND;TZID=America/Chicago:20251106T193000
DTSTAMP:20260423T221642
CREATED:20251031T140543Z
LAST-MODIFIED:20251104T152216Z
UID:13653-1762450200-1762457400@clflwd.org
SUMMARY:11/06/25 Special Board Meeting
DESCRIPTION:Remote Attendance Instructions:\nClick here to join the zoom meeting online or dial by phone: 301-715-8592. Meeting ID: 841 9359 9576 \nMeeting Notice & Agenda\n\nCall to Order of Special Meeting\nMinnesota Watersheds Annual Conference and Delegates\nBudget Workshop\n\na) Memo\nb) Budget Changes Summary\nc) Budget Scenarios Comparison Table\nd) Budget Projection Option 1 (23.7% levy increase in 2026)\ne) Budget Projection Option 2 (15.6% levy increase in 2026)\nf) Budget Projection Option 3 (19.9% levy increase in 2026)\n\n\nAdjourn\n\na) Next regular board meeting – November 20\, 2025 6:30 pm
URL:https://clflwd.org/event/11-06-25-special-board-meeting/
LOCATION:MN
CATEGORIES:Special Meeting
END:VEVENT
BEGIN:VEVENT
DTSTART;TZID=America/Chicago:20251106T183000
DTEND;TZID=America/Chicago:20251106T193000
DTSTAMP:20260423T221642
CREATED:20250821T143721Z
LAST-MODIFIED:20250828T183853Z
UID:13161-1762453800-1762457400@clflwd.org
SUMMARY:Winter Perennial Prepping
DESCRIPTION:The joy of perennials is that they come back year after year…that is if they are prepared for the harsh MN winters. You can save money\, time\, and headaches by following a few easy steps as well as learn some tips and techniques by joining us for this great class. Participants will receive native plant books\, and several gift certificates from area nurseries and will be given as door prizes. \n\n\n\n\n\n\n\n\n\n\nhttps://isd2144.ce.eleyo.com/course/3097/fall-2025/winter-perennial-prepping
URL:https://clflwd.org/event/2025-winter-perennial-prepping/
LOCATION:Wildcat Community Center\, 29330 Olinda Trail\, Lindstrom\, MN\, 55045\, United States
CATEGORIES:Workshops/Presentations
END:VEVENT
BEGIN:VEVENT
DTSTART;VALUE=DATE:20251111
DTEND;VALUE=DATE:20251112
DTSTAMP:20260423T221642
CREATED:20241127T205136Z
LAST-MODIFIED:20241127T205452Z
UID:10818-1762819200-1762905599@clflwd.org
SUMMARY:Office Holiday - Veterans Day 2025
DESCRIPTION:The Comfort Lake-Forest Lake Watershed District office will be closed to observe this holiday.
URL:https://clflwd.org/event/office-holiday-veterans-day-2025/
LOCATION:MN
END:VEVENT
BEGIN:VEVENT
DTSTART;TZID=America/Chicago:20251113T183000
DTEND;TZID=America/Chicago:20251113T193000
DTSTAMP:20260423T221642
CREATED:20250724T170016Z
LAST-MODIFIED:20250724T170016Z
UID:12971-1763058600-1763062200@clflwd.org
SUMMARY:Managing and Minimizing Wildlife Damage
DESCRIPTION:Shrubs and trees can make a tasty snack for winter wildlife. We will chat about different strategies to keep the deer\, rabbits and other chewing critters at bay this winter. A few small steps and techniques can save you money and headaches. Participants will receive native plant books and several gift certificates from area nurseries will be given as door prizes. \n\n\n\n\n\n\n\n\n\n\nhttps://forestlake.ce.eleyo.com/course/8294/fall-2025/managing-and-minimizing-wildlife-damage
URL:https://clflwd.org/event/managing-and-minimizing-wildlife-damage/
LOCATION:Forest Lake Area Schools Education Center\, 943 9th Ave SW\, Forest Lake\, MN\, 55025\, United States
CATEGORIES:Workshops/Presentations
END:VEVENT
BEGIN:VEVENT
DTSTART;TZID=America/Chicago:20251117T180000
DTEND;TZID=America/Chicago:20251117T190000
DTSTAMP:20260423T221642
CREATED:20250724T170110Z
LAST-MODIFIED:20250724T170110Z
UID:12973-1763402400-1763406000@clflwd.org
SUMMARY:Bee Houses Parent/Child Ages 5-10
DESCRIPTION:Come and join us to learn about bee basics and the importance of native bees. We will also be making bee houses to take home. Turn your crafty creativity into functional fun. More bees means more fruits\, veggies and flowers in your own backyard! Supplies and materials are provided\, just bring your creativity. \n\n\n\n\n\n\n\n\n\n\nhttps://forestlake.ce.eleyo.com/course/8270/fall-2025/bee-houses-parent-child-ages-5-10
URL:https://clflwd.org/event/bee-houses-parent-child-ages-5-10/
LOCATION:Forest Lake Area Schools Education Center\, 943 9th Ave SW\, Forest Lake\, MN\, 55025\, United States
CATEGORIES:Workshops/Presentations
END:VEVENT
BEGIN:VEVENT
DTSTART;TZID=America/Chicago:20251118T170000
DTEND;TZID=America/Chicago:20251118T180000
DTSTAMP:20260423T221642
CREATED:20250407T191504Z
LAST-MODIFIED:20250407T191504Z
UID:12012-1763485200-1763488800@clflwd.org
SUMMARY:11/18/25 CAC Meeting
DESCRIPTION:
URL:https://clflwd.org/event/11-18-25-cac-meeting/
LOCATION:MN
CATEGORIES:CAC Meeting
END:VEVENT
BEGIN:VEVENT
DTSTART;TZID=America/Chicago:20251120T183000
DTEND;TZID=America/Chicago:20251120T193000
DTSTAMP:20260423T221642
CREATED:20250821T143600Z
LAST-MODIFIED:20250828T183907Z
UID:13159-1763663400-1763667000@clflwd.org
SUMMARY:Fall Septic System Care
DESCRIPTION:How does your individual septic system really work? How can you as a homeowner care for and protect your investment to maximize the life of the system? There are many simple things you can do to extend the life of your septic system while at the same time maximizing efficiency\, reducing expensive repairs\, and protecting water quality. Participants will receive an informational folder full of great publications. \n\n\n\n\n\n\n\n\n\n\nhttps://isd2144.ce.eleyo.com/course/3099/fall-2025/fall-septic-system-care
URL:https://clflwd.org/event/2025-fall-septic-system-care/
LOCATION:Wildcat Community Center\, 29330 Olinda Trail\, Lindstrom\, MN\, 55045\, United States
CATEGORIES:Workshops/Presentations
END:VEVENT
BEGIN:VEVENT
DTSTART;TZID=America/Chicago:20251120T183000
DTEND;TZID=America/Chicago:20251120T203000
DTSTAMP:20260423T221642
CREATED:20241127T204117Z
LAST-MODIFIED:20251120T161453Z
UID:10796-1763663400-1763670600@clflwd.org
SUMMARY:11/20/25 Regular Board Meeting
DESCRIPTION:Remote Attendance Instructions:\nClick here to join the zoom meeting online or dial by phone: 301-715-8592. Meeting ID: 878 2773 9160 \nMeeting Notice & Agenda\n\nCall to Order of Regular Meeting\nSetting of Meeting Agenda\nConsent Agenda: The consent agenda is considered as one item of business. It consists of routine administrative items or items not requiring discussion. Items can be removed from the consent agenda at the request of the Board member\, staff member\, or a member of the audience. Please state which item or items you wish to remove for separate discussion.\n\na) Regular Board Meeting Minutes – October 9\, 2025\nb) Regular Board Meeting Minutes – October 23\, 2025\nc) Resiliency Project Development Grant Applications\n\nCLFLWD YouTube Channel (for watching past meetings)\n\n\n\n\nPublic Hearing – Rule Change – 9.0\n\nPresentation\n\n\nPublic Open Forum\nAdvisory Committee Updates\nNew Business\n\na) WCD Service Agreement\nb) Chisago SWCD Service Agreement\nc) Moody Lake Ag Practices Budget Amendment\nd) MN Paid Leave\ne) 2026 Staff Work Plan\n\nPresentation\nYouTube Recording\n\n\nf) 5-Year Program & Project Plan\n\nPresentation\nYouTube Recording\n\n\n\n\nOld Business\n\na) MN Watersheds Annual Conference\n\nMN Watersheds Region 3 Caucus Packet\nEvent Program\n\n\nb) Alum Treatment Scope of Work\n\n\nReport of Staff\n\na) Administrator\n\nProgram Update – Interagency Communication\nProject Update\n\n\nb) Emmons and Olivier Resources\nc) Smith Partners\n\n\nReport of Treasurer and Approval of Bills\nReport of Officers and Managers\nSummary and Approval of Board Direction\n Adjourn\n\na) Next regular board meeting – December 18\, 2025\, 6:30 pm
URL:https://clflwd.org/event/11-20-25-regular-board-meeting/
LOCATION:MN
CATEGORIES:Regular Meeting
END:VEVENT
BEGIN:VEVENT
DTSTART;VALUE=DATE:20251127
DTEND;VALUE=DATE:20251128
DTSTAMP:20260423T221642
CREATED:20241127T205212Z
LAST-MODIFIED:20241127T205429Z
UID:10821-1764201600-1764287999@clflwd.org
SUMMARY:Office Holiday - Thanksgiving 2025
DESCRIPTION:The Comfort Lake-Forest Lake Watershed District office will be closed to observe this holiday.
URL:https://clflwd.org/event/office-holiday-thanksgiving-2025/
LOCATION:MN
END:VEVENT
BEGIN:VEVENT
DTSTART;VALUE=DATE:20251128
DTEND;VALUE=DATE:20251129
DTSTAMP:20260423T221642
CREATED:20241127T205247Z
LAST-MODIFIED:20241127T205247Z
UID:10824-1764288000-1764374399@clflwd.org
SUMMARY:Office Holiday - Day After Thanksgiving 2025
DESCRIPTION:The Comfort Lake-Forest Lake Watershed District office will be closed to observe this holiday.
URL:https://clflwd.org/event/office-holiday-day-after-thanksgiving-2025/
LOCATION:MN
END:VEVENT
END:VCALENDAR