BEGIN:VCALENDAR
VERSION:2.0
PRODID:-//Comfort Lake Forest Lake Watershed District - ECPv6.15.14//NONSGML v1.0//EN
CALSCALE:GREGORIAN
METHOD:PUBLISH
X-WR-CALNAME:Comfort Lake Forest Lake Watershed District
X-ORIGINAL-URL:https://clflwd.org
X-WR-CALDESC:Events for Comfort Lake Forest Lake Watershed District
REFRESH-INTERVAL;VALUE=DURATION:PT1H
X-Robots-Tag:noindex
X-PUBLISHED-TTL:PT1H
BEGIN:VTIMEZONE
TZID:America/Chicago
BEGIN:DAYLIGHT
TZOFFSETFROM:-0600
TZOFFSETTO:-0500
TZNAME:CDT
DTSTART:20240310T080000
END:DAYLIGHT
BEGIN:STANDARD
TZOFFSETFROM:-0500
TZOFFSETTO:-0600
TZNAME:CST
DTSTART:20241103T070000
END:STANDARD
BEGIN:DAYLIGHT
TZOFFSETFROM:-0600
TZOFFSETTO:-0500
TZNAME:CDT
DTSTART:20250309T080000
END:DAYLIGHT
BEGIN:STANDARD
TZOFFSETFROM:-0500
TZOFFSETTO:-0600
TZNAME:CST
DTSTART:20251102T070000
END:STANDARD
BEGIN:DAYLIGHT
TZOFFSETFROM:-0600
TZOFFSETTO:-0500
TZNAME:CDT
DTSTART:20260308T080000
END:DAYLIGHT
BEGIN:STANDARD
TZOFFSETFROM:-0500
TZOFFSETTO:-0600
TZNAME:CST
DTSTART:20261101T070000
END:STANDARD
END:VTIMEZONE
BEGIN:VEVENT
DTSTART;TZID=America/Chicago:20250506T180000
DTEND;TZID=America/Chicago:20250506T200000
DTSTAMP:20260424T060432
CREATED:20250430T142849Z
LAST-MODIFIED:20250501T192728Z
UID:12206-1746554400-1746561600@clflwd.org
SUMMARY:05/06/25 Special Board Meeting - Budget
DESCRIPTION:Remote Attendance Instructions:\nClick here to join the zoom meeting online or dial by phone: 301-715-8592. Meeting ID: 863 4219 4361 \nMeeting Notice & Agenda\n\nCall to Order of Special Meeting\nBudget Prioritization and Visioning Workshop\n\nMemo\nBudget Outline\n\n\n3. Adjourn\n\na) Next regular board meeting – May 8\, 2025 6:30 pm
URL:https://clflwd.org/event/05-06-25-special-board-meeting-budget/
LOCATION:MN
CATEGORIES:Special Meeting
END:VEVENT
BEGIN:VEVENT
DTSTART;TZID=America/Chicago:20250508T183000
DTEND;TZID=America/Chicago:20250508T203000
DTSTAMP:20260424T060432
CREATED:20241122T161243Z
LAST-MODIFIED:20250508T162851Z
UID:10677-1746729000-1746736200@clflwd.org
SUMMARY:05/08/25 Regular Board Meeting
DESCRIPTION:Remote Attendance Instructions:\nClick here to join the zoom meeting online or dial by phone: 301-715-8592. Meeting ID: 871 2321 0325 \nMeeting Notice & Agenda\nFull agenda and board packet items will be posted on this page no later than the Monday immediately preceding the meeting. \n\nCall to Order of Regular Meeting\nSetting of Meeting Agenda\nNew Business\n\na) Permit 24-013 Gaiovnik Subdivision\nb) Lessard-Sams Outdoor Heritage Fund Grant Applications\nc) Lower St. Croix Watershed Partnership 10-Year Plan Amendment\nd) Lower St. Croix Watershed Partnership Grant Work Plan Amendment\ne) Review of Governance Manual\nf) Wake Boat Control in Freshwater Lake\ng) Minnesota Watersheds Summer Tour\n\n\nOld Business\n\na) Program Signage\nb) State of the Watershed\n\n\nProgram/Project Update\n\na) Project Update\nb) Program Update – Education & Outreach\n\nYouTube Summary\n\n\n\n\nReport of Officers and Managers\nSummary and Approval of Board Direction\n Adjourn\n\na) Next regular board meeting – May 22\, 2025\, 6:30 pm
URL:https://clflwd.org/event/05-08-25-regular-board-meeting/
LOCATION:MN
CATEGORIES:Regular Meeting
END:VEVENT
BEGIN:VEVENT
DTSTART;TZID=America/Chicago:20250512T183000
DTEND;TZID=America/Chicago:20250512T193000
DTSTAMP:20260424T060432
CREATED:20250507T161711Z
LAST-MODIFIED:20250507T161711Z
UID:12423-1747074600-1747078200@clflwd.org
SUMMARY:Native Plants for Lousy Soil
DESCRIPTION:Do you have that patch of lousy soil where nothing seems to grow very well? There are plenty of tough MN native plants that will not only survive\, but thrive in sketchy soil conditions. We will chat about all aspects of those tricky soil sites to get plants and blooms started for seasons to come including free soil testing. Participants will receive an informational folder full of great publications\, a native plant book and several door prizes from local plant specialists will be given away. \n\n\n\n\n\n\n\n\n\n\n\n\nhttps://forestlake.ce.eleyo.com/course/8013/spr-sum-2025-apr-aug/native-plants-for-lousy-soil
URL:https://clflwd.org/event/native-plants-for-lousy-soil/
LOCATION:Forest Lake Area Schools Education Center\, 943 9th Ave SW\, Forest Lake\, MN\, 55025\, United States
CATEGORIES:Workshops/Presentations
END:VEVENT
BEGIN:VEVENT
DTSTART;TZID=America/Chicago:20250513T170000
DTEND;TZID=America/Chicago:20250513T180000
DTSTAMP:20260424T060432
CREATED:20250407T190929Z
LAST-MODIFIED:20250407T190929Z
UID:12000-1747155600-1747159200@clflwd.org
SUMMARY:05/13/25 CAC Meeting
DESCRIPTION:
URL:https://clflwd.org/event/05-13-25-cac-meeting/
LOCATION:MN
CATEGORIES:CAC Meeting
END:VEVENT
BEGIN:VEVENT
DTSTART;TZID=America/Chicago:20250513T183000
DTEND;TZID=America/Chicago:20250513T193000
DTSTAMP:20260424T060432
CREATED:20250508T140344Z
LAST-MODIFIED:20250508T142249Z
UID:12439-1747161000-1747164600@clflwd.org
SUMMARY:What’s going on at North Shore Circle Park?
DESCRIPTION:CLFLWD has partnered with the City of Forest Lake to restore the shoreline at North Shore Circle Park. A neighborhood meeting will be held at the park (7619 North Shore Circle N) Tuesday 5/13 from 6:30-7:30pm. Stop by to learn more about the restoration plans\, or contact Aidan For more information contact Aidan Read at  651.583.6590 or by email.
URL:https://clflwd.org/event/whats-going-on-at-north-shore-circle-park/
LOCATION:North Shore Circle Park\, 7619 North Shore Circle N\, Forest Lake\, MN\, 55025\, United States
CATEGORIES:Workshops/Presentations
END:VEVENT
BEGIN:VEVENT
DTSTART;TZID=America/Chicago:20250515T150000
DTEND;TZID=America/Chicago:20250515T160000
DTSTAMP:20260424T060432
CREATED:20250507T154022Z
LAST-MODIFIED:20250508T131426Z
UID:12402-1747321200-1747324800@clflwd.org
SUMMARY:Native Minnesota Fruit Trees
DESCRIPTION:Growing fruit trees and shrubs in Minnesota can be tricky with such a short growing season.  The answer to that dilemma: grow native fruit trees and shrubs! Learn about the hardy varieties that will flourish in our backyards\, sustaining both people and local wildlife. There are many more varieties than most people typically think\, and they can be commercially available too! Participants will receive an informational folder full of great publications\, and several door prize bare root trees will be given away. \nRegister at : https://washcolib.libcal.com/event/14557382
URL:https://clflwd.org/event/native-minnesota-fruit-trees/
LOCATION:Hardwood Creek Library\, 19955 Forest Rd N\, Forest Lake\, MN\, 55025\, United States
CATEGORIES:Workshops/Presentations
END:VEVENT
BEGIN:VEVENT
DTSTART;TZID=America/Chicago:20250515T183000
DTEND;TZID=America/Chicago:20250515T193000
DTSTAMP:20260424T060432
CREATED:20250507T161926Z
LAST-MODIFIED:20250507T161926Z
UID:12425-1747333800-1747337400@clflwd.org
SUMMARY:Improve Your Soils
DESCRIPTION:Healthy soil is important for growing strong\, resilient\, and tough plants that can handle our wacky MN growing conditions. Whether you are starting a new flower garden or trying to revitalize and old veggie patch\, we will cover it all. From soil testing to composting\, and so much more. Participants may request an informational folder\, native plant book\, and be entered into the prize drawing simply by emailing the instructor after class. \n\n\n\n\n\n\n\n\n\n\nhttps://isd2144.ce.eleyo.com/course/2894/summer-2025%E2%80%942/improve-your-soils
URL:https://clflwd.org/event/improve-your-soils/
LOCATION:Chisago Lakes High School\, 29400 Olinda Trail\, Lindstrom\, MN\, United States
CATEGORIES:Workshops/Presentations
END:VEVENT
BEGIN:VEVENT
DTSTART;TZID=America/Chicago:20250519T183000
DTEND;TZID=America/Chicago:20250519T193000
DTSTAMP:20260424T060432
CREATED:20250507T162029Z
LAST-MODIFIED:20250507T162029Z
UID:12427-1747679400-1747683000@clflwd.org
SUMMARY:Bloomers and Clumpers for Lousy Soils
DESCRIPTION:Do you have that patch of lousy soil where nothing seems to grow very well? There are plenty of tough MN native plants that will not only survive\, but thrive in sketchy soil conditions. We will chat about all aspects of those tricky soil sites to get plants and blooms started for season to come. Participants may request an informational folder\, native plant book\, and be entered into the prize drawing simply by emailing the instructor after class. \nhttps://isd2144.ce.eleyo.com/course/2895/summer-2025%E2%80%942/bloomers-and-clumpers-for-lousy-soils
URL:https://clflwd.org/event/bloomers-and-clumpers-for-lousy-soils/
LOCATION:Chisago Lakes High School\, 29400 Olinda Trail\, Lindstrom\, MN\, United States
CATEGORIES:Workshops/Presentations
END:VEVENT
BEGIN:VEVENT
DTSTART;TZID=America/Chicago:20250522T183000
DTEND;TZID=America/Chicago:20250522T203000
DTSTAMP:20260424T060432
CREATED:20241122T162156Z
LAST-MODIFIED:20250522T212624Z
UID:10682-1747938600-1747945800@clflwd.org
SUMMARY:05/22/25 Regular Board Meeting
DESCRIPTION:Remote Attendance Instructions:\nClick here to join the zoom meeting online or dial by phone: 301-715-8592. Meeting ID: 845 7092 9529 \nMeeting Notice & Agenda\n\nCall to Order of Regular Meeting\nSetting of Meeting Agenda\nConsent Agenda: The consent agenda is considered as one item of business. It consists of routine administrative items or items not requiring discussion. Items can be removed from the consent agenda at the request of the Board member\, staff member\, or a member of the audience. Please state which item or items you wish to remove for separate discussion.\n\na) Regular Board Meeting Minutes – April 10\, 2025\nb) Special Board Meeting Minutes – April 15\, 2025\nc) Regular Board Meeting Minutes – April 24\, 2025\nd) Special Board Meeting Minutes – April 29\, 2025\n\nCLFLWD YouTube Channel (for watching past meetings)\n\n\n\n\nPublic Open Forum*\n\n*If you would like to address the Board during the Public Open Forum\, you must attend the meeting in person at 44 Lake St S\, Suite A\, Forest Lake\, MN 55025.\n\n\nAdvisory Committee Updates\nNew Business\n\na) Permit 25-004 North Shore Trail\n\nEngineer’s Exhibit\n\n\nb) Impact of Federal Funding Cuts\n\n\nOld Business\n\na) Strategic Plan Formatting and Distribution\n\nStrategic Plan Spreadsheet\n\n\nb) Lake Impairment Delisting Requests\nc) Lower St. Croix Watershed Partnership 10-Year Plan Amendment\nd) Standard Project Signage\n\n\nReport of Staff\n\na) Administrator\nb) Emmons and Olivier Resources\nc) Smith Partners\n\n\nReport of Treasurer and Approval of Bills\nReport of Officers and Managers\nSummary and Approval of Board Direction\n Adjourn\n\na) Next special board meeting – June 5\, 2025\, 6:00 pm\nb) Next regular board meeting – June 12\, 2025\, 6:30 pm
URL:https://clflwd.org/event/05-22-25-regular-board-meeting/
LOCATION:MN
CATEGORIES:Regular Meeting
END:VEVENT
BEGIN:VEVENT
DTSTART;VALUE=DATE:20250526
DTEND;VALUE=DATE:20250527
DTSTAMP:20260424T060432
CREATED:20241127T204852Z
LAST-MODIFIED:20241127T205618Z
UID:10809-1748217600-1748303999@clflwd.org
SUMMARY:Office Holiday - Memorial Day 2025
DESCRIPTION:The Comfort Lake-Forest Lake Watershed District office will be closed to observe this holiday.
URL:https://clflwd.org/event/office-holiday-memorial-day-2025/
LOCATION:MN
END:VEVENT
BEGIN:VEVENT
DTSTART;TZID=America/Chicago:20250529T150000
DTEND;TZID=America/Chicago:20250529T160000
DTSTAMP:20260424T060432
CREATED:20250507T154155Z
LAST-MODIFIED:20250507T154155Z
UID:12404-1748530800-1748534400@clflwd.org
SUMMARY:Rain Barrels 101
DESCRIPTION:Rain barrels harvest rainwater from roofs and other structures that can then be used to water gardens\, lawns\, and potted plants. Installing a rain barrel is an excellent way to reduce run-off and pollution as well as save money! As much as 40 percent of residential water is used for irrigation in the summer. \nParticipants will learn the ins and outs of rain barrels\, site selection\, and other tips to use rain barrels most efficiently. We will also discuss the pros and cons of many commercially available rain barrels and how to make your own. \nParticipants will receive a free native plant book\, and there will be a drawing for two free rain barrels. \nRegister at https://washcolib.libcal.com/event/14569915
URL:https://clflwd.org/event/rain-barrels-101-3/
LOCATION:Hardwood Creek Library\, 19955 Forest Rd N\, Forest Lake\, MN\, 55025\, United States
CATEGORIES:Workshops/Presentations
END:VEVENT
BEGIN:VEVENT
DTSTART;TZID=America/Chicago:20250529T183000
DTEND;TZID=America/Chicago:20250529T193000
DTSTAMP:20260424T060432
CREATED:20250507T162443Z
LAST-MODIFIED:20250507T162443Z
UID:12435-1748543400-1748547000@clflwd.org
SUMMARY:Greening Up Hot Spots
DESCRIPTION:Do you have a hot garden spot that normally bakes and dries out with the summer sun? Are you tired of watering day after day to keep your garden healthy and growing? There is a wide variety of native prairie plants that thrive in the full sun and dry soils. Let’s look at some of these great growers to add to your gardens and landscaping. Participants may request an informational folder\, native plant book\, and be entered into the prize drawing simply by emailing the instructor after class. \n\n\n\n\n\n\n\n\n\n\nhttps://isd2144.ce.eleyo.com/course/2896/summer-2025%E2%80%942/greening-up-hot-spots
URL:https://clflwd.org/event/greening-up-hot-spots/
LOCATION:Chisago Lakes High School\, 29400 Olinda Trail\, Lindstrom\, MN\, United States
CATEGORIES:Workshops/Presentations
END:VEVENT
END:VCALENDAR