BEGIN:VCALENDAR
VERSION:2.0
PRODID:-//Comfort Lake Forest Lake Watershed District - ECPv6.15.14//NONSGML v1.0//EN
CALSCALE:GREGORIAN
METHOD:PUBLISH
X-WR-CALNAME:Comfort Lake Forest Lake Watershed District
X-ORIGINAL-URL:https://clflwd.org
X-WR-CALDESC:Events for Comfort Lake Forest Lake Watershed District
REFRESH-INTERVAL;VALUE=DURATION:PT1H
X-Robots-Tag:noindex
X-PUBLISHED-TTL:PT1H
BEGIN:VTIMEZONE
TZID:America/Chicago
BEGIN:DAYLIGHT
TZOFFSETFROM:-0600
TZOFFSETTO:-0500
TZNAME:CDT
DTSTART:20230312T080000
END:DAYLIGHT
BEGIN:STANDARD
TZOFFSETFROM:-0500
TZOFFSETTO:-0600
TZNAME:CST
DTSTART:20231105T070000
END:STANDARD
BEGIN:DAYLIGHT
TZOFFSETFROM:-0600
TZOFFSETTO:-0500
TZNAME:CDT
DTSTART:20240310T080000
END:DAYLIGHT
BEGIN:STANDARD
TZOFFSETFROM:-0500
TZOFFSETTO:-0600
TZNAME:CST
DTSTART:20241103T070000
END:STANDARD
BEGIN:DAYLIGHT
TZOFFSETFROM:-0600
TZOFFSETTO:-0500
TZNAME:CDT
DTSTART:20250309T080000
END:DAYLIGHT
BEGIN:STANDARD
TZOFFSETFROM:-0500
TZOFFSETTO:-0600
TZNAME:CST
DTSTART:20251102T070000
END:STANDARD
END:VTIMEZONE
BEGIN:VEVENT
DTSTART;TZID=America/Chicago:20241002T173000
DTEND;TZID=America/Chicago:20241002T193000
DTSTAMP:20260424T180759
CREATED:20240923T194001Z
LAST-MODIFIED:20241007T162355Z
UID:10159-1727890200-1727897400@clflwd.org
SUMMARY:10/02/24 Special Board Workshop - Strategic Planning
DESCRIPTION:Remote Attendance Instructions:\nClick here to join the zoom meeting online or dial by phone: 301-715-8592. Meeting ID: 822 7754 9006 \nMeeting Notice & Agenda\n\nCall to Order of Special Meeting\nStrategic Planning Workshop\n\na) Efforts Outlined\nb) Vision Planning Exercise\nc) Goal\nd) Outcome\ne) Feedback Process\n\n\nAdjourn\n\nNext regular board meeting – October 10\, 2024\, 6:30 pm
URL:https://clflwd.org/event/10-02-24-special-board-workshop-strategic-planning/
LOCATION:MN
CATEGORIES:Special Meeting
END:VEVENT
BEGIN:VEVENT
DTSTART;TZID=America/Chicago:20241003T183000
DTEND;TZID=America/Chicago:20241003T193000
DTSTAMP:20260424T180759
CREATED:20240911T152151Z
LAST-MODIFIED:20240911T152151Z
UID:10126-1727980200-1727983800@clflwd.org
SUMMARY:Landscaping Septics Class
DESCRIPTION:Landscaping near and around septic systems is a concern of many homeowners. Whether you already have an existing septic system or will be installing a new one to your residence\, there are many aesthetic options. Participants will learn some tips and techniques that not only will help the looks of the system; they will also help the functioning of the system. Participants will receive a native plant book and several native plant prizes will be given away. \nhttps://isd2144.ce.eleyo.com/course/2397/fall-2024/landscaping-septics
URL:https://clflwd.org/event/landscaping-septics-class/
LOCATION:Chisago Lakes High School\, 29400 Olinda Trail\, Lindstrom\, MN\, United States
CATEGORIES:Workshops/Presentations
END:VEVENT
BEGIN:VEVENT
DTSTART;TZID=America/Chicago:20241010T183000
DTEND;TZID=America/Chicago:20241010T203000
DTSTAMP:20260424T180759
CREATED:20240725T182821Z
LAST-MODIFIED:20241017T161442Z
UID:7135-1728585000-1728592200@clflwd.org
SUMMARY:10/10/24 Regular Board Meeting
DESCRIPTION:Remote Attendance Instructions:\nClick here to join the zoom meeting online or dial by phone: 301-715-8592. Meeting ID: 822 7754 9006 \nMeeting Notice & Agenda\n\nCall to Order of Regular Meeting\nSetting of Meeting Agenda\nNew Business\n\na) 2025 Meeting Schedule & Calendar\n\n\nOld Business\n\na) Update on Floodplain Vulnerability Assessment\nb) Shoreline Program Review\n\n\nProgram/Project Update\n\na) Project Update\nb) Program Update – Education & Outreach\n\nPresentation\n\n\n\n\nSummary and Approval of Board Direction\nAdjourn\n\na) Next Special Board Meeting – October 15\, 2024\, 5:30 pm\nb) Next Regular Board Meeting – October 24\, 2024\, 6:30 pm
URL:https://clflwd.org/event/10-10-24-regular-board-meeting/
LOCATION:MN
CATEGORIES:Regular Meeting
END:VEVENT
BEGIN:VEVENT
DTSTART;TZID=America/Chicago:20241015T173000
DTEND;TZID=America/Chicago:20241015T193000
DTSTAMP:20260424T180759
CREATED:20241007T162420Z
LAST-MODIFIED:20241011T145958Z
UID:10308-1729013400-1729020600@clflwd.org
SUMMARY:10/15/24 Special Board Workshop - Strategic Planning
DESCRIPTION:Remote Attendance Instructions:\nClick here to join the zoom meeting online or dial by phone: 301-715-8592. Meeting ID: 822 7754 9006 \nMeeting Notice & Agenda\n\nCall to Order of Special Meeting\nStrategic Planning Workshop\nAdjourn\n\na) Next regular board meeting – October 24\, 2024\, 6:30 pm\nb) Next special board meeting – October 29\, 2024\, 5;30 pm\n\n\n\n 
URL:https://clflwd.org/event/10-15-24-special-board-workshop-strategic-planning/
LOCATION:MN
CATEGORIES:Special Meeting
END:VEVENT
BEGIN:VEVENT
DTSTART;TZID=America/Chicago:20241017T183000
DTEND;TZID=America/Chicago:20241017T193000
DTSTAMP:20260424T180759
CREATED:20240911T152431Z
LAST-MODIFIED:20240911T152431Z
UID:10129-1729189800-1729193400@clflwd.org
SUMMARY:Fall Lawn Care Class
DESCRIPTION:Lawn care can be expensive and puzzling. Learn to get the best performance from your yard while protecting lakes and streams from pollutants and runoff. We will cover a wide variety of topics and answer your questions about watering\, fertilizing\, weed identification and more. Learn how to prep your lawn for winter so you have a yard that is the envy of the neighborhood in the spring. Participants will receive a folder full of great information and a native plant book. Several door prizes will be given away from local plant specialists.\n**In person and virtual option**\nhttps://forestlake.ce.eleyo.com/course/7547/fall-2024/fall-lawn-care
URL:https://clflwd.org/event/fall-lawn-care-class-2/
LOCATION:Forest Lake Area Schools Education Center\, 943 9th Ave SW\, Forest Lake\, MN\, 55025\, United States
END:VEVENT
BEGIN:VEVENT
DTSTART;TZID=America/Chicago:20241021T183000
DTEND;TZID=America/Chicago:20241021T193000
DTSTAMP:20260424T180759
CREATED:20240911T152643Z
LAST-MODIFIED:20240911T152643Z
UID:10131-1729535400-1729539000@clflwd.org
SUMMARY:Mulches and Composts Class
DESCRIPTION:Composts and mulches are nature’s way of recycling; keeps waste out of landfills\, and it fertilizes without chemicals. Learn how to use a variety of composts and the various mulches out there for all your planting and landscaping needs whether you make them yourself or buy them off the shelf. The pros\, the cons\, and everything in between…especially how to use mulches to tuck your plants in for the long winter ahead. Participants will receive an informational folder full of great publications\, a native plant book\, and several door prizes will be given away from local plant specialists. \n\n\n\n\n\n\n\n\n\n\nhttps://isd2144.ce.eleyo.com/course/2398/fall-2024/mulches-and-composts
URL:https://clflwd.org/event/mulches-and-composts-class/
LOCATION:Chisago Lakes High School\, 29400 Olinda Trail\, Lindstrom\, MN\, United States
CATEGORIES:Workshops/Presentations
END:VEVENT
BEGIN:VEVENT
DTSTART;TZID=America/Chicago:20241022T080000
DTEND;TZID=America/Chicago:20241022T090000
DTSTAMP:20260424T180759
CREATED:20241018T161740Z
LAST-MODIFIED:20241018T162716Z
UID:10429-1729584000-1729587600@clflwd.org
SUMMARY:10/22/24 County Commissioner Budget Meeting
DESCRIPTION:The Comfort Lake-Forest Lake Watershed District will meet with Washington County District 1 Commissioner to discuss the CLFLWD 2025 budget and planned activities. A quorum of the CLFLWD Board may be present. \nOpen Meeting Notice
URL:https://clflwd.org/event/10-22-24-county-commissioner-budget-meeting/
LOCATION:MN
CATEGORIES:Workshops/Presentations
END:VEVENT
BEGIN:VEVENT
DTSTART;TZID=America/Chicago:20241022T170000
DTEND;TZID=America/Chicago:20241022T180000
DTSTAMP:20260424T180759
CREATED:20240918T151309Z
LAST-MODIFIED:20241018T163354Z
UID:10166-1729616400-1729620000@clflwd.org
SUMMARY:10/22/2024 CAC Meeting
DESCRIPTION:A quorum of the Comfort Lake-Forest Lake Watershed District Board of Managers may be present at the October 22\, 2024\, Citizen Advisory Committee (CAC) meeting. \nOpen Meeting Notice
URL:https://clflwd.org/event/10-22-2024-cac-meeting/
LOCATION:MN
CATEGORIES:CAC Meeting
END:VEVENT
BEGIN:VEVENT
DTSTART;TZID=America/Chicago:20241024T183000
DTEND;TZID=America/Chicago:20241024T203000
DTSTAMP:20260424T180759
CREATED:20240725T182821Z
LAST-MODIFIED:20241114T195733Z
UID:7134-1729794600-1729801800@clflwd.org
SUMMARY:10/24/24 Regular Board Meeting
DESCRIPTION:Remote Attendance Instructions:\nClick here to join the zoom meeting online or dial by phone: 301-715-8592. Meeting ID: 822 7754 9006 \nMeeting Notice & Agenda\n\nCall to Order of Regular Meeting\nSetting of Meeting Agenda\nConsent Agenda: The consent agenda is considered as one item of business. It consists of routine administrative items or items not requiring discussion. Items can be removed from the consent agenda at the request of the Board member\, staff member\, or a member of the audience. Please state which item or items you wish to remove for separate discussion.\n\na) Regular Board Meeting Minutes – August 22\, 2024\nb) Regular Board Meeting Minutes – September 12\, 2024\nc) Regular Board Meeting Minutes – September 26\, 2024\n\nCLFLWD YouTube Channel (for watching past meetings)\n\n\n\n\nPublic Open Forum\nCitizen Advisory Committee Update\n\n10/24/24 Update\n\n\nAquatic Invasive Species Update\nNew Business\nOld Business\n\na) Biennial Professional Services RFP – Initial Review\n\n\nReport of Staff\n\na) Administrator\nb) Emmons and Olivier Resources\nc) Smith Partners\n\n\nReport of Treasurer and Approval of Bills\nReport of Officers and Managers\nSummary and Approval of Board Direction\n Adjourn\n\na) Special board meeting – October 29\, 2024\, 5:30 pm (Strategic Planning Workshop)\nb) Special board meeting – November 11\, 2024\, 5:30 pm (Strategic Planning Workshop)\nc) Regular board meeting – November 21\, 2024\, 6:30 pm
URL:https://clflwd.org/event/10-24-24-regular-board-meeting/
LOCATION:MN
CATEGORIES:Regular Meeting
END:VEVENT
BEGIN:VEVENT
DTSTART;TZID=America/Chicago:20241028T183000
DTEND;TZID=America/Chicago:20241028T193000
DTSTAMP:20260424T180759
CREATED:20240911T152816Z
LAST-MODIFIED:20240911T152816Z
UID:10133-1730140200-1730143800@clflwd.org
SUMMARY:Fall Septic System Care Class
DESCRIPTION:How does your septic system really work? How can you as a homeowner care for and protect your investment to maximize the life of the system? Learn how to extend the life of your septic system while maximizing efficiency\, reducing expensive repairs and protecting water quality. Participants will receive a folder full of great information and a native plant book. Several door prizes will be given away from local plant specialists. \n**In person and virtual options** \n\n\n\n\n\n\n\n\n\n\n\n\nhttps://forestlake.ce.eleyo.com/course/7546/fall-2024/fall-septic-system-care
URL:https://clflwd.org/event/fall-septic-system-care-class/
LOCATION:Forest Lake Area Schools Education Center\, 943 9th Ave SW\, Forest Lake\, MN\, 55025\, United States
CATEGORIES:Workshops/Presentations
END:VEVENT
BEGIN:VEVENT
DTSTART;TZID=America/Chicago:20241029T173000
DTEND;TZID=America/Chicago:20241029T193000
DTSTAMP:20260424T180759
CREATED:20241007T164233Z
LAST-MODIFIED:20241018T143950Z
UID:10316-1730223000-1730230200@clflwd.org
SUMMARY:10/29/24 Special Board Workshop - Strategic Planning
DESCRIPTION:Remote Attendance Instructions:\nClick here to join the zoom meeting online or dial by phone: 301-715-8592. Meeting ID: 822 7754 9006 \nMeeting Notice & Agenda\nFull agenda and board packet items will be posted on this page no later than the Monday immediately preceding the meeting. \n\nCall to Order of Special Meeting\nStrategic Planning Workshop – review materials\n\na) Summary and Vision Statement – (October 15th Meeting Recording)\nb) MN Statute 103D.201 Watershed District Purposes\nc) CLFLWD Order of Establishment\nd) Example Vision Statements – Compiled by Manager Toavs\ne) Example Plan – Washington County Strategic Plan\nf) Example Plan – Clean Water Council Strategic Plan\ng) Example Plan – MN Watersheds Strategic Plan\, redlined updates from latest board packet\nh) *Note that this is just a selection of strategic plan examples and more can be made available upon request.\n\n\nAdjourn – upcoming meetings\n\nSpecial Board Meeting – November 12\, 2024\, 5:30 pm (Strategic Planning Workshop)\nRegular Board Meeting – November 21\, 2024\, 6:30 pm\nSpecial Board Meeting – December 3\, 2024\, 5:30 pm (Strategic Planning Workshop)
URL:https://clflwd.org/event/10-29-24-special-board-workshop-strategic-planning/
LOCATION:MN
CATEGORIES:Special Meeting
END:VEVENT
END:VCALENDAR