BEGIN:VCALENDAR
VERSION:2.0
PRODID:-//Comfort Lake Forest Lake Watershed District - ECPv6.15.14//NONSGML v1.0//EN
CALSCALE:GREGORIAN
METHOD:PUBLISH
X-WR-CALNAME:Comfort Lake Forest Lake Watershed District
X-ORIGINAL-URL:https://clflwd.org
X-WR-CALDESC:Events for Comfort Lake Forest Lake Watershed District
REFRESH-INTERVAL;VALUE=DURATION:PT1H
X-Robots-Tag:noindex
X-PUBLISHED-TTL:PT1H
BEGIN:VTIMEZONE
TZID:America/Chicago
BEGIN:DAYLIGHT
TZOFFSETFROM:-0600
TZOFFSETTO:-0500
TZNAME:CDT
DTSTART:20220313T080000
END:DAYLIGHT
BEGIN:STANDARD
TZOFFSETFROM:-0500
TZOFFSETTO:-0600
TZNAME:CST
DTSTART:20221106T070000
END:STANDARD
BEGIN:DAYLIGHT
TZOFFSETFROM:-0600
TZOFFSETTO:-0500
TZNAME:CDT
DTSTART:20230312T080000
END:DAYLIGHT
BEGIN:STANDARD
TZOFFSETFROM:-0500
TZOFFSETTO:-0600
TZNAME:CST
DTSTART:20231105T070000
END:STANDARD
BEGIN:DAYLIGHT
TZOFFSETFROM:-0600
TZOFFSETTO:-0500
TZNAME:CDT
DTSTART:20240310T080000
END:DAYLIGHT
BEGIN:STANDARD
TZOFFSETFROM:-0500
TZOFFSETTO:-0600
TZNAME:CST
DTSTART:20241103T070000
END:STANDARD
END:VTIMEZONE
BEGIN:VEVENT
DTSTART;TZID=America/Chicago:20231108T000000
DTEND;TZID=America/Chicago:20231108T000000
DTSTAMP:20260425T155107
CREATED:20240725T182706Z
LAST-MODIFIED:20240725T182706Z
UID:7109-1699401600-1699401600@clflwd.org
SUMMARY:Office Holiday - Veterans Day
DESCRIPTION:The Comfort Lake-Forest Lake Watershed District office will be closed to observe this holiday.
URL:https://clflwd.org/event/office-holiday-veterans-day/
LOCATION:MN
END:VEVENT
BEGIN:VEVENT
DTSTART;TZID=America/Chicago:20231108T163000
DTEND;TZID=America/Chicago:20231108T180000
DTSTAMP:20260425T155107
CREATED:20240725T182651Z
LAST-MODIFIED:20240816T195809Z
UID:7105-1699461000-1699466400@clflwd.org
SUMMARY:Open House
DESCRIPTION:The Comfort Lake–Forest Lake Watershed District (CLFLWD) is hosting an open house on Wednesday\, November 8\, 2023\, from 4:30pm – 6:00pm. The open house will be held at the CLFLWD offices at 44 Lake St. South\, Suite A\, Forest Lake\, MN. This is a “drop-in” event\, and no registration is necessary. \nMembers of the public are invited and encouraged to attend the open house to learn about CLFLWD programs and projects to protect and improve the region’s lakes and rivers. District staff and engineers will be available to answer questions. Key topics include: upcoming projects to improve water quality in Moody Lake\, the Washington Judicial Ditch 6 Wetland Enhancement Project\, shoreline protection and restoration efforts\, the District’s grants and Legacy Payment programs\, and office planning efforts. \nOpen Meeting Notice \nProject Webpages \nProject Slideshow
URL:https://clflwd.org/event/open-house/
LOCATION:MN
CATEGORIES:Workshops/Presentations
END:VEVENT
BEGIN:VEVENT
DTSTART;TZID=America/Chicago:20231114T170000
DTEND;TZID=America/Chicago:20231114T183000
DTSTAMP:20260425T155107
CREATED:20240725T182414Z
LAST-MODIFIED:20240816T195040Z
UID:7057-1699981200-1699986600@clflwd.org
SUMMARY:11/14/23 CAC Meeting
DESCRIPTION:Meeting Notice & Agenda\nFull agenda and meeting items will be posted on this page no later than the Monday immediately preceding the meeting. \nOnline: https://us02web.zoom.us/j/3185987668 | Phone: 1.312.626.679 | Meeting ID: 318 598 7668
URL:https://clflwd.org/event/11-14-23-cac-meeting/
LOCATION:MN
CATEGORIES:CAC Meeting
END:VEVENT
BEGIN:VEVENT
DTSTART;TZID=America/Chicago:20231116T183000
DTEND;TZID=America/Chicago:20231116T203000
DTSTAMP:20260425T155107
CREATED:20240725T182514Z
LAST-MODIFIED:20240816T194839Z
UID:7078-1700159400-1700166600@clflwd.org
SUMMARY:11/16/23 Board Meeting
DESCRIPTION:Remote Attendance Instructions:\nClick here to join the zoom meeting online or dial by phone: 301-715-8592. Meeting ID: 189 134 191 \nMeeting Notice & Agenda\n\nCall to Order of Regular Meeting\nSetting of Meeting Agenda\nConsent Agenda: The consent agenda is considered as one item of business. It consists of routine administrative items or items not requiring discussion. Items can be removed from the consent agenda at the request of the Board member\, staff member\, or a member of the audience. Please state which item or items you wish to remove for separate discussion.\n\na) Regular Board Meeting Minutes – October 12\, 2023 \nb) Regular Board Meeting Minutes – October 26\, 2023\n\n\nPublic Open Forum\nCitizen Advisory Committee Update\nNew Business\n\na) Permit 23-015 Beltz Park Improvements Phase 1\nb) Lower St. Croix Partnership 2024 Annual Work Plan\nc) MN Watersheds Delegate Appointments\nd) MN Watersheds Resolutions – Delegate Instructions\ne) Washington Conservation District 2024 Service Agreement\nf) Community Cost-Share Pilot Program\ng) Legacy Payment Program – MN Watersheds Presentation\nh) Draft 2024 Staff Work Plan\n\n\nOld Business\n\na) Little Comfort Lake Project Update and Grant Amendment\n\n\nReport of Staff\n\na) Administrator\n\nNovember Project Update\n\n\nb) Emmons and Olivier Resources\nc) Smith Partners\n\n\nReport of Treasurer\n\na) Approval of Bills and Treasurer’s Report\n\n\nReport of Officers and Managers\nSummary and Approval of Board Direction\nAdjourn\n\na) Next Regular Board Meeting – Wednesday\, December 20\, 2023
URL:https://clflwd.org/event/11-16-23-board-meeting/
LOCATION:MN
CATEGORIES:Regular Meeting
END:VEVENT
BEGIN:VEVENT
DTSTART;VALUE=DATE:20231123
DTEND;VALUE=DATE:20231124
DTSTAMP:20260425T155107
CREATED:20240725T182706Z
LAST-MODIFIED:20240816T193102Z
UID:7110-1700697600-1700783999@clflwd.org
SUMMARY:Office Holiday - Thanksgiving
DESCRIPTION:The Comfort Lake-Forest Lake Watershed District office will be closed to observe this holiday.
URL:https://clflwd.org/event/office-holiday-thanksgiving/
LOCATION:MN
END:VEVENT
BEGIN:VEVENT
DTSTART;VALUE=DATE:20231124
DTEND;VALUE=DATE:20231125
DTSTAMP:20260425T155107
CREATED:20240725T182706Z
LAST-MODIFIED:20240816T193007Z
UID:7111-1700784000-1700870399@clflwd.org
SUMMARY:Office Holiday - Day After Thanksgiving
DESCRIPTION:The Comfort Lake-Forest Lake Watershed District office will be closed to observe this holiday.
URL:https://clflwd.org/event/office-holiday-day-after-thanksgiving/
LOCATION:MN
END:VEVENT
BEGIN:VEVENT
DTSTART;VALUE=DATE:20231128
DTEND;VALUE=DATE:20231202
DTSTAMP:20260425T155107
CREATED:20240725T182721Z
LAST-MODIFIED:20240816T192858Z
UID:7115-1701129600-1701475199@clflwd.org
SUMMARY:MN Watersheds Annual Conference & Business Meeting
DESCRIPTION:A quorum of the Comfort Lake-Forest Lake Watershed District Board of Managers is anticipated to attend the MN Watersheds Annual Conference and Business Meeting.\nLocation: Arrowwood Conference Center\, Alexandria\, MN \nMeeting Notice \nMN Watersheds Schedule and Business Meeting Packet
URL:https://clflwd.org/event/mn-watersheds-annual-conference-business-meeting/
LOCATION:MN
CATEGORIES:Special Meeting
END:VEVENT
END:VCALENDAR