BEGIN:VCALENDAR
VERSION:2.0
PRODID:-//Comfort Lake Forest Lake Watershed District - ECPv6.15.14//NONSGML v1.0//EN
CALSCALE:GREGORIAN
METHOD:PUBLISH
X-WR-CALNAME:Comfort Lake Forest Lake Watershed District
X-ORIGINAL-URL:https://clflwd.org
X-WR-CALDESC:Events for Comfort Lake Forest Lake Watershed District
REFRESH-INTERVAL;VALUE=DURATION:PT1H
X-Robots-Tag:noindex
X-PUBLISHED-TTL:PT1H
BEGIN:VTIMEZONE
TZID:America/Chicago
BEGIN:DAYLIGHT
TZOFFSETFROM:-0600
TZOFFSETTO:-0500
TZNAME:CDT
DTSTART:20220313T080000
END:DAYLIGHT
BEGIN:STANDARD
TZOFFSETFROM:-0500
TZOFFSETTO:-0600
TZNAME:CST
DTSTART:20221106T070000
END:STANDARD
BEGIN:DAYLIGHT
TZOFFSETFROM:-0600
TZOFFSETTO:-0500
TZNAME:CDT
DTSTART:20230312T080000
END:DAYLIGHT
BEGIN:STANDARD
TZOFFSETFROM:-0500
TZOFFSETTO:-0600
TZNAME:CST
DTSTART:20231105T070000
END:STANDARD
BEGIN:DAYLIGHT
TZOFFSETFROM:-0600
TZOFFSETTO:-0500
TZNAME:CDT
DTSTART:20240310T080000
END:DAYLIGHT
BEGIN:STANDARD
TZOFFSETFROM:-0500
TZOFFSETTO:-0600
TZNAME:CST
DTSTART:20241103T070000
END:STANDARD
END:VTIMEZONE
BEGIN:VEVENT
DTSTART;TZID=America/Chicago:20230706T130000
DTEND;TZID=America/Chicago:20230706T140000
DTSTAMP:20260425T212132
CREATED:20240725T182614Z
LAST-MODIFIED:20240820T190034Z
UID:7098-1688648400-1688652000@clflwd.org
SUMMARY:7/6/23 Special Board Meeting
DESCRIPTION:Remote Attendance Instructions:\nClick here to join the zoom meeting online or dial by phone: 301-715-8592. Meeting ID: 189 134 191 \nMeeting Notice & Agenda\n\nCall to Order of Special Meeting (Agenda)\nFunding Support Agreement for Aquatic Invasive Species and Lake Management Activities on Forest Lake\nAdjourn\n\na) Next Regular Board Meeting – July\, 13\, 2023 @ 6:30pm
URL:https://clflwd.org/event/7-6-23-special-board-meeting/
LOCATION:CLFLWD Office\, 44 Lake St. South\, Forest Lake\, MN\, 55025\, United States
CATEGORIES:Special Meeting
END:VEVENT
BEGIN:VEVENT
DTSTART;TZID=America/Chicago:20230713T183000
DTEND;TZID=America/Chicago:20230713T203000
DTSTAMP:20260425T212132
CREATED:20240725T182459Z
LAST-MODIFIED:20240820T190307Z
UID:7070-1689273000-1689280200@clflwd.org
SUMMARY:7/13/23 Board Meeting
DESCRIPTION:Remote Attendance Instructions:\nClick here to join the zoom meeting online or dial by phone: 301-715-8592. Meeting ID: 189 134 191 \nMeeting Notice & Agenda\n\nCall to Order of Regular Meeting\nSetting of Meeting Agenda\nNew Business\nOld Business\n\na) Floodplain Vulnerability Assessment\n\n\n2024 Budget Discussion\n\nMemo \nDraft Budget\nPresentation\n\n\nProject Update\nSummary and Approval of Board Direction\nAdjourn\n\na) Next Regular Board Meeting – July\, 27\, 2023
URL:https://clflwd.org/event/7-13-23-board-meeting/
LOCATION:MN
CATEGORIES:Regular Meeting
END:VEVENT
BEGIN:VEVENT
DTSTART;TZID=America/Chicago:20230715T100000
DTEND;TZID=America/Chicago:20230715T120000
DTSTAMP:20260425T212132
CREATED:20240820T190611Z
LAST-MODIFIED:20240820T190611Z
UID:9571-1689415200-1689422400@clflwd.org
SUMMARY:Alum Treatment Info Session
DESCRIPTION:The CLFLWD will be conducting a milestone water quality project on Forest Lake this September. The non-toxic alum treatment will result in a cleaner and clearer Forest Lake. Stop by anytime during the two-hour session to learn more about the alum treatment. There will be a 30-minute presentation beginning at 11:00am. \nRSVP to receive a reminder for this info session: https://forms.gle/iL2LEZtxGdDa2oUf9
URL:https://clflwd.org/event/alum-treatment-info-session-3/
LOCATION:Hardwood Creek Library\, 19955 Forest Rd N\, Forest Lake\, MN\, 55025\, United States
CATEGORIES:Workshops/Presentations
END:VEVENT
BEGIN:VEVENT
DTSTART;TZID=America/Chicago:20230718T170000
DTEND;TZID=America/Chicago:20230718T183000
DTSTAMP:20260425T212132
CREATED:20240725T182359Z
LAST-MODIFIED:20240820T184847Z
UID:7053-1689699600-1689705000@clflwd.org
SUMMARY:7/18/23 CAC Meeting
DESCRIPTION:Meeting Notice & Agenda\nFull agenda and meeting items will be posted on this page no later than the Monday immediately preceding the meeting. \nOnline: https://us02web.zoom.us/j/3185987668 | Phone: 1.312.626.679 | Meeting ID: 318 598 7668
URL:https://clflwd.org/event/7-18-23-cac-meeting/
LOCATION:MN
CATEGORIES:CAC Meeting
END:VEVENT
BEGIN:VEVENT
DTSTART;TZID=America/Chicago:20230720T160000
DTEND;TZID=America/Chicago:20230720T180000
DTSTAMP:20260425T212132
CREATED:20240725T182629Z
LAST-MODIFIED:20240820T184539Z
UID:7099-1689868800-1689876000@clflwd.org
SUMMARY:7/20/23 Special Board Meeting (Budget)
DESCRIPTION:Remote Attendance Instructions:\nClick here to join the zoom meeting online or dial by phone: 301-715-8592. Meeting ID: 189 134 191 \nMeeting Notice & Agenda\n\nCall to Order of Special Meeting (Agenda)\n2024 Budget Workshop\nAdjourn\n\na) Next Regular Board Meeting – July\, 27\, 2023 @ 6:30pm
URL:https://clflwd.org/event/7-20-23-special-board-meeting-budget/
LOCATION:MN
CATEGORIES:Special Meeting
END:VEVENT
BEGIN:VEVENT
DTSTART;TZID=America/Chicago:20230726T150000
DTEND;TZID=America/Chicago:20230726T170000
DTSTAMP:20260425T212132
CREATED:20240725T182614Z
LAST-MODIFIED:20240820T184429Z
UID:7096-1690383600-1690390800@clflwd.org
SUMMARY:Resilient Shoreline Workshop
DESCRIPTION:Learn the fundamentals of protecting your shoreline property! This workshop will include discussions on lakescaping and shoreline projects\, plant selection tips\, regulatory reminders\, and provide access to technical and financial resources. \nRSVP Encouraged: https://forms.gle/hCSGLPJJNnkei2MN8
URL:https://clflwd.org/event/resilient-shoreline-workshop-2/
LOCATION:CLFLWD Office\, 44 Lake St. South\, Forest Lake\, MN\, 55025\, United States
CATEGORIES:Workshops/Presentations
END:VEVENT
BEGIN:VEVENT
DTSTART;TZID=America/Chicago:20230727T183000
DTEND;TZID=America/Chicago:20230727T203000
DTSTAMP:20260425T212132
CREATED:20240725T182459Z
LAST-MODIFIED:20240820T184257Z
UID:7071-1690482600-1690489800@clflwd.org
SUMMARY:7/27/23 Board Meeting
DESCRIPTION:Remote Attendance Instructions:\nClick here to join the zoom meeting online or dial by phone: 301-715-8592. Meeting ID: 189 134 191 \nMeeting Notice & Agenda\n\nCall to Order of Regular Meeting\nSetting of Meeting Agenda\nConsent Agenda: The consent agenda is considered as one item of business. It consists of routine administrative items or items not requiring discussion. Items can be removed from the consent agenda at the request of the Board member\, staff member\, or a member of the audience. Please state which item or items you wish to remove for separate discussion.\n\na) Board Meeting Minutes – June\, 8\, 2023 \nb) Board Meeting Minutes – June\, 14\, 2023\nc) Board Meeting Minutes – June\, 22\, 2023\n\n\nPublic Open Forum\nCitizen Advisory Committee Update\nAquatic Invasive Species Update\nNew Business\n\na) Forest Lake Alum Treatment Contract Award\nb) Board of Managers Electronic Signature Policy\nc) MN Watersheds Annual Conference Resolutions \n\n\nOld Business\n\na) 44 Lake Street Lease Extension\n\nPresentation (Subject to final edits)\n\n\n\n\nReport of Staff\n\na) Administrator\nb) Emmons and Olivier Resources\nc) Smith Partners\n\n\nReport of Treasurer\n\na) Approval of Bills and Treasurer’s Report\n\n\nReport of Officers and managers\nSummary and Approval of Board Direction\nAdjourn\n\na) Next Regular Board Meeting – August\, 10\, 2023
URL:https://clflwd.org/event/7-27-23-board-meeting/
LOCATION:MN
CATEGORIES:Regular Meeting
END:VEVENT
END:VCALENDAR