BEGIN:VCALENDAR
VERSION:2.0
PRODID:-//Comfort Lake Forest Lake Watershed District - ECPv6.15.14//NONSGML v1.0//EN
CALSCALE:GREGORIAN
METHOD:PUBLISH
X-WR-CALNAME:Comfort Lake Forest Lake Watershed District
X-ORIGINAL-URL:https://clflwd.org
X-WR-CALDESC:Events for Comfort Lake Forest Lake Watershed District
REFRESH-INTERVAL;VALUE=DURATION:PT1H
X-Robots-Tag:noindex
X-PUBLISHED-TTL:PT1H
BEGIN:VTIMEZONE
TZID:America/Chicago
BEGIN:DAYLIGHT
TZOFFSETFROM:-0600
TZOFFSETTO:-0500
TZNAME:CDT
DTSTART:20230312T080000
END:DAYLIGHT
BEGIN:STANDARD
TZOFFSETFROM:-0500
TZOFFSETTO:-0600
TZNAME:CST
DTSTART:20231105T070000
END:STANDARD
BEGIN:DAYLIGHT
TZOFFSETFROM:-0600
TZOFFSETTO:-0500
TZNAME:CDT
DTSTART:20240310T080000
END:DAYLIGHT
BEGIN:STANDARD
TZOFFSETFROM:-0500
TZOFFSETTO:-0600
TZNAME:CST
DTSTART:20241103T070000
END:STANDARD
BEGIN:DAYLIGHT
TZOFFSETFROM:-0600
TZOFFSETTO:-0500
TZNAME:CDT
DTSTART:20250309T080000
END:DAYLIGHT
BEGIN:STANDARD
TZOFFSETFROM:-0500
TZOFFSETTO:-0600
TZNAME:CST
DTSTART:20251102T070000
END:STANDARD
END:VTIMEZONE
BEGIN:VEVENT
DTSTART;TZID=America/Chicago:20240916T183000
DTEND;TZID=America/Chicago:20240916T193000
DTSTAMP:20260425T053955
CREATED:20240909T204009Z
LAST-MODIFIED:20240911T153937Z
UID:10103-1726511400-1726515000@clflwd.org
SUMMARY:Pollinator Lawns and Turf Alternatives Class
DESCRIPTION:We love our lush green lawns\, maybe a bit too much. Learn what else we can plant to benefit the bees and birds\, while also keeping some green turf. We will discuss lawn alternatives that are more environmentally friendly that will keep your backyard buzzing. Small changes can go a long way towards improving the environment while saving you time and money. Plus\, fall can be a great time to establish new lawns and plants. Participants will receive a folder full of great information and a native plant book. Several door prizes will be given away from local plant specialists. \nhttps://forestlake.ce.eleyo.com/course/7548/fall-2024/pollinator-lawns-and-turf-alternatives
URL:https://clflwd.org/event/pollinator-lawns-and-turf-alternatives-class/
LOCATION:Forest Lake Area Schools Education Center\, 943 9th Ave SW\, Forest Lake\, MN\, 55025\, United States
CATEGORIES:Workshops/Presentations
END:VEVENT
BEGIN:VEVENT
DTSTART;TZID=America/Chicago:20240912T183000
DTEND;TZID=America/Chicago:20240912T203000
DTSTAMP:20260425T053955
CREATED:20240725T182806Z
LAST-MODIFIED:20240912T201614Z
UID:7132-1726165800-1726173000@clflwd.org
SUMMARY:09/12/24 Regular Board Meeting
DESCRIPTION:Remote Attendance Instructions:\nClick here to join the zoom meeting online or dial by phone: 301-715-8592. Meeting ID: 822 7754 9006 \nMeeting Notice & Agenda\n\nCall to Order of Regular Meeting\nSetting of Meeting Agenda\nNew Business\n\na) East Metro Water Resource Education Program (EMWREP) Contract\n\nExcel Spreadsheet\n\n\nb) Office Lease Option\n\n\nOld Business\n\na) State of the Watershed Update\nb) Roles and Authorities as to Flow in Channels\n\n\nProgram/Project Update\n\na) Project Update\nb) Program Update – Shoreline Inventory\n\n\nSummary and Approval of Board Direction\nAdjourn\n\na) Next Regular Board Meeting – September 26\, 2024\, 6:30 pm
URL:https://clflwd.org/event/09-12-24-regular-board-meeting/
LOCATION:MN
CATEGORIES:Regular Meeting
END:VEVENT
BEGIN:VEVENT
DTSTART;VALUE=DATE:20240902
DTEND;VALUE=DATE:20240903
DTSTAMP:20260425T053955
CREATED:20240725T182851Z
LAST-MODIFIED:20240814T222657Z
UID:7144-1725235200-1725321599@clflwd.org
SUMMARY:Office Holiday - Labor Day
DESCRIPTION:The Comfort Lake-Forest Lake Watershed District office will be closed to observe this holiday.
URL:https://clflwd.org/event/office-holiday-labor-day/
LOCATION:MN
END:VEVENT
BEGIN:VEVENT
DTSTART;TZID=America/Chicago:20240826T140000
DTEND;TZID=America/Chicago:20240826T150000
DTSTAMP:20260425T053955
CREATED:20240725T183631Z
LAST-MODIFIED:20240814T222910Z
UID:7177-1724680800-1724684400@clflwd.org
SUMMARY:Bugged Out Water Class
DESCRIPTION:Is there anything more exciting than playing with bugs? In this program we will dig right in and see what kind of buggy neighbors are swimming around the lakes and streams in our area. This is a very hands-on session full of creepy-crawly fun that will leave you with a better appreciation of how important insects are and what they can tell us about the water. This program is put on by the Comfort Forest Lake Watershed District at Hardwood Creek Library. \nThis class is for kids and their adults. This program will be outside in the courtyard off of the children’s area. Please use one registration slot per child and adult pair.
URL:https://clflwd.org/event/bugged-out-water-class/
LOCATION:MN
CATEGORIES:Workshops/Presentations
END:VEVENT
BEGIN:VEVENT
DTSTART;TZID=America/Chicago:20240822T183000
DTEND;TZID=America/Chicago:20240822T203000
DTSTAMP:20260425T053955
CREATED:20240725T182806Z
LAST-MODIFIED:20240906T183157Z
UID:7131-1724351400-1724358600@clflwd.org
SUMMARY:08/22/24 Regular Board Meeting
DESCRIPTION:Remote Attendance Instructions:\nClick here to join the zoom meeting online or dial by phone: 301-715-8592. Meeting ID: 822 7754 9006 \nMeeting Notice & Agenda\n\nCall to Order of Regular Meeting\nSetting of Meeting Agenda\nConsent Agenda: The consent agenda is considered as one item of business. It consists of routine administrative items or items not requiring discussion. Items can be removed from the consent agenda at the request of the Board member\, staff member\, or a member of the audience. Please state which item or items you wish to remove for separate discussion.\n\na) Regular Board Meeting Minutes – July 11\, 2024\nb) Special Board Meeting Minutes – July 24\, 2024\nc) Regular Board Meeting Minutes – July 25\, 2024\n \n\nCLFLWD YouTube Channel (for watching past meetings)\n\n\n\n\nPublic Hearing – 2025 Budget & Levy\n\nRecording\nPresentation\nTranscript\n\n\nPublic Open Forum\nCitizen Advisory Committee Update\nAquatic Invasive Species Update\nNew Business\n\na) Clean Water Council Letter\n\n\nOld Business\n\na) Floodplain Modeling Update\nb) State of the Watershed Update\nc) 2025 Budget\n\nResolution\n\n\n\n\nReport of Staff\n\na) Administrator\nb) Emmons and Olivier Resources\nc) Smith Partners\n\n\nReport of Treasurer and Approval of Bills\nReport of Officers and Managers\nSummary and Approval of Board Direction\n Adjourn\n\na) Next Regular Board Meeting – September 12\, 2024\, 6:30 pm
URL:https://clflwd.org/event/08-22-24-regular-board-meeting/
LOCATION:MN
CATEGORIES:Regular Meeting
END:VEVENT
BEGIN:VEVENT
DTSTART;TZID=America/Chicago:20240819T183000
DTEND;TZID=America/Chicago:20240819T193000
DTSTAMP:20260425T053955
CREATED:20240725T183631Z
LAST-MODIFIED:20240814T223045Z
UID:7176-1724092200-1724095800@clflwd.org
SUMMARY:Minnesota Native Groundcovers Class
DESCRIPTION:Minnesota has some great native groundcovers to add to your landscapes. In this class at Hardwood Creek Library\, we will chat about various plants that will spread and hold the ground. We have species that grow a few inches tall and species that reach a few feet tall. \nWhen it comes to groundcovers\, it is all about roots and rhizomes. And as a bonus\, many of these are also great pollinator plants!
URL:https://clflwd.org/event/minnesota-native-groundcovers-class/
LOCATION:MN
CATEGORIES:Workshops/Presentations
END:VEVENT
BEGIN:VEVENT
DTSTART;TZID=America/Chicago:20240813T170000
DTEND;TZID=America/Chicago:20240813T180000
DTSTAMP:20260425T053955
CREATED:20240725T183122Z
LAST-MODIFIED:20240812T202445Z
UID:7159-1723568400-1723572000@clflwd.org
SUMMARY:08/13/2024 CAC Meeting
DESCRIPTION:
URL:https://clflwd.org/event/08-13-2024-cac-meeting/
LOCATION:MN
CATEGORIES:CAC Meeting
END:VEVENT
BEGIN:VEVENT
DTSTART;TZID=America/Chicago:20240808T183000
DTEND;TZID=America/Chicago:20240808T203000
DTSTAMP:20260425T053955
CREATED:20240725T182806Z
LAST-MODIFIED:20240909T194114Z
UID:7130-1723141800-1723149000@clflwd.org
SUMMARY:08/08/24 Regular Board Meeting
DESCRIPTION:Remote Attendance Instructions:\nClick here to join the zoom meeting online or dial by phone: 301-715-8592. Meeting ID: 822 7754 9006 \nMeeting Notice & Agenda\n\nCall to Order of Regular Meeting\nSetting of Meeting Agenda\nNew Business\n\na) FY25 Clean Water Fund Grant Applications\nb) Biennial Professional Services RFP\n\n\nOld Business\n\n\n\na) MN Watersheds Annual Conference\nb) State of the Watershed\nc) Strategic Planning\nd) Resolution 24-08-01 CWP Loan\ne) EMWREP Dues\n\nExcel Spreadsheet\n\n\n\n\n\n\nProgram/Project Update\n\na) Project Update\nb) Program Update – Grant Research and Preparation\n\n\nSummary and Approval of Board Direction\nAdjourn\n\na) Next Regular Board Meeting – August 22\, 2024\, 6:30 pm
URL:https://clflwd.org/event/08-08-24-regular-board-meeting/
LOCATION:MN
CATEGORIES:Regular Meeting
END:VEVENT
BEGIN:VEVENT
DTSTART;TZID=America/Chicago:20240806T173000
DTEND;TZID=America/Chicago:20240806T193000
DTSTAMP:20260425T053955
CREATED:20240725T183646Z
LAST-MODIFIED:20240814T224932Z
UID:7180-1722965400-1722972600@clflwd.org
SUMMARY:08/06/24 Special Board Meeting
DESCRIPTION:Remote Attendance Instructions:\nClick here to join the zoom meeting online or dial by phone: 301-715-8592. Meeting ID: 822 7754 9006 \nMeeting Notice & Agenda\n\nCall to Order of Special Meeting\nBudget Workshop\n\nManager Anderson Budget Recommendations Memo\nManager Anderson’s Requested Slides\nJuly 13\, 2023 Budget Workshop Slides\n2025 Budget_Draft_20240807\nPotential Additional Expenditures if 24% Levy Increase\nProperty Tax Comparison 2024\nEstimated Tax Impacts 2025\n\n\nAdjourn\n\nNext regular board meeting – August 8\, 2024\, 6:30 p
URL:https://clflwd.org/event/08-06-24-special-board-meeting/
LOCATION:MN
CATEGORIES:Special Meeting
END:VEVENT
BEGIN:VEVENT
DTSTART;TZID=America/Chicago:20240805T150000
DTEND;TZID=America/Chicago:20240805T160000
DTSTAMP:20260425T053955
CREATED:20240725T183631Z
LAST-MODIFIED:20240814T225126Z
UID:7178-1722870000-1722873600@clflwd.org
SUMMARY:Making Bee Houses Class
DESCRIPTION:Come and join us to learn about native bees. We will learn the basics of bees and the importance of these incredible insects. We will also make bee houses that you can take home. Turn your crafty creativity into functional fun. More bees means more fruits\, veggies\, and flowers in your backyard! All the supplies and materials are provided\, just bring your creativity. This program is put on by the Comfort Forest Lake Watershed District at Hardwood Creek Library.\nThis class is for kids and their adults. This program will be outside in the reading loft. Please use one registration slot per child and adult pair.
URL:https://clflwd.org/event/making-bee-houses-class-2/
LOCATION:MN
CATEGORIES:Workshops/Presentations
END:VEVENT
BEGIN:VEVENT
DTSTART;TZID=America/Chicago:20240729T140000
DTEND;TZID=America/Chicago:20240729T150000
DTSTAMP:20260425T053955
CREATED:20240725T183631Z
LAST-MODIFIED:20240814T225241Z
UID:7175-1722261600-1722265200@clflwd.org
SUMMARY:Making Bee Houses Class
DESCRIPTION:Come and join us to learn about native bees. We will learn the basics of bees and the importance of these incredible insects. We will also make bee houses that you can take home. Turn your crafty creativity into functional fun. More bees means more fruits\, veggies\, and flowers in your backyard! All the supplies and materials are provided\, just bring your creativity. This program is put on by the Comfort Forest Lake Watershed District at Hardwood Creek Library. \nThis class is for kids and their adults. This program will be outside in the reading loft. Please use one registration slot per child and adult pair.
URL:https://clflwd.org/event/making-bee-houses-class/
LOCATION:MN
CATEGORIES:Workshops/Presentations
END:VEVENT
BEGIN:VEVENT
DTSTART;TZID=America/Chicago:20240725T183000
DTEND;TZID=America/Chicago:20240725T203000
DTSTAMP:20260425T053955
CREATED:20240725T182806Z
LAST-MODIFIED:20240906T174823Z
UID:7129-1721932200-1721939400@clflwd.org
SUMMARY:07/25/24 Regular Board Meeting
DESCRIPTION:Remote Attendance Instructions:\nClick here to join the zoom meeting online or dial by phone: 301-715-8592. Meeting ID: 822 7754 9006 \nMeeting Notice & Agenda\n\nCall to Order of Regular Meeting\nSetting of Meeting Agenda\nConsent Agenda: The consent agenda is considered as one item of business. It consists of routine administrative items or items not requiring discussion. Items can be removed from the consent agenda at the request of the Board member\, staff member\, or a member of the audience. Please state which item or items you wish to remove for separate discussion.\n\na) Special Board Meeting – June 4\, 2024\nb) Regular Board Meeting Minutes – June 13\, 2024\nc) Special Board Meeting – June 20\, 2024\nc) Regular Board Meeting Minutes – June 27\, 2024\n \n\nCLFLWD YouTube Channel (for watching past meetings)\n\n\n\n\nPublic Open Forum\nCitizen Advisory Committee Update\nAquatic Invasive Species Update\nNew Business\n\na) MN Watersheds Annual Conference\nb) Mid-Season Monitoring Update\n\n\nOld Business\n\na) 2024 State of the Watershed\n\n\nReport of Staff\n\na) Administrator\nb) Emmons and Olivier Resources\nc) Smith Partners\n\n\nReport of Treasurer and Approval of Bills\nReport of Officers and Managers\nSummary and Approval of Board Direction\n Adjourn\n\na) Next Regular Board Meeting – August 8\, 2024\, 6:30 pm
URL:https://clflwd.org/event/07-25-24-regular-board-meeting/
LOCATION:MN
CATEGORIES:Regular Meeting
END:VEVENT
BEGIN:VEVENT
DTSTART;TZID=America/Chicago:20240725T183000
DTEND;TZID=America/Chicago:20240725T193000
DTSTAMP:20260425T053955
CREATED:20240725T183631Z
LAST-MODIFIED:20240814T225659Z
UID:7174-1721932200-1721935800@clflwd.org
SUMMARY:Rain Gardens Class
DESCRIPTION:Do you want a rain garden that looks beautiful year-round\, requires little maintenance\, and will look great year after year? Learn about the latest trend in landscaping including sizing\, location\, installation and plant selection for your rain garden and rainwater harvesting. With the wide variety of plants and materials available you can create a rain garden with a natural wild look or an organized planting suitable for the most refined settings. Participants will receive a native plant book\, and several door prizes will be given away from local plant specialists.
URL:https://clflwd.org/event/rain-gardens-class/
LOCATION:MN
CATEGORIES:Workshops/Presentations
END:VEVENT
BEGIN:VEVENT
DTSTART;TZID=America/Chicago:20240724T173000
DTEND;TZID=America/Chicago:20240724T193000
DTSTAMP:20260425T053955
CREATED:20240725T183646Z
LAST-MODIFIED:20240814T225918Z
UID:7179-1721842200-1721849400@clflwd.org
SUMMARY:07/24/2024 Special Board Meeting
DESCRIPTION:Remote Attendance Instructions:\nClick here to join the zoom meeting online or dial by phone: 301-715-8592. Meeting ID: 822 7754 9006 \nMeeting Notice & Agenda\n\nCall to Order of Special Meeting\nBudget Workshop\n\nMemo\n2025 Draft Budget (updated July 5\, 2024)\nBudget Revision Spreadsheet\n\n\nAdjourn\n\na) Next regular board meeting – July 25\, 2024\, 6:30 pm
URL:https://clflwd.org/event/07-24-2024-special-board-meeting/
LOCATION:MN
CATEGORIES:Special Meeting
END:VEVENT
BEGIN:VEVENT
DTSTART;TZID=America/Chicago:20240716T170000
DTEND;TZID=America/Chicago:20240716T180000
DTSTAMP:20260425T053955
CREATED:20240725T182921Z
LAST-MODIFIED:20240814T230306Z
UID:7158-1721149200-1721152800@clflwd.org
SUMMARY:07/16/2024 CAC Meeting
DESCRIPTION:
URL:https://clflwd.org/event/07-16-2024-cac-meeting/
LOCATION:MN
CATEGORIES:CAC Meeting
END:VEVENT
BEGIN:VEVENT
DTSTART;TZID=America/Chicago:20240715T183000
DTEND;TZID=America/Chicago:20240715T193000
DTSTAMP:20260425T053955
CREATED:20240725T183522Z
LAST-MODIFIED:20240814T230504Z
UID:7173-1721068200-1721071800@clflwd.org
SUMMARY:Rain Barrels Class
DESCRIPTION:Rain barrels harvest rainwater from roofs and other structures that can then be used to water gardens\, lawns\, and potted plants. Installing a rain barrel is an excellent way to reduce run-off and pollution as well as save MONEY! As much as 40% of residential water is used for irrigation in the summer. Participants will learn the ins and outs of rain barrels\, site selection\, and other tips to use rain barrels most efficiently. We will also talk about the pros and cons of many of the commercially available rain barrels and how to make your own. Participants will receive a native plant book\, and one lucky participant will win a rain barrel!
URL:https://clflwd.org/event/rain-barrels-class/
LOCATION:MN
CATEGORIES:Workshops/Presentations
END:VEVENT
BEGIN:VEVENT
DTSTART;TZID=America/Chicago:20240711T183000
DTEND;TZID=America/Chicago:20240711T203000
DTSTAMP:20260425T053955
CREATED:20240725T182751Z
LAST-MODIFIED:20240814T230651Z
UID:7128-1720722600-1720729800@clflwd.org
SUMMARY:07/11/24 Regular Board Meeting
DESCRIPTION:Remote Attendance Instructions:\nClick here to join the zoom meeting online or dial by phone: 301-715-8592. Meeting ID: 822 7754 9006 \nMeeting Notice & Agenda\n\nCall to Order of Regular Meeting\nSetting of Meeting Agenda\nNew Business\n\na) Permit 24-007 Chase Bank\nb) MN Watersheds Annual Conference Resolutions\nc) Automated Lake Level Monitoring Budget Transfer\n\n\nOld Business\n\na) Public Relations Research Report\n\nPresentation\n\n\nb) Office Space Planning\n\nPresentation\n\n\n\n\nProgram/Project Update\n\na) Project Update\nb) Program Update – Education & Outreach\n\n\nSummary and Approval of Board Direction\nAdjourn\n\na) Next Regular Board Meeting – July 25\, 2024
URL:https://clflwd.org/event/07-11-24-regular-board-meeting/
LOCATION:MN
CATEGORIES:Regular Meeting
END:VEVENT
BEGIN:VEVENT
DTSTART;VALUE=DATE:20240704
DTEND;VALUE=DATE:20240705
DTSTAMP:20260425T053955
CREATED:20240725T182836Z
LAST-MODIFIED:20240814T232159Z
UID:7143-1720051200-1720137599@clflwd.org
SUMMARY:Office Holiday - Independence Day
DESCRIPTION:The Comfort Lake-Forest Lake Watershed District office will be closed to observe this holiday.
URL:https://clflwd.org/event/office-holiday-independence-day/
LOCATION:MN
END:VEVENT
BEGIN:VEVENT
DTSTART;TZID=America/Chicago:20240627T183000
DTEND;TZID=America/Chicago:20240627T203000
DTSTAMP:20260425T053955
CREATED:20240725T182751Z
LAST-MODIFIED:20240814T232639Z
UID:7126-1719513000-1719520200@clflwd.org
SUMMARY:06/27/24 Regular Board Meeting
DESCRIPTION:Remote Attendance Instructions:\nClick here to join the zoom meeting online or dial by phone: 301-715-8592. Meeting ID: 822 7754 9006 \nMeeting Notice & Agenda\n\nCall to Order of Regular Meeting\nSetting of Meeting Agenda\nConsent Agenda: The consent agenda is considered as one item of business. It consists of routine administrative items or items not requiring discussion. Items can be removed from the consent agenda at the request of the Board member\, staff member\, or a member of the audience. Please state which item or items you wish to remove for separate discussion.\n\na) Special Board Meeting – May 2\, 2024\nb) Regular Board Meeting Minutes – May 9\, 2024\nc) Regular Board Meeting Minutes – May 22\, 2024\n \n\nCLFLWD YouTube Channel (for watching past meetings)\n\n\n\n\nPublic Open Forum\nCitizen Advisory Committee Update\nAquatic Invasive Species Update\nNew Business\nOld Business\n\na) Public Relations Research Report\nb) 2025 Draft Budget\n\nMemo\nLoan Scenario 1 – Updated Original\nLoan Scenario 2 – Debt Service Levy at $500\,000\nLoan Scenario 3 – Debt Service Levy = Total Repayment\nLoan Scenario 4 – Updated Original + 5% Levy Increase from 2025-2033\n\n\n\n\nReport of Staff\n\na) Administrator\nb) Emmons and Olivier Resources\nc) Smith Partners\n\n\nReport of Treasurer and Approval of Bills\nReport of Officers and Managers\nSummary and Approval of Board Direction\n Adjourn\n\na) Next Regular Board Meeting – July 11\, 2024\, 6:30 pm
URL:https://clflwd.org/event/06-27-24-regular-board-meeting/
LOCATION:MN
CATEGORIES:Regular Meeting
END:VEVENT
BEGIN:VEVENT
DTSTART;TZID=America/Chicago:20240620T170000
DTEND;TZID=America/Chicago:20240620T190000
DTSTAMP:20260425T053955
CREATED:20240725T183322Z
LAST-MODIFIED:20240814T233501Z
UID:7168-1718902800-1718910000@clflwd.org
SUMMARY:06/20/24 Special Board Meeting - Budget
DESCRIPTION:Remote Attendance Instructions:\nClick here to join the zoom meeting online or dial by phone: 301-715-8592. Meeting ID: 822 7754 9006 \nMeeting Notice & Agenda\n\nCall to Order of Special Meeting\nBudget Workshop\n\n1. Memo\n2. Revised Budget Packet\n3. Tax Levy History\n4. Pending Project Funding Breakout\n5. EMV-NTC-Tax Impact History\n6. 2025 Project Planning\n7. Restricted Funds Summary\n8. Overhead and Operating Expenses\nNatural Resource Inventory Maps Presented at July 2023 Budget Workshop\n\n\nAdjourn\n\na) Next Regular Board Meeting – June 27\, 2024\, 6:30 pm
URL:https://clflwd.org/event/06-20-24-special-board-meeting-budget/
LOCATION:MN
CATEGORIES:Special Meeting
END:VEVENT
BEGIN:VEVENT
DTSTART;VALUE=DATE:20240619
DTEND;VALUE=DATE:20240620
DTSTAMP:20260425T053955
CREATED:20240725T182836Z
LAST-MODIFIED:20240814T233629Z
UID:7142-1718755200-1718841599@clflwd.org
SUMMARY:Office Holiday - Juneteenth
DESCRIPTION:The Comfort Lake-Forest Lake Watershed District office will be closed to observe this holiday.
URL:https://clflwd.org/event/office-holiday-juneteenth/
LOCATION:MN
END:VEVENT
BEGIN:VEVENT
DTSTART;TZID=America/Chicago:20240618T170000
DTEND;TZID=America/Chicago:20240618T180000
DTSTAMP:20260425T053955
CREATED:20240725T182921Z
LAST-MODIFIED:20240815T193200Z
UID:7157-1718730000-1718733600@clflwd.org
SUMMARY:06/18/2024 CAC Meeting
DESCRIPTION:
URL:https://clflwd.org/event/06-18-2024-cac-meeting/
LOCATION:MN
CATEGORIES:CAC Meeting
END:VEVENT
BEGIN:VEVENT
DTSTART;TZID=America/Chicago:20240617T140000
DTEND;TZID=America/Chicago:20240617T150000
DTSTAMP:20260425T053955
CREATED:20240725T183522Z
LAST-MODIFIED:20240815T193451Z
UID:7170-1718632800-1718636400@clflwd.org
SUMMARY:Living Fencelines Class
DESCRIPTION:Natural fences constructed of shrubbery\, tall flowers\, and clumping grasses are attractive and environmentally friendly. These living fences add an eye-catching way to define your property boundaries while also adding pollinator plants that serve as effective privacy screens. Good fences make for good neighbors….and good habitat!
URL:https://clflwd.org/event/living-fencelines-class/
LOCATION:Hardwood Creek Library\, 19955 Forest Rd N\, Forest Lake\, MN\, 55025\, United States
CATEGORIES:Workshops/Presentations
END:VEVENT
BEGIN:VEVENT
DTSTART;TZID=America/Chicago:20240613T183000
DTEND;TZID=America/Chicago:20240613T203000
DTSTAMP:20260425T053955
CREATED:20240725T182751Z
LAST-MODIFIED:20240815T194238Z
UID:7127-1718303400-1718310600@clflwd.org
SUMMARY:06/13/24 Regular Board Meeting
DESCRIPTION:Remote Attendance Instructions:\nClick here to join the zoom meeting online or dial by phone: 301-715-8592. Meeting ID: 822 7754 9006 \nMeeting Notice & Agenda\n\nCall to Order of Regular Meeting\nSetting of Meeting Agenda\nNew Business\n\na) BWSR Pollinator Pathways Grant Application\nb) Strategic Planning Proposal\nc) State of the Watershed Update\n\n\nOld Business\n\na) Floodplain Vulnerability Community Engagement\n\n\nProgram/Project Update\n\na) Project Update\nb) Program Update – Agricultural Best Management Practices\n\nPresentation\n\n\nc) Summary of Education and Outreach Events\n\n\nSummary and Approval of Board Direction\nAdjourn\n\na) Next Regular Board Meeting – June 27\, 2024
URL:https://clflwd.org/event/06-13-24-regular-board-meeting/
LOCATION:MN
CATEGORIES:Regular Meeting
END:VEVENT
BEGIN:VEVENT
DTSTART;TZID=America/Chicago:20240627T183000
DTEND;TZID=America/Chicago:20240627T183000
DTSTAMP:20260425T053955
CREATED:20240725T183522Z
LAST-MODIFIED:20240814T232946Z
UID:7171-1719513000-1719513000@clflwd.org
SUMMARY:The Many Minnesota Milkweeds Class
DESCRIPTION:We have over a dozen Milkweeds that are native to Minnesota. Let’s chat about the wide variety of these great pollinator plants! Some are wildly popular and very common growing in gardens and local sceneries. We also will discuss where to buy milkweed plants and seed\, plus how and where to add these pollinator magnets to your landscapes. Participants will receive a native plant book\, and several door prizes will be given away from local plant specialists.
URL:https://clflwd.org/event/the-many-minnesota-milkweeds-class/
LOCATION:Wildcat Community Center\, 29330 Olinda Trail\, Lindstrom\, MN\, 55045\, United States
CATEGORIES:Workshops/Presentations
END:VEVENT
BEGIN:VEVENT
DTSTART;TZID=America/Chicago:20240611T170000
DTEND;TZID=America/Chicago:20240611T190000
DTSTAMP:20260425T053955
CREATED:20240725T183522Z
LAST-MODIFIED:20240815T194652Z
UID:7169-1718125200-1718132400@clflwd.org
SUMMARY:Bone Lake Delisting Celebration
DESCRIPTION:Join your friends and neighbors to celebrate Bone Lake’s great water quality achievement! \nAfter 20 years on the state’s impaired waters list for excessive nutrients\, Bone Lake has been officially delisted in 2024. This landmark accomplishment would not have been possible without the efforts and activities from the Comfort Lake – Forest Lake Watershed District\, Bone Lake Association\, City of Scandia\, and the many local groups and organizations. We will be having a short program to commemorate the activities and partnerships that have helped the lake reach this milestone. \nThere will be a pizza supper\, refreshments\, and cake following the program. Please RSVP via email or by phone to (651) 395-5850 by June 1st. \nOPEN MEETING NOTICE\nBone Lake Delisting Event Flyer
URL:https://clflwd.org/event/bone-lake-delisting-celebration/
LOCATION:Scandia Community Center\, 14727 209th St. N.\, Scandia\, MN\, 55073\, United States
CATEGORIES:Special Meeting
END:VEVENT
BEGIN:VEVENT
DTSTART;TZID=America/Chicago:20240604T140000
DTEND;TZID=America/Chicago:20240604T160000
DTSTAMP:20260425T053955
CREATED:20240725T183322Z
LAST-MODIFIED:20240815T195933Z
UID:7167-1717509600-1717516800@clflwd.org
SUMMARY:06/04/24 Special Board Meeting
DESCRIPTION:Remote Attendance Instructions:\nClick here to join the zoom meeting online or dial by phone: 301-715-8592. Meeting ID: 822 7754 9006 \nMeeting Notice & Agenda\nFull agenda and board packet items will be posted on this page no later than the Monday immediately preceding the meeting. \n\nCall to Order of Special Meeting\nFloodplain Vulnerability Assessment Workshop\n\nMemo\nPresentation\n\n\nAdjourn\n\na) Next Regular Board Meeting – June 13\,2024\, 6:30 pm
URL:https://clflwd.org/event/06-04-24-special-board-meeting/
LOCATION:MN
CATEGORIES:Special Meeting
END:VEVENT
BEGIN:VEVENT
DTSTART;VALUE=DATE:20240527
DTEND;VALUE=DATE:20240528
DTSTAMP:20260425T053955
CREATED:20240725T182836Z
LAST-MODIFIED:20240815T204018Z
UID:7140-1716768000-1716854399@clflwd.org
SUMMARY:Office Holiday - Memorial Day
DESCRIPTION:The Comfort Lake-Forest Lake Watershed District office will be closed to observe this holiday.
URL:https://clflwd.org/event/office-holiday-memorial-day/
LOCATION:MN
END:VEVENT
BEGIN:VEVENT
DTSTART;TZID=America/Chicago:20240522T183000
DTEND;TZID=America/Chicago:20240522T203000
DTSTAMP:20260425T053955
CREATED:20240725T182751Z
LAST-MODIFIED:20240815T204546Z
UID:7125-1716402600-1716409800@clflwd.org
SUMMARY:05/22/24 Regular Board Meeting
DESCRIPTION:Remote Attendance Instructions:\nClick here to join the zoom meeting online or dial by phone: 301-715-8592. Meeting ID: 822 7754 9006 \nMeeting Notice & Agenda\n\nCall to Order of Regular Meeting\nSetting of Meeting Agenda\nConsent Agenda: The consent agenda is considered as one item of business. It consists of routine administrative items or items not requiring discussion. Items can be removed from the consent agenda at the request of the Board member\, staff member\, or a member of the audience. Please state which item or items you wish to remove for separate discussion.\n\na) Regular Board Meeting Minutes – April 11\, 2024\nb) Special Board Meeting Minutes – April 24\, 2024\nc) Regular Board Meeting Minutes – April 25\, 2024\n\nCLFLWD YouTube Channel (for watching past meetings)\n\n\n\n\nPublic Open Forum\nCitizen Advisory Committee Update\nAquatic Invasive Species Update\nNew Business\n\n\n\na) Heath Ave Iron Enhanced Sand Filter Feasibility Study\nb) MN Watersheds Summer Tour Delegates\nc) Insurance Liability Coverage Waiver\n\n\n\n\nOld Business\n\na) Crisis Communication Plan\nb) Public Relations Research Update\n\n\nReport of Staff\n\na) Administrator\nb) Emmons and Olivier Resources\nc) Smith Partners\n\n\nReport of Treasurer and Approval of Bills (Revised 05/22/24)\nReport of Officers and Managers\nSummary and Approval of Board Direction\n Adjourn\n\na) Next Regular Board Meeting – June 13\, 202
URL:https://clflwd.org/event/05-22-24-regular-board-meeting/
LOCATION:MN
CATEGORIES:Regular Meeting
END:VEVENT
BEGIN:VEVENT
DTSTART;TZID=America/Chicago:20240514T170000
DTEND;TZID=America/Chicago:20240514T180000
DTSTAMP:20260425T053955
CREATED:20240725T182921Z
LAST-MODIFIED:20240815T204827Z
UID:7156-1715706000-1715709600@clflwd.org
SUMMARY:05/14/2024 CAC Meeting
DESCRIPTION:
URL:https://clflwd.org/event/05-14-2024-cac-meeting/
LOCATION:MN
CATEGORIES:CAC Meeting
END:VEVENT
END:VCALENDAR