BEGIN:VCALENDAR
VERSION:2.0
PRODID:-//Comfort Lake Forest Lake Watershed District - ECPv6.15.14//NONSGML v1.0//EN
CALSCALE:GREGORIAN
METHOD:PUBLISH
X-WR-CALNAME:Comfort Lake Forest Lake Watershed District
X-ORIGINAL-URL:https://clflwd.org
X-WR-CALDESC:Events for Comfort Lake Forest Lake Watershed District
REFRESH-INTERVAL;VALUE=DURATION:PT1H
X-Robots-Tag:noindex
X-PUBLISHED-TTL:PT1H
BEGIN:VTIMEZONE
TZID:America/Chicago
BEGIN:DAYLIGHT
TZOFFSETFROM:-0600
TZOFFSETTO:-0500
TZNAME:CDT
DTSTART:20230312T080000
END:DAYLIGHT
BEGIN:STANDARD
TZOFFSETFROM:-0500
TZOFFSETTO:-0600
TZNAME:CST
DTSTART:20231105T070000
END:STANDARD
BEGIN:DAYLIGHT
TZOFFSETFROM:-0600
TZOFFSETTO:-0500
TZNAME:CDT
DTSTART:20240310T080000
END:DAYLIGHT
BEGIN:STANDARD
TZOFFSETFROM:-0500
TZOFFSETTO:-0600
TZNAME:CST
DTSTART:20241103T070000
END:STANDARD
BEGIN:DAYLIGHT
TZOFFSETFROM:-0600
TZOFFSETTO:-0500
TZNAME:CDT
DTSTART:20250309T080000
END:DAYLIGHT
BEGIN:STANDARD
TZOFFSETFROM:-0500
TZOFFSETTO:-0600
TZNAME:CST
DTSTART:20251102T070000
END:STANDARD
BEGIN:DAYLIGHT
TZOFFSETFROM:-0600
TZOFFSETTO:-0500
TZNAME:CDT
DTSTART:20260308T080000
END:DAYLIGHT
BEGIN:STANDARD
TZOFFSETFROM:-0500
TZOFFSETTO:-0600
TZNAME:CST
DTSTART:20261101T070000
END:STANDARD
END:VTIMEZONE
BEGIN:VEVENT
DTSTART;TZID=America/Chicago:20250213T183000
DTEND;TZID=America/Chicago:20250213T203000
DTSTAMP:20260425T054431
CREATED:20241122T155810Z
LAST-MODIFIED:20250210T190100Z
UID:10656-1739471400-1739478600@clflwd.org
SUMMARY:02/13/25 Regular Board Meeting
DESCRIPTION:Remote Attendance Instructions:\nClick here to join the zoom meeting online or dial by phone: 301-715-8592. Meeting ID: 822 7754 9006 \nMeeting Notice & Agenda\n\nCall to Order of Regular Meeting\nSetting of Meeting Agenda\nNew Business\n\na) Stearns County Shoreland Presentation\nb) Washington County Cooperative Weed Management Area\nc) North Shore Circle Park Agreement\nd) 2025 Forest Lake Cooperative Aquatic Invasive Species Agreement\ne) MN Watersheds Delegate Appointments\n\n\nOld Business\n\na) 2024 Education & Outreach Yearend Summary\n\nYouTube Video\n\n\nb) 2025 Education & Outreach Implementation Plan\n\nYouTube Video\n\n\nc) Heath Iron Enhanced Sand Filter Acquisition Budget Transfer\n\n\nProgram/Project Update\n\na) Project Update\nb) Operations & Maintenance Program Update\n\nYouTube Video\n\n\n\n\nSummary and Approval of Board Direction\n Adjourn\n\na) Next regular board meeting – February 27\, 2025\, 6:30 pm
URL:https://clflwd.org/event/02-13-25-regular-board-meeting/
CATEGORIES:Regular Meeting
END:VEVENT
BEGIN:VEVENT
DTSTART;TZID=America/Chicago:20250212T170000
DTEND;TZID=America/Chicago:20250212T200000
DTSTAMP:20260425T054431
CREATED:20250124T193919Z
LAST-MODIFIED:20250124T215657Z
UID:11256-1739379600-1739390400@clflwd.org
SUMMARY:02/12/25 Floodplain Vulnerability Assessment Community Engagement Workshop
DESCRIPTION:A quorum of the Comfort Lake-Forest Lake Watershed District Board of Managers is anticipated at the Floodplain Vulnerability Assessment Community Engagement Workshop. \nSpecial Meeting Notice
URL:https://clflwd.org/event/02-12-25-floodplain-vulnerability-assessment-community-engagement-workshop/
LOCATION:Forest Lake Area High School\, 6101 Scandia Trail N\, Forest Lake\, MN\, 55025\, United States
CATEGORIES:Workshops/Presentations
END:VEVENT
BEGIN:VEVENT
DTSTART;TZID=America/Chicago:20250211T173000
DTEND;TZID=America/Chicago:20250211T193000
DTSTAMP:20260425T054431
CREATED:20250203T210838Z
LAST-MODIFIED:20250211T153041Z
UID:11325-1739295000-1739302200@clflwd.org
SUMMARY:02/11/25 Special Board Workshop – Strategic Planning
DESCRIPTION:Remote Attendance Instructions:\nClick here to join the zoom meeting online or dial by phone: 301-715-8592. Meeting ID: 822 7754 9006 \nMeeting Notice & Agenda\n\nCall to Order of Special Meeting\nStrategic Planning Workshop\n\nVision\, Mission\, Values\nPlan Priorities – Manager Schmaltz\nPlan Priorities – Manager Bakke\nStrategic Plan – Manager Anderson\nPlan Priorities by Manager Toavs\nStrategic Plan Staff Meeting Summary\n\n\nFlood Resiliency Community Engagement\n\nFlood Resiliency Planning Process\nCommunity Workshop Presentation Slides\n\n\nAdjourn\n\na) Next regular board meeting – February 13\, 2025 6:30 pm
URL:https://clflwd.org/event/02-11-25-special-board-workshop-strategic-planning/
CATEGORIES:Special Meeting
END:VEVENT
BEGIN:VEVENT
DTSTART;TZID=America/Chicago:20250210T183000
DTEND;TZID=America/Chicago:20250210T193000
DTSTAMP:20260425T054431
CREATED:20250113T215246Z
LAST-MODIFIED:20250113T215246Z
UID:11061-1739212200-1739215800@clflwd.org
SUMMARY:Top Twenty Native Plants
DESCRIPTION:Learn how to put down some roots and use native plants in your landscaping and flower gardens. We will identify some of our favorite no-fail natives for a wide variety of soils\, shade levels and overall hardiness. These are the rough\, tumble\, aggressive and easy to find native plants. Also learn some easy ways to integrate native plants into your current landscaping or start a whole new project. You will receive a free native plant book and there will be several gift certificates from local nurseries given away as door prizes.
URL:https://clflwd.org/event/top-twenty-native-plants/
LOCATION:Forest Lake Area Schools Education Center\, 943 9th Ave SW\, Forest Lake\, MN\, 55025\, United States
CATEGORIES:Workshops/Presentations
END:VEVENT
BEGIN:VEVENT
DTSTART;TZID=America/Chicago:20250206T173000
DTEND;TZID=America/Chicago:20250206T190000
DTSTAMP:20260425T054431
CREATED:20250114T150115Z
LAST-MODIFIED:20250124T221412Z
UID:11090-1738863000-1738868400@clflwd.org
SUMMARY:Watershed Connections: Carp Management for Water Quality
DESCRIPTION:Event Flyer\nOpen Meeting Notice \nThe ecological effects of carp on the environments which they invade are negative and numerous. They can include decreased native aquatic vegetation\, increased turbidity\, increased nutrients\, increased algae blooms\, and an overall decrease of fish and wildlife diversity. The science of carp management has significantly changed since 2010. The ability to quantify carp populations\, track carp movement\, and reduce abundance can be a major tool in improving water quality and overall lake health. WSB has been a leader in the field of invasive fish management and specifically carp management. \nThis FREE workshop will be held at the Forest Lake Senior Community Center starting at 5:30 p.m. The workshop includes an hour presentation\, a box supper\, and time for open discussion after the presentation. Please RSVP before Friday\, January 31st for this workshop\, so we have an accurate headcount for food and seating. \nTo register\, please contact the CLFLWD at 651-395-5850 or by email.
URL:https://clflwd.org/event/watershed-connections-carp-management-for-water-quality/
LOCATION:Forest Lake Senior Community  Center\, 767 4th St SW\, Forest Lake\, MN\, 55025
CATEGORIES:Workshops/Presentations
ATTACH;FMTTYPE=application/pdf:https://clflwd.org/wp-content/uploads/2025/01/Feb-6-Carp-Management-1.pdf
END:VEVENT
BEGIN:VEVENT
DTSTART;TZID=America/Chicago:20250205T150000
DTEND;TZID=America/Chicago:20250205T160000
DTSTAMP:20260425T054431
CREATED:20250113T215018Z
LAST-MODIFIED:20250113T215139Z
UID:11059-1738767600-1738771200@clflwd.org
SUMMARY:Native Plants for Small Spaces and Containers
DESCRIPTION:Small spaces don’t need to limit your gardening possibilities! Do you have a small garden space\, patio\, or containers and want to add color\, texture\, and plants? Don’t overlook using native plants that attract birds\, bees\, and butterflies. We will look at using some smaller and better-behaved native perennials in your garden spaces. Participants will receive an informational folder and a native plant book\, and several gift certificates from local nurseries will be given away as door prizes.
URL:https://clflwd.org/event/native-plants-for-small-spaces-and-containers/
LOCATION:Hardwood Creek Library\, 19955 Forest Rd N\, Forest Lake\, MN\, 55025\, United States
CATEGORIES:Workshops/Presentations
END:VEVENT
BEGIN:VEVENT
DTSTART;TZID=America/Chicago:20250204T173000
DTEND;TZID=America/Chicago:20250204T193000
DTSTAMP:20260425T054431
CREATED:20241010T153144Z
LAST-MODIFIED:20250203T210445Z
UID:10337-1738690200-1738697400@clflwd.org
SUMMARY:02/04/25 Special Board Workshop - CANCELED
DESCRIPTION:This meeting has been rescheduled to February 11\, 2025 at 5:30pm.
URL:https://clflwd.org/event/02-04-25-special-board-workshop-strategic-planning/
CATEGORIES:Special Meeting
END:VEVENT
BEGIN:VEVENT
DTSTART;TZID=America/Chicago:20250130T183000
DTEND;TZID=America/Chicago:20250130T193000
DTSTAMP:20260425T054431
CREATED:20250113T214659Z
LAST-MODIFIED:20250113T214659Z
UID:11057-1738261800-1738265400@clflwd.org
SUMMARY:Backyard Habitat
DESCRIPTION:It’s all about the birds and bees…and butterflies. Learn how to attract more pollinators and songbirds to your backyard by making some simple changes. We will discuss various species of pollinators and what perennial plants will have them buzzing to your backyard. Participants will receive an informational folder full of great publications and several door prizes from local plant specialists will be given away.
URL:https://clflwd.org/event/backyard-habitat/
CATEGORIES:Workshops/Presentations
END:VEVENT
BEGIN:VEVENT
DTSTART;TZID=America/Chicago:20250128T180000
DTEND;TZID=America/Chicago:20250128T210000
DTSTAMP:20260425T054431
CREATED:20250124T213034Z
LAST-MODIFIED:20250124T214836Z
UID:11269-1738087200-1738098000@clflwd.org
SUMMARY:01/28/25 Special Board Meeting - Administrator's Performance Review
DESCRIPTION:Remote Attendance Instructions:\nClick here to join the zoom meeting online or dial by phone: 301-715-8592. Meeting ID: 822 7754 9006 \nMeeting Notice & Agenda\n\nCall to Order of Special Meeting\nAdministrator Performance Review [may convene in closed session]\nAdjourn\n\na) Next special board meeting – February 4\, 2025\, 5:30 pm\nb) Next regular board meeting – February 13\, 2025\, 6:30 pm
URL:https://clflwd.org/event/01-28-25-special-board-meeting-administrators-performance-review/
CATEGORIES:Special Meeting
END:VEVENT
BEGIN:VEVENT
DTSTART;TZID=America/Chicago:20250123T183000
DTEND;TZID=America/Chicago:20250123T203000
DTSTAMP:20260425T054431
CREATED:20241122T155722Z
LAST-MODIFIED:20250124T193608Z
UID:10654-1737657000-1737664200@clflwd.org
SUMMARY:01/23/25 Regular Board Meeting
DESCRIPTION:Remote Attendance Instructions:\nClick here to join the zoom meeting online or dial by phone: 301-715-8592. Meeting ID: 822 7754 9006 \nMeeting Notice & Agenda\n\nCall to Order of Regular Meeting\nSetting of Meeting Agenda\nConsent Agenda: The consent agenda is considered as one item of business. It consists of routine administrative items or items not requiring discussion. Items can be removed from the consent agenda at the request of the Board member\, staff member\, or a member of the audience. Please state which item or items you wish to remove for separate discussion.\n\na) Regular Board Meeting Minutes – November 21\, 2024\nb) Special Board Meeting Minutes – December 10\, 2024\nc) Special Board Meeting Minutes – December 17\, 2024\nd) Regular Board Meeting Minutes – December 19\, 2024\n\nCLFLWD YouTube Channel (for watching past meetings)\n\n\n\n\nPublic Hearing: Heath Iron Enhanced Sand Filter Project Ordering\n\nEOR presentation\n\n\nPublic Open Forum\nCitizen Advisory Committee Update\nNew Business\n\na) FY25 Clean Water Fund Grant Agreement (updated 01/24/25)\nb) Heath Iron Enhanced Sand Filter Project Ordering & Engineering\nc) Heath Iron Enhanced Sand Filter Acquisition\nd) 2025 Blue Water Science Service Agreement\ne) 2024 Yearend Education & Outreach Summary\nf) 2025 Education & Outreach Implementation Plan\n\n\nOld Business\n\na) 2024 Aquatic Invasive Species Report\n\nYouTube Video (please watch prior to meeting)\n\n\nb) 2024 Watercraft Inspection Report\n\nYouTube Video (please watch prior to meeting)\n\n\nc) Blue Water Science Yearend Reports\nd) Floodplain Vulnerability Modeling Report\ne) District Vehicle\nf) 2025 Cost-Share Policy\ng) Lower St. Croix Watershed Partnership Work Plan Leverage (updated 01/24/25)\n\n\nReport of Staff\n\na) Administrator\nb) Emmons and Olivier Resources\nc) Smith Partners\n\n\nReport of Treasurer and Approval of Bills (updated 01/24/25)\nReport of Officers and Managers\nSummary and Approval of Board Direction\n Adjourn\n\na) Special board meeting – January 28\, 2025\, 6:00 pm\nb) Special board meeting – February 4\, 2025\, 5:30 pm\nc) Next regular board meeting – February 13\, 2025\, 6:30 pm
URL:https://clflwd.org/event/01-23-25-regular-board-meeting/
CATEGORIES:Regular Meeting
END:VEVENT
BEGIN:VEVENT
DTSTART;TZID=America/Chicago:20250121T173000
DTEND;TZID=America/Chicago:20250121T193000
DTSTAMP:20260425T054431
CREATED:20241010T153051Z
LAST-MODIFIED:20250121T180733Z
UID:10335-1737480600-1737487800@clflwd.org
SUMMARY:01/21/25 Special Board Workshop - CANCELED DUE TO WEATHER
DESCRIPTION:Remote Attendance Instructions:\nClick here to join the zoom meeting online or dial by phone: 301-715-8592. Meeting ID: 822 7754 9006 \nMeeting Notice & Agenda\nFull agenda and board packet items will be posted on this page at least three days preceding the meeting. \n\nCall to Order of Special Meeting\nStrategic Planning Workshop\n\na) Manager Schmaltz CLFLWD Priority Areas from 10 year Plan Jan 2025\nb) July Budget Workshop – July 13\, 2023 Regular Board Meeting\nc) 2024-09-30 Strategic Plan Staff Meeting Summary\n\n\nAdjourn\n\na) Next regular board meeting – January 23\, 2025 6:30 pm\nb) Next special board meeting – February 4\, 2025\, 5:30 pm
URL:https://clflwd.org/event/01-21-25-special-board-workshop-strategic-planning/
CATEGORIES:Special Meeting
END:VEVENT
BEGIN:VEVENT
DTSTART;VALUE=DATE:20250120
DTEND;VALUE=DATE:20250121
DTSTAMP:20260425T054431
CREATED:20241127T204619Z
LAST-MODIFIED:20241127T204718Z
UID:10804-1737331200-1737417599@clflwd.org
SUMMARY:Office Holiday – Martin Luther King Jr. Day 2025
DESCRIPTION:The Comfort Lake-Forest Lake Watershed District office will be closed to observe this holiday.
URL:https://clflwd.org/event/office-holiday-martin-luther-king-jr-day-2025/
END:VEVENT
BEGIN:VEVENT
DTSTART;TZID=America/Chicago:20250116T183000
DTEND;TZID=America/Chicago:20250116T193000
DTSTAMP:20260425T054431
CREATED:20250113T214449Z
LAST-MODIFIED:20250113T214449Z
UID:11055-1737052200-1737055800@clflwd.org
SUMMARY:Rain Barrels 101
DESCRIPTION:Rain barrels harvest rainwater from roofs that can then be used to water gardens\, lawns and potted plants. As much as 40% of residential water is used for irrigation in the summer. Installing a rain barrel is an excellent way to reduce run-off and pollution as well as save MONEY! Learn about site selection and how to use rain barrels most efficiently. We will discuss the pros and cons of commercially available rain barrels and how to make your own. Residents within the Comfort Lake – Forest Lake Watershed District may be eligible for free rain barrels. You will receive a free native plant book and there will be several gift certificates from local nurseries given away as door prizes.
URL:https://clflwd.org/event/rain-barrels-101/
LOCATION:Forest Lake Area Schools Education Center\, 943 9th Ave SW\, Forest Lake\, MN\, 55025\, United States
CATEGORIES:Workshops/Presentations
END:VEVENT
BEGIN:VEVENT
DTSTART;TZID=America/Chicago:20250114T170000
DTEND;TZID=America/Chicago:20250114T180000
DTSTAMP:20260425T054431
CREATED:20250407T190752Z
LAST-MODIFIED:20250407T190752Z
UID:11992-1736874000-1736877600@clflwd.org
SUMMARY:01/14/25 CAC Meeting
DESCRIPTION:
URL:https://clflwd.org/event/01-14-25-cac-meeting/
CATEGORIES:CAC Meeting
END:VEVENT
BEGIN:VEVENT
DTSTART;TZID=America/Chicago:20250109T183000
DTEND;TZID=America/Chicago:20250109T203000
DTSTAMP:20260425T054431
CREATED:20241122T155616Z
LAST-MODIFIED:20250206T205730Z
UID:10650-1736447400-1736454600@clflwd.org
SUMMARY:01/09/25 Regular Board Meeting
DESCRIPTION:Remote Attendance Instructions:\nClick here to join the zoom meeting online or dial by phone: 301-715-8592. Meeting ID: 822 7754 9006 \nMeeting Notice & Agenda\n\nCall to Order of Regular Meeting\nSetting of Meeting Agenda\nNew Business\n\na) Election of Officers and Liaison Appointments\nb) Citizen Advisory Committee Appointments\nc) Designation of Official Newspapers and Banks\nd) Review Bank Signers\, Viewers\, and Credit Card Holders\ne) District Vehicle\n\n\nOld Business\n\na) Floodplain Vulnerability Update\n\n\nProgram/Project Update\n\na) Project Update\n\n\nSummary and Approval of Board Direction\n Adjourn\n\na) Next regular board meeting – January 23\, 2025\, 6:30 pm
URL:https://clflwd.org/event/01-09-25-regular-board-meeting/
CATEGORIES:Regular Meeting
END:VEVENT
BEGIN:VEVENT
DTSTART;TZID=America/Chicago:20250107T173000
DTEND;TZID=America/Chicago:20250107T193000
DTSTAMP:20260425T054431
CREATED:20241010T152931Z
LAST-MODIFIED:20250203T210659Z
UID:10333-1736271000-1736278200@clflwd.org
SUMMARY:01/07/25 Special Board Workshop - Strategic Planning
DESCRIPTION:Remote Attendance Instructions:\nClick here to join the zoom meeting online or dial by phone: 301-715-8592. Meeting ID: 822 7754 9006 \nMeeting Notice & Agenda\n\nCall to Order of Special Meeting\nStrategic Planning Workshop\nAdjourn\n\na) Next regular board meeting – January 9\, 2025 6:30 pm
URL:https://clflwd.org/event/01-07-25-special-board-workshop-strategic-planning/
CATEGORIES:Special Meeting
END:VEVENT
BEGIN:VEVENT
DTSTART;VALUE=DATE:20250101
DTEND;VALUE=DATE:20250102
DTSTAMP:20260425T054431
CREATED:20241127T204507Z
LAST-MODIFIED:20241127T204507Z
UID:10801-1735689600-1735775999@clflwd.org
SUMMARY:Office Holiday – New Year's Day 2025
DESCRIPTION:The Comfort Lake-Forest Lake Watershed District office will be closed to observe this holiday.
URL:https://clflwd.org/event/office-holiday-new-years-day-2025/
END:VEVENT
BEGIN:VEVENT
DTSTART;VALUE=DATE:20241225
DTEND;VALUE=DATE:20241226
DTSTAMP:20260425T054431
CREATED:20240725T182906Z
LAST-MODIFIED:20240814T185755Z
UID:7149-1735084800-1735171199@clflwd.org
SUMMARY:Office Holiday - Christmas Day
DESCRIPTION:The Comfort Lake-Forest Lake Watershed District office will be closed to observe this holiday.
URL:https://clflwd.org/event/office-holiday-christmas-day-2/
END:VEVENT
BEGIN:VEVENT
DTSTART;VALUE=DATE:20241224
DTEND;VALUE=DATE:20241225
DTSTAMP:20260425T054431
CREATED:20240725T182851Z
LAST-MODIFIED:20240814T185919Z
UID:7148-1734998400-1735084799@clflwd.org
SUMMARY:Office Holiday - Christmas Eve Day
DESCRIPTION:The Comfort Lake-Forest Lake Watershed District office will be closed to observe this holiday.
URL:https://clflwd.org/event/office-holiday-christmas-eve-day-2/
END:VEVENT
BEGIN:VEVENT
DTSTART;TZID=America/Chicago:20241219T183000
DTEND;TZID=America/Chicago:20241219T203000
DTSTAMP:20260425T054431
CREATED:20240725T182821Z
LAST-MODIFIED:20241219T204221Z
UID:7137-1734633000-1734640200@clflwd.org
SUMMARY:12/19/24 Regular Board Meeting
DESCRIPTION:Remote Attendance Instructions:\nClick here to join the zoom meeting online or dial by phone: 301-715-8592. Meeting ID: 822 7754 9006 \nMeeting Notice & Agenda\nFull agenda and board packet items will be posted on this page no later than the Monday immediately preceding the meeting. \n\nCall to Order of Regular Meeting\nSetting of Meeting Agenda\nConsent Agenda: The consent agenda is considered as one item of business. It consists of routine administrative items or items not requiring discussion. Items can be removed from the consent agenda at the request of the Board member\, staff member\, or a member of the audience. Please state which item or items you wish to remove for separate discussion.\n\na) Regular Board Meeting Minutes – August 22\, 2024\nb) Special Board Meeting Minutes – November 12\, 2024\nc) Regular Board Meeting Minutes – November 21\, 2024\n\nCLFLWD YouTube Channel (for watching past meetings)\n\n\n\n\nPublic Comment Opportunity on 2025 Budget & Levy\nPublic Open Forum\nCitizen Advisory Committee Update\nNew Business\n\na) Chisago County Hazard Mitigation Plan\nb) WJD-6 Wetland Enhancement Project Closeout\nc) Moody Lake Capstone Project Closeout\nd) Shoreline Public Relations RFP\ne) Resolution Ratifying Clean Water Fund Grant Extension\nf) 2024 Blue Water Science Survey Summaries\ng) 2024 Aquatic Invasive Species Yearend Report\n\n\n\n2024 AIS Program Yearend Summary (YouTube)\n\n\n\n\nh) 2024 Watercraft Inspection Yearend Report\ni) Yearend Accounting & Reimbursement Requests\nj) 2025 Cost Share Policy\nk) Grant Application Authorizations\nl) Heath Ave IESF City of Wyoming Agreement\n\n\nOld Business\n\na) 2025 Staff Work Plan\nb) Biennial Professional Services RFP\nc) Floodplain Vulnerability Update\n\n\nReport of Staff\n\na) Administrator\n\nProject Update\n\n\nb) Emmons and Olivier Resources\nc) Smith Partners\n\n\nReport of Treasurer and Approval of Bills\nReport of Officers and Managers\nSummary and Approval of Board Direction\n Adjourn\n\na) Next special board meeting – January 7\, 2025\, 5:30 pm (Strategic Planning Meeting)\nb) Next regular board meeting – January 9\, 2025\, 6:30 pm
URL:https://clflwd.org/event/12-19-24-regular-board-meeting/
CATEGORIES:Regular Meeting
END:VEVENT
BEGIN:VEVENT
DTSTART;TZID=America/Chicago:20241218T170000
DTEND;TZID=America/Chicago:20241218T180000
DTSTAMP:20260425T054431
CREATED:20240725T183122Z
LAST-MODIFIED:20241217T143806Z
UID:7162-1734541200-1734544800@clflwd.org
SUMMARY:12/18/2024 CAC Meeting
DESCRIPTION:
URL:https://clflwd.org/event/12-18-2024-cac-meeting/
CATEGORIES:CAC Meeting
END:VEVENT
BEGIN:VEVENT
DTSTART;TZID=America/Chicago:20241217T173000
DTEND;TZID=America/Chicago:20241217T193000
DTSTAMP:20260425T054431
CREATED:20241010T152842Z
LAST-MODIFIED:20241216T140723Z
UID:10331-1734456600-1734463800@clflwd.org
SUMMARY:12/17/24 Special Board Workshop - Strategic Planning
DESCRIPTION:Remote Attendance Instructions:\nClick here to join the zoom meeting online or dial by phone: 301-715-8592. Meeting ID: 822 7754 9006 \nMeeting Notice & Agenda\n\nCall to Order of Special Meeting\nStrategic Planning Workshop\nAdjourn\n\na) Next regular board meeting – December 19\, 2024\, 6:30 pm\nb) Next special board meeting – January 7\, 2025\, 5:30 pm\n\n\n\n 
URL:https://clflwd.org/event/12-17-24-special-board-workshop-strategic-planning/
CATEGORIES:Special Meeting
END:VEVENT
BEGIN:VEVENT
DTSTART;TZID=America/Chicago:20241210T173000
DTEND;TZID=America/Chicago:20241210T193000
DTSTAMP:20260425T054431
CREATED:20241010T152734Z
LAST-MODIFIED:20241211T143104Z
UID:10329-1733851800-1733859000@clflwd.org
SUMMARY:12/10/24 Special Board Workshop - Strategic Planning
DESCRIPTION:Remote Attendance Instructions: Click here to join the zoom meeting online or dial by phone: 301-715-8592. Meeting ID: 822 7754 9006 \nMeeting Notice & Agenda\nFull agenda and board packet items will be posted on this page at least three days preceding the meeting. \n\nCall to Order of Special Meeting\nStrategic Planning Workshop\n\nVision\, Mission\, Values – Schmaltz Edits\nGreenway Corridor Strategy Discussion\n\n\nAdjourn\n\nNext special board meeting – December 17\, 2024\, 5:30 pm\nNext regular board meeting – December 19\, 2024\, 6:30 pm
URL:https://clflwd.org/event/12-10-24-special-board-workshop-strategic-planning/
CATEGORIES:Special Meeting
END:VEVENT
BEGIN:VEVENT
DTSTART;VALUE=DATE:20241204
DTEND;VALUE=DATE:20241207
DTSTAMP:20260425T054431
CREATED:20241118T165015Z
LAST-MODIFIED:20241118T165225Z
UID:10565-1733270400-1733529599@clflwd.org
SUMMARY:MN Watersheds Annual Conference
DESCRIPTION:A quorum of the Comfort Lake-Forest Lake Watershed District Board of Managers will attend the Minnesota Watersheds Annual Conference in Nisswa\, MN. \nOpen Meeting Notice
URL:https://clflwd.org/event/mn-watersheds-annual-conference/
LOCATION:Grand View Lodge\, 23521 Nokomis Ave\, Nisswa\, MN\, 56468\, United States
CATEGORIES:Special Meeting
END:VEVENT
BEGIN:VEVENT
DTSTART;VALUE=DATE:20241129
DTEND;VALUE=DATE:20241130
DTSTAMP:20260425T054431
CREATED:20240725T182851Z
LAST-MODIFIED:20240814T190523Z
UID:7147-1732838400-1732924799@clflwd.org
SUMMARY:Office Holiday - Day After Thanksgiving
DESCRIPTION:The Comfort Lake-Forest Lake Watershed District office will be closed to observe this holiday.
URL:https://clflwd.org/event/office-holiday-day-after-thanksgiving-2/
END:VEVENT
BEGIN:VEVENT
DTSTART;VALUE=DATE:20241128
DTEND;VALUE=DATE:20241129
DTSTAMP:20260425T054431
CREATED:20240725T182851Z
LAST-MODIFIED:20240814T190637Z
UID:7146-1732752000-1732838399@clflwd.org
SUMMARY:Office Holiday - Thanksgiving
DESCRIPTION:The Comfort Lake-Forest Lake Watershed District office will be closed to observe this holiday.
URL:https://clflwd.org/event/office-holiday-thanksgiving-2/
END:VEVENT
BEGIN:VEVENT
DTSTART;TZID=America/Chicago:20241125T183000
DTEND;TZID=America/Chicago:20241125T193000
DTSTAMP:20260425T054431
CREATED:20240911T153420Z
LAST-MODIFIED:20240911T153420Z
UID:10143-1732559400-1732563000@clflwd.org
SUMMARY:Dormant Seeding Class
DESCRIPTION:Spring is often thought to be the time to plant seed\, but fall has its advantages. When we seed in fall\, the seeding is dormant\, and the seed will remain in the soil all winter long to germinate in spring. Dormant seeding can even be more effective than spring and summer seedings. Join us to learn more about this method and how to increase your spring germination and seed success. Participants will receive a folder full of great information and a native plant book. Several door prizes will be given away from local plant specialists.\n**In person and virtual options**\nhttps://forestlake.ce.eleyo.com/course/7537/fall-2024/dormant-seeding
URL:https://clflwd.org/event/dormant-seeding-class-2/
LOCATION:Forest Lake Area Schools Education Center\, 943 9th Ave SW\, Forest Lake\, MN\, 55025\, United States
CATEGORIES:Workshops/Presentations
END:VEVENT
BEGIN:VEVENT
DTSTART;TZID=America/Chicago:20241121T183000
DTEND;TZID=America/Chicago:20241121T203000
DTSTAMP:20260425T054431
CREATED:20240725T182821Z
LAST-MODIFIED:20241122T194649Z
UID:7136-1732213800-1732221000@clflwd.org
SUMMARY:11/21/24 Regular Board Meeting
DESCRIPTION:Remote Attendance Instructions:\nClick here to join the zoom meeting online or dial by phone: 301-715-8592. Meeting ID: 822 7754 9006 \nMeeting Notice & Agenda\n\nCall to Order of Regular Meeting\nSetting of Meeting Agenda\nConsent Agenda: The consent agenda is considered as one item of business. It consists of routine administrative items or items not requiring discussion. Items can be removed from the consent agenda at the request of the Board member\, staff member\, or a member of the audience. Please state which item or items you wish to remove for separate discussion.\n\na) Regular Board Meeting Minutes – August 22\, 2024\nb) Special Board Meeting Minutes – October 2\, 2024\nc) Regular Board Meeting Minutes – October 10\, 2024\nd) Special Board Meeting Minutes – October 15\, 2024\ne) Regular Board Meeting Minutes – October 24\, 2024\nf) Special Board Meeting Minutes – October 29\, 2024\n\nCLFLWD YouTube Channel (for watching past meetings)\n\n\n\n\nPublic Open Forum\nCitizen Advisory Committee Update (Added 11/22/24)\nAquatic Invasive Species Update\nNew Business\n\na) WCD 2025 Service Agreement\nb) MN Watersheds Annual Meeting Delegate Appointments\nc) MN Watersheds Resolutions\nd) Lower St. Croix Watershed Partnership 2025-2026 Work Plan\ne) 2025 CLFLWD Staff Work Plan\nf) HR and Staffing Updates\n\n\nOld Business\n\na) Biennial Professional Services RFP\nb) Clean Water Partnership Loan D Agreement\nc) Update on Floodplain Vulnerability Modeling\n\n\nReport of Staff\n\na) Administrator\n\nProject Update\n\n\nb) Emmons and Olivier Resources\nc) Smith Partners\n\n\nReport of Treasurer and Approval of Bills\nReport of Officers and Managers\nSummary and Approval of Board Direction\nAdministrator Review [may convene in closed session]\n Adjourn\n\na) Next regular board meeting – December 19\, 2024\, 6:30 pm
URL:https://clflwd.org/event/11-21-24-regular-board-meeting/
CATEGORIES:Regular Meeting
END:VEVENT
BEGIN:VEVENT
DTSTART;TZID=America/Chicago:20241119T183000
DTEND;TZID=America/Chicago:20241119T193000
DTSTAMP:20260425T054431
CREATED:20240911T153308Z
LAST-MODIFIED:20240911T153308Z
UID:10141-1732041000-1732044600@clflwd.org
SUMMARY:Fall Septic System Care Class
DESCRIPTION:How does your individual septic system really work? How can you as a homeowner care for and protect your investment to maximize the life of the system? There are many simple things you can do to extend the life of your septic system while at the same time maximizing efficiency\, reducing expensive repairs\, and protecting water quality. Participants will receive an informational folder full of great publications\, a native plant book\, and several door prizes will be given away from local plant specialists.\nhttps://isd2144.ce.eleyo.com/course/2400/fall-2024/fall-septic-system-care
URL:https://clflwd.org/event/fall-septic-system-care-class-2/
LOCATION:Chisago Lakes High School\, 29400 Olinda Trail\, Lindstrom\, MN\, United States
CATEGORIES:Workshops/Presentations
END:VEVENT
BEGIN:VEVENT
DTSTART;TZID=America/Chicago:20241119T170000
DTEND;TZID=America/Chicago:20241119T180000
DTSTAMP:20260425T054431
CREATED:20240725T183122Z
LAST-MODIFIED:20240812T203749Z
UID:7161-1732035600-1732039200@clflwd.org
SUMMARY:11/19/2024 CAC Meeting
DESCRIPTION:
URL:https://clflwd.org/event/11-19-2024-cac-meeting/
CATEGORIES:CAC Meeting
END:VEVENT
END:VCALENDAR