BEGIN:VCALENDAR
VERSION:2.0
PRODID:-//Comfort Lake Forest Lake Watershed District - ECPv6.15.14//NONSGML v1.0//EN
CALSCALE:GREGORIAN
METHOD:PUBLISH
X-WR-CALNAME:Comfort Lake Forest Lake Watershed District
X-ORIGINAL-URL:https://clflwd.org
X-WR-CALDESC:Events for Comfort Lake Forest Lake Watershed District
REFRESH-INTERVAL;VALUE=DURATION:PT1H
X-Robots-Tag:noindex
X-PUBLISHED-TTL:PT1H
BEGIN:VTIMEZONE
TZID:America/Chicago
BEGIN:DAYLIGHT
TZOFFSETFROM:-0600
TZOFFSETTO:-0500
TZNAME:CDT
DTSTART:20210314T080000
END:DAYLIGHT
BEGIN:STANDARD
TZOFFSETFROM:-0500
TZOFFSETTO:-0600
TZNAME:CST
DTSTART:20211107T070000
END:STANDARD
BEGIN:DAYLIGHT
TZOFFSETFROM:-0600
TZOFFSETTO:-0500
TZNAME:CDT
DTSTART:20220313T080000
END:DAYLIGHT
BEGIN:STANDARD
TZOFFSETFROM:-0500
TZOFFSETTO:-0600
TZNAME:CST
DTSTART:20221106T070000
END:STANDARD
BEGIN:DAYLIGHT
TZOFFSETFROM:-0600
TZOFFSETTO:-0500
TZNAME:CDT
DTSTART:20230312T080000
END:DAYLIGHT
BEGIN:STANDARD
TZOFFSETFROM:-0500
TZOFFSETTO:-0600
TZNAME:CST
DTSTART:20231105T070000
END:STANDARD
BEGIN:DAYLIGHT
TZOFFSETFROM:-0600
TZOFFSETTO:-0500
TZNAME:CDT
DTSTART:20240310T080000
END:DAYLIGHT
BEGIN:STANDARD
TZOFFSETFROM:-0500
TZOFFSETTO:-0600
TZNAME:CST
DTSTART:20241103T070000
END:STANDARD
END:VTIMEZONE
BEGIN:VEVENT
DTSTART;TZID=America/Chicago:20230323T183000
DTEND;TZID=America/Chicago:20230323T200000
DTSTAMP:20260425T103738
CREATED:20240725T182429Z
LAST-MODIFIED:20240820T213602Z
UID:7062-1679596200-1679601600@clflwd.org
SUMMARY:3/23/23 Board Meeting
DESCRIPTION:Remote Attendance Instructions:\nClick here to join the zoom meeting online or dial by phone: 301-715-8592. Meeting ID: 189 134 191 \nMeeting Notice & Agenda\n\nCall to Order of Regular Meeting\nSetting of Meeting Agenda\nConsent Agenda: The consent agenda is considered as one item of business. It consists of routine administrative items or items not requiring discussion. Items can be removed from the consent agenda at the request of the Board member\, staff member\, or a member of the audience. Please state which item or items you wish to remove for separate discussion.\n\na) Board Meeting Minutes – January\, 26\, 2023\nb) Board Meeting Minutes – February\, 9\, 2023\nc) Board Meeting Minutes – February 23\, 2023\n\n\nPublic Open Forum\nCitizen Advisory Committee Update\n\na) CAC Member Appointment \n\n\nAquatic Invasive Species Update\nNew Business\n\na) Forest Lake Alum Treatment Scope of Work\nEmmons and Olivier Resources Presentation\nb) 2022 Year in Review\, Annual Report\, Progress Report\nc) 2022 DIY and CAT Water Monitoring Report\n\n\nOld Business\n\na) Residential Cost-Share Program Framework\nb) Clean Water Partnership Loan B\n\n\nReport of Staff\n\na) Administrator\nb) Emmons and Olivier Resources\nc) Smith Partners\n\n\nReport of Treasurer\n\na) Approval of Bills and Treasurer’s Report\n\n\nReport of Officers and managers\nSummary and Approval of Board Direction\nAdjourn\n\na) Next Regular Board Meeting – April\, 13\, 2023
URL:https://clflwd.org/event/3-23-23-board-meeting/
CATEGORIES:Regular Meeting
END:VEVENT
BEGIN:VEVENT
DTSTART;TZID=America/Chicago:20230314T170000
DTEND;TZID=America/Chicago:20230314T183000
DTSTAMP:20260425T103738
CREATED:20240725T182359Z
LAST-MODIFIED:20240820T213723Z
UID:7049-1678813200-1678818600@clflwd.org
SUMMARY:3/14/23 CAC Meeting
DESCRIPTION:Meeting Notice & Agenda\nFull agenda and meeting items will be posted on this page no later than the Monday immediately preceding the meeting. \nOnline: https://us02web.zoom.us/j/3185987668 | Phone: 1.312.626.679 | Meeting ID: 318 598 7668
URL:https://clflwd.org/event/3-14-23-cac-meeting/
CATEGORIES:CAC Meeting
END:VEVENT
BEGIN:VEVENT
DTSTART;TZID=America/Chicago:20230309T183000
DTEND;TZID=America/Chicago:20230309T200000
DTSTAMP:20260425T103738
CREATED:20240725T182430Z
LAST-MODIFIED:20240820T213859Z
UID:7063-1678386600-1678392000@clflwd.org
SUMMARY:3/9/23 Board Meeting
DESCRIPTION:Remote Attendance Instructions:\nClick here to join the zoom meeting online or dial by phone: 301-715-8592. Meeting ID: 189 134 191 \nMeeting Notice & Agenda\n\nCall to Order of Regular Meeting\nSetting of Meeting Agenda\nConsent Agenda: The consent agenda is considered as one item of business. It consists of routine administrative items or items not requiring discussion. Items can be removed from the consent agenda at the request of the Board member\, staff member\, or a member of the audience. Please state which item or items you wish to remove for separate discussion.\n\na) Board Meeting Minutes – January\, 12\, 2023 \nb) Board Meeting Minutes – January\, 26\, 2023\n\n\nPublic Open Hearing: Moody Lake Capstone Project Ordering\nNew Business\n\na) 2023 AIS Prevention & Management Plan\nb) 2023 CLFLWD and Chisago County WCI Joint Powers Agreement\nc) Moody Lake Capstone Project Ordering & Scope of Work\nd) Little Comfort Infiltration Basin Feasibility Scope of Work\ne) Residential Cost-Share Program Framework\nf) Washington County Tax Forfeit Properties\n\n\nOld Business\n\na) Comfort Lakes Association Whole Lake Fluridone Treatment Reimbursement Request\n\n\nProgram/Project Update\n\na) Project Update\n\n\nSummary and Approval of Board Direction\nAdjourn\n\na) Next Regular Board Meeting – March\, 23\, 2023
URL:https://clflwd.org/event/3-9-23-board-meeting/
CATEGORIES:Regular Meeting
END:VEVENT
BEGIN:VEVENT
DTSTART;TZID=America/Chicago:20230307T100000
DTEND;TZID=America/Chicago:20230307T130000
DTSTAMP:20260425T103738
CREATED:20240725T182544Z
LAST-MODIFIED:20240820T214109Z
UID:7086-1678183200-1678194000@clflwd.org
SUMMARY:Ag Equipment Set Up and Economic Operations
DESCRIPTION:What are the most effective equipment set ups for reduced till\, strip till\, and no-till? Hear from Craig Kesteloot of Sterling Equipment and Repair about successful planter and equipment set ups for reduced to no-till systems and assessment of costs\, fuel usage\, and time to improve economics and leverage risk. Free to attend!\nJoin us for great conversations and stay for lunch!\nRSVP By 2/28 to ensure a plate for lunch at https://forms.gle/dyEQN88Pzxy3Dknv5
URL:https://clflwd.org/event/ag-equipment-set-up-and-economic-operations/
LOCATION:Scandia Community Center\, 14727 209th St. N.\, Scandia\, MN\, 55073\, United States
CATEGORIES:Workshops/Presentations
END:VEVENT
BEGIN:VEVENT
DTSTART;TZID=America/Chicago:20230302T150000
DTEND;TZID=America/Chicago:20230302T170000
DTSTAMP:20260425T103738
CREATED:20240725T182529Z
LAST-MODIFIED:20240820T214329Z
UID:7082-1677769200-1677776400@clflwd.org
SUMMARY:Water Monitoring: The science behind keeping our lakes healthy
DESCRIPTION:How healthy are our lakes? How do we know if they are improving or declining? How can I help protect our local waterways? If you’ve ever asked yourself these questions\, this presentation is for you! Water monitoring experts from the Comfort Lake-Forest Lake Watershed District will be giving a hands-on demonstration on how the health of our local lakes and streams are monitored. Attendees will learn about the current health of our lakes\, the factors that are used to determine that health rating\, and the various citizen science programs available to residents. This presentation is great for adults looking to make a stronger connection with their local water resources and for young adults considering a career in natural resources and looking for volunteer opportunities to gain hands-on experience. \nRSVP: https://forms.gle/PkXwzauv87PxsQFm7
URL:https://clflwd.org/event/water-monitoring-the-science-behind-keeping-our-lakes-healthy/
LOCATION:Hardwood Creek Library\, 19955 Forest Rd N\, Forest Lake\, MN\, 55025\, United States
CATEGORIES:Workshops/Presentations
END:VEVENT
BEGIN:VEVENT
DTSTART;TZID=America/Chicago:20230223T183000
DTEND;TZID=America/Chicago:20230223T200000
DTSTAMP:20260425T103738
CREATED:20240725T182429Z
LAST-MODIFIED:20240820T215227Z
UID:7061-1677177000-1677182400@clflwd.org
SUMMARY:2/23/23 Board Meeting
DESCRIPTION:Remote Attendance Instructions:\nClick here to join the zoom meeting online or dial by phone: 301-715-8592. Meeting ID: 189 134 191 \nMeeting Notice & Agenda\n\nCall to Order of Regular Meeting\nSetting of Meeting Agenda\nConsent Agenda: The consent agenda is considered as one item of business. It consists of routine administrative items or items not requiring discussion. Items can be removed from the consent agenda at the request of the Board member\, staff member\, or a member of the audience. Please state which item or items you wish to remove for separate discussion.\n\na) Board Meeting Minutes – December\, 15\, 2022\n\n\nPublic Hearing: WJD-6 Wetland Restoration Project Ordering\nPublic Open Forum\nCitizen Advisory Committee Update\n\na) CAC Appointment\n\n\nNew Business\n\na) WJD-6 Wetland Project Ordering & Scope of Work\nb) 2023 CLFLWD and Chisago County WCI Joint Powers Agreement\n\n\nOld Business\n\na) Comfort Lakes Association Funding Request\n\n\nReport of Staff\n\na) Administrator\nb) Emmons and Olivier Resources\nc) Smith Partners\n\n\nReport of Treasurer\n\na) Approval of Bills and Treasurer’s Report\n\n\nReport of Officers and managers\nSummary and Approval of Board Direction\nAdjourn\n\na) Next Regular Board Meeting – March\, 9\, 2023
URL:https://clflwd.org/event/2-23-23-board-meeting/
CATEGORIES:Regular Meeting
END:VEVENT
BEGIN:VEVENT
DTSTART;TZID=America/Chicago:20230221T150000
DTEND;TZID=America/Chicago:20230221T170000
DTSTAMP:20260425T103738
CREATED:20240725T182529Z
LAST-MODIFIED:20240820T215513Z
UID:7081-1676991600-1676998800@clflwd.org
SUMMARY:Perennial Planting Primer: Getting Started with Native Plants
DESCRIPTION:Recent years have seen a big increase in the popularity of incorporating native plants into our landscapes\, but where do you start? This presentation will introduce some of the most common native plants available in our area and address common misconceptions. Attendees will also receive information on the local resources available for both funding and technical assistance in starting their own native plant project. \nRSVP: https://forms.gle/akTfffep9Vm7mG9k6
URL:https://clflwd.org/event/perennial-planting-primer-getting-started-with-native-plants/
LOCATION:Hardwood Creek Library\, 19955 Forest Rd N\, Forest Lake\, MN\, 55025\, United States
CATEGORIES:Workshops/Presentations
END:VEVENT
BEGIN:VEVENT
DTSTART;TZID=America/Chicago:20230214T170000
DTEND;TZID=America/Chicago:20230214T183000
DTSTAMP:20260425T103738
CREATED:20240725T182358Z
LAST-MODIFIED:20240820T215642Z
UID:7048-1676394000-1676399400@clflwd.org
SUMMARY:2/14/23 CAC Meeting
DESCRIPTION:Meeting Notice & Agenda\nFull agenda and meeting items will be posted on this page no later than the Monday immediately preceding the meeting. \nOnline: https://us02web.zoom.us/j/3185987668 | Phone: 1.312.626.679 | Meeting ID: 318 598 7668
URL:https://clflwd.org/event/2-14-23-cac-meeting/
CATEGORIES:CAC Meeting
END:VEVENT
BEGIN:VEVENT
DTSTART;TZID=America/Chicago:20230211T100000
DTEND;TZID=America/Chicago:20230211T120000
DTSTAMP:20260425T103738
CREATED:20240725T182529Z
LAST-MODIFIED:20240820T215834Z
UID:7080-1676109600-1676116800@clflwd.org
SUMMARY:From Corn and Beans\, to Goats and Greens: Conservation practices for farms of all sizes
DESCRIPTION:Our local farms\, big and small\, provide our community with food\, fuel\, and fiber. Their operations are detailed\, complex\, and driven by the latest scientific information. This presentation has been specifically developed for farmers of all sizes to learn more about soil health and conservation farming practices. Experts from the Comfort Lake-Forest Lake Watershed District (CLFLWD) will provide an introduction on various conservation practices and the funding resources that are available for implementing those practices. \nRSVP: https://forms.gle/dhvAWjN6VpACw8Wx8
URL:https://clflwd.org/event/from-corn-and-beans-to-goats-and-greens-conservation-practices-for-farms-of-all-sizes/
LOCATION:Hardwood Creek Library\, 19955 Forest Rd N\, Forest Lake\, MN\, 55025\, United States
CATEGORIES:Workshops/Presentations
END:VEVENT
BEGIN:VEVENT
DTSTART;TZID=America/Chicago:20230209T183000
DTEND;TZID=America/Chicago:20230209T200000
DTSTAMP:20260425T103739
CREATED:20240725T182429Z
LAST-MODIFIED:20240820T220039Z
UID:7060-1675967400-1675972800@clflwd.org
SUMMARY:2/9/23 Board Meeting
DESCRIPTION:Remote Attendance Instructions:\nClick here to join the zoom meeting online or dial by phone: 301-715-8592. Meeting ID: 189 134 191 \nMeeting Notice & Agenda\n\nCall to Order of Regular Meeting\nSetting of Meeting Agenda\nNew Business\n\na) Midwest Glacial Lakes Partnership Grant Application\nb) FY23 Clean Water Fund Grant Agreement\n\n\nOld Business\n\na)  Eurasian Watermilfoil Management Considerations & Watershed Management Plan Amendment\n\nStaff’s Eurasian Watermilfoil Management Recommendation\n\n\n\n\nProgram/Project Update\n\na) Project Update\nb) Program Update – 3006 Interagency Communication\n\n\nSummary and Approval of Board Direction\nAdministrator Review [May convene in closed session]\nAdjourn\n\na) Next Regular Board Meeting – February 23\, 2023 @ 6:30pm
URL:https://clflwd.org/event/2-9-23-board-meeting/
CATEGORIES:Regular Meeting
END:VEVENT
BEGIN:VEVENT
DTSTART;TZID=America/Chicago:20230130T140000
DTEND;TZID=America/Chicago:20230130T160000
DTSTAMP:20260425T103739
CREATED:20240725T182529Z
LAST-MODIFIED:20240820T220635Z
UID:7083-1675087200-1675094400@clflwd.org
SUMMARY:1/30/23 Special Board Meeting
DESCRIPTION:Remote Attendance Instructions:\nClick here to join the zoom meeting online or dial by phone: 301-715-8592. Meeting ID: 189 134 191 \nMeeting Notice & Agenda\n\nCall to Order of Special Meeting (Agenda)\nAdministrator Review Process Discussion\nAdministrator Review [May convene in closed session]\nAdjourn\n\na) Next Regular Board Meeting – February 9\, 2023 @ 6:30pm
URL:https://clflwd.org/event/1-30-23-special-board-meeting/
CATEGORIES:Special Meeting
END:VEVENT
BEGIN:VEVENT
DTSTART;TZID=America/Chicago:20230126T183000
DTEND;TZID=America/Chicago:20230126T200000
DTSTAMP:20260425T103739
CREATED:20240725T182429Z
LAST-MODIFIED:20240820T220913Z
UID:7059-1674757800-1674763200@clflwd.org
SUMMARY:1/26/23 Board Meeting
DESCRIPTION:Remote Attendance Instructions:\nClick here to join the zoom meeting online or dial by phone: 301-715-8592. Meeting ID: 189 134 191 \nMeeting Notice & Agenda\n\nCall to Order of Regular Meeting\nSetting of Meeting Agenda\nConsent Agenda: The consent agenda is considered as one item of business. It consists of routine administrative items or items not requiring discussion. Items can be removed from the consent agenda at the request of the Board member\, staff member\, or a member of the audience. Please state which item or items you wish to remove for separate discussion.\n\na) Special Board Meeting Minutes – December 5\, 2022 \n\n\nPublic Open Forum\nCitizen Advisory Committee Update\n\na) Committee Appointments\n\n\nAquatic Invasive Species Update\n\na) 2022 AIS and Watercraft Inspection Reports\nb) Blue Water Science Service Agreement\n\n\nNew Business\n\na) Budget Transfer for Audit Services\nb) Website Preview\n\n\nOld Business\n\na) Potential Watershed Management Plan Amendment\nb) Eurasian Watermilfoil (EWM) Management Considerations and Options\n\n\nReport of Staff\n\na) Administrator\nb) Emmons and Olivier Resources\nc) Smith Partners\n\n\nReport of Treasurer\n\na) Approval of Bills and Treasurer’s Report\n\n\nReport of Officers and managers\nSummary and Approval of Board Direction\nLand Acquisition – Gravel Pit [may convene in closed session]\nAdjourn\n\na) Next Regular Board Meeting – February 9\, 2023 @ 6:30pm
URL:https://clflwd.org/event/1-26-23-board-meeting/
CATEGORIES:Regular Meeting
END:VEVENT
BEGIN:VEVENT
DTSTART;TZID=America/Chicago:20230117T170000
DTEND;TZID=America/Chicago:20230117T183000
DTSTAMP:20260425T103739
CREATED:20240725T182358Z
LAST-MODIFIED:20240820T221051Z
UID:7047-1673974800-1673980200@clflwd.org
SUMMARY:1/17/23 CAC Meeting
DESCRIPTION:Meeting Notice & Agenda\nFull agenda and meeting items will be posted on this page no later than the Monday immediately preceding the meeting. \nOnline: https://us02web.zoom.us/j/3185987668 | Phone: 1.312.626.679 | Meeting ID: 318 598 7668
URL:https://clflwd.org/event/1-17-23-cac-meeting/
CATEGORIES:CAC Meeting
END:VEVENT
BEGIN:VEVENT
DTSTART;TZID=America/Chicago:20230112T183000
DTEND;TZID=America/Chicago:20230112T200000
DTSTAMP:20260425T103739
CREATED:20240725T182358Z
LAST-MODIFIED:20240820T221213Z
UID:7046-1673548200-1673553600@clflwd.org
SUMMARY:1/12/23 Board Meeting
DESCRIPTION:Remote Attendance Instructions:\nClick here to join the zoom meeting online or dial by phone: 301-715-8592. Meeting ID: 189 134 191 \nMeeting Notice & Agenda\n\nCall to Order of Regular Meeting\nSetting of Meeting Agenda\nConsent Agenda: The consent agenda is considered as one item of business. It consists of routine administrative items or items not requiring discussion. Items can be removed from the consent agenda at the request of the Board member\, staff member\, or a member of the audience. Please state which item or items you wish to remove for separate discussion.\n\na) Regular Board Meeting Minutes – November 17\, 2022\n\n\nNew Business\n\na) Election of Officers & Liaison Appointments\nb) Designation of Official Newspapers & Banks\n\n\nOld Business\n\na) H&H Model Update Final Report & Presentation\nb) AIS Detector Training\nc) Eurasian Watermilfoil Management\nd) Potential Watershed Management Plan Amendment\ne) District Office Lease\n\n\nProgram/Project Update\n\na) Project Update\n\n\nSummary and Approval of Board Direction\nLand Acquisition – Bone Lake South\nAdjourn\n\na) Next Regular Board Meeting – January 12\, 2023\n\n\n\nPresentations: \n\nH&H Model Presentation
URL:https://clflwd.org/event/1-12-23-board-meeting/
CATEGORIES:Regular Meeting
END:VEVENT
BEGIN:VEVENT
DTSTART;TZID=America/Chicago:20221215T183000
DTEND;TZID=America/Chicago:20221215T200000
DTSTAMP:20260425T103739
CREATED:20240725T182357Z
LAST-MODIFIED:20240820T221348Z
UID:7044-1671129000-1671134400@clflwd.org
SUMMARY:12/15/22 Board Meeting
DESCRIPTION:Remote Attendance Instructions:\nClick here to join the zoom meeting online or dial by phone: 301-715-8592. Meeting ID: 189 134 191 \nMeeting Notice & Agenda\n\nCall to Order of Regular Meeting\nSetting of Meeting Agenda\nConsent Agenda: The consent agenda is considered as one item of business. It consists of routine administrative items or items not requiring discussion. Items can be removed from the consent agenda at the request of the Board member\, staff member\, or a member of the audience. Please state which item or items you wish to remove for separate discussion.\n\na) Regular Board Meeting Minutes – October 13\, 2022\nb) Regular Board Meeting Minutes – October 27\, 2022\n\n\nPublic Comments on the 2023 Budget and Levy\nPublic Open Forum\nCitizen Advisory Committee Update\nAquatic Invasive Species Update\n\na) 2022 AIS Program Yearend Summary\nb) 2022 Watercraft Inspection Report\nc) 2022 Blue Water Science Reports\n\nBone Lake Curlyleaf Pondweed & Eurasian Watermilfoil Report\nComfort Lake Curlyleaf Pondweed\, Eurasian Watermilfoil\, & Point-Intercept Survey Report\nForest Lake Curlyleaf Pondweed & Eurasian Watermilfoil Report (Draft)\nForest Lake Flowering Rush Report\nMoody Lake Curlyleaf Pondweed Report\nShields Lake Curlyleaf Pondweed Report\n\n\nd) 2022 WSB Shields Lake Carp Report\n\n\nNew Business\n\na) Permit 22-038\nb) Forest Lake & Little Comfort Lake Paleo Sediment Cores\nc) 2023 Board Meeting Schedule\nd) Climate Resiliency Planning Grant\ne) Bone Lake Northeast Wetland Project Closeout\n\n\nOld Business\n\na) 2023 Staff Work Plan & Administrator Review\nb) Little Comfort Lake Project & Budget Transfer\nc) Lake Association Grant Program\nd) MS4 Follow Up Items\n\n\nProgram/Project Update\n\na) Project Update\n\n\nReport of Staff\n\na) Administrator\nb) Emmons and Olivier Resources\nc) Smith Partners\n\n\nReport of Treasurer\n\na) Approval of Bills and Treasurer’s Report\n\n\nReport of Officers and managers\nSummary and Approval of Board Direction\nAdjourn\n\na) Next Regular Board Meeting – January 12\, 2023
URL:https://clflwd.org/event/12-15-22-board-meeting/
CATEGORIES:Regular Meeting
END:VEVENT
BEGIN:VEVENT
DTSTART;TZID=America/Chicago:20221027T183000
DTEND;TZID=America/Chicago:20221027T203000
DTSTAMP:20260425T103739
CREATED:20240725T182357Z
LAST-MODIFIED:20240820T221838Z
UID:7045-1666895400-1666902600@clflwd.org
SUMMARY:10/27/22 Board Meeting
DESCRIPTION:Remote Attendance Instructions:\nClick here to join the zoom meeting online or dial by phone: 301-715-8592. Meeting ID: 189 134 191 \nMeeting Notice & Agenda\n\nCall to Order of Regular Meeting\nSetting of Meeting Agenda\nConsent Agenda: The consent agenda is considered as one item of business. It consists of routine administrative items or items not requiring discussion. Items can be removed from the consent agenda at the request of the Board member\, staff member\, or a member of the audience. Please state which item or items you wish to remove for separate discussion.\n\na) Special Board Meeting Minutes – September 1\, 2022\nb) Regular Board Meeting Minutes – September 8\, 2022\nc) Regular Board Meeting Minutes – September 22\, 2022\n\n\nPublic Open Forum\nCitizen Advisory Committee Update\nAquatic Invasive Species Update\nNew Business\n\na) 22-030 Bottem Landscaping Parking Lot\nb) 22-035 880 Parking Lot\n\n\nOld Business\n\na) 2023-2024 Professional Services RFP\n\n\nReport of Staff\n\na) Administrator\nb) Emmons and Olivier Resources\nc) Smith Partners\n\n\nReport of Treasurer\n\na) Approval of Bills and Treasurer’s Report\n\n\nReport of Officers and managers\nSummary and Approval of Board Direction\nAdjourn\n\na) Next Regular Board Meeting – November 17\, 2022
URL:https://clflwd.org/event/10-27-22-board-meeting/
CATEGORIES:Regular Meeting
END:VEVENT
END:VCALENDAR