BEGIN:VCALENDAR
VERSION:2.0
PRODID:-//Comfort Lake Forest Lake Watershed District - ECPv6.15.14//NONSGML v1.0//EN
CALSCALE:GREGORIAN
METHOD:PUBLISH
X-ORIGINAL-URL:https://clflwd.org
X-WR-CALDESC:Events for Comfort Lake Forest Lake Watershed District
REFRESH-INTERVAL;VALUE=DURATION:PT1H
X-Robots-Tag:noindex
X-PUBLISHED-TTL:PT1H
BEGIN:VTIMEZONE
TZID:America/Chicago
BEGIN:DAYLIGHT
TZOFFSETFROM:-0600
TZOFFSETTO:-0500
TZNAME:CDT
DTSTART:20240310T080000
END:DAYLIGHT
BEGIN:STANDARD
TZOFFSETFROM:-0500
TZOFFSETTO:-0600
TZNAME:CST
DTSTART:20241103T070000
END:STANDARD
BEGIN:DAYLIGHT
TZOFFSETFROM:-0600
TZOFFSETTO:-0500
TZNAME:CDT
DTSTART:20250309T080000
END:DAYLIGHT
BEGIN:STANDARD
TZOFFSETFROM:-0500
TZOFFSETTO:-0600
TZNAME:CST
DTSTART:20251102T070000
END:STANDARD
BEGIN:DAYLIGHT
TZOFFSETFROM:-0600
TZOFFSETTO:-0500
TZNAME:CDT
DTSTART:20260308T080000
END:DAYLIGHT
BEGIN:STANDARD
TZOFFSETFROM:-0500
TZOFFSETTO:-0600
TZNAME:CST
DTSTART:20261101T070000
END:STANDARD
END:VTIMEZONE
BEGIN:VEVENT
DTSTART;TZID=America/Chicago:20250224T173000
DTEND;TZID=America/Chicago:20250224T190000
DTSTAMP:20260423T105238
CREATED:20250114T155844Z
LAST-MODIFIED:20250218T212817Z
UID:11098-1740418200-1740423600@clflwd.org
SUMMARY:Watershed Connections: Changing Climate Trends and Local Impacts
DESCRIPTION:Kenny Blumenfeld is a Minnesota DNR climatologist who has been fascinated by storms and weather extremes his whole life\, and who enjoys helping Minnesotans understand their weather and climate. He will discuss long-term\, ongoing\, and projected climate trends\, along with recent weather and climate extremes in the region. The Comfort Lake-Forest Lake area has become warmer on average\, particularly during the winter\, and also has become more humid and wetter\, even when accounting for recent drought. Projections indicate the area will keep getting warmer and wetter on average\, with even greater extremes of winter warmth\, humid summertime heat\, and precipitation than have yet been observed. \nThis FREE workshop will be held at the Forest Lake Senior Community Center (767 4th St SW\, Forest Lake\, MN 55025) starting at 5:30 p.m. The workshop includes an hour presentation\, a box supper\, and time for open discussion after the presentation. \nPlease RSVP before Friday\, February 21st for this workshop\, so we have an accurate headcount for food and seating. To register\, please contact the CLFLWD at 651-395-5850 or by email. \nEvent Flyer \nOPEN MEETING NOTICE
URL:https://clflwd.org/event/watershed-connections-changing-climate-trends-and-local-impacts/
LOCATION:Forest Lake Senior Community  Center\, 767 4th St SW\, Forest Lake\, MN\, 55025
CATEGORIES:Workshops/Presentations
END:VEVENT
END:VCALENDAR