BEGIN:VCALENDAR
VERSION:2.0
PRODID:-//Comfort Lake Forest Lake Watershed District - ECPv6.15.14//NONSGML v1.0//EN
CALSCALE:GREGORIAN
METHOD:PUBLISH
X-ORIGINAL-URL:https://clflwd.org
X-WR-CALDESC:Events for Comfort Lake Forest Lake Watershed District
REFRESH-INTERVAL;VALUE=DURATION:PT1H
X-Robots-Tag:noindex
X-PUBLISHED-TTL:PT1H
BEGIN:VTIMEZONE
TZID:America/Chicago
BEGIN:DAYLIGHT
TZOFFSETFROM:-0600
TZOFFSETTO:-0500
TZNAME:CDT
DTSTART:20240310T080000
END:DAYLIGHT
BEGIN:STANDARD
TZOFFSETFROM:-0500
TZOFFSETTO:-0600
TZNAME:CST
DTSTART:20241103T070000
END:STANDARD
BEGIN:DAYLIGHT
TZOFFSETFROM:-0600
TZOFFSETTO:-0500
TZNAME:CDT
DTSTART:20250309T080000
END:DAYLIGHT
BEGIN:STANDARD
TZOFFSETFROM:-0500
TZOFFSETTO:-0600
TZNAME:CST
DTSTART:20251102T070000
END:STANDARD
BEGIN:DAYLIGHT
TZOFFSETFROM:-0600
TZOFFSETTO:-0500
TZNAME:CDT
DTSTART:20260308T080000
END:DAYLIGHT
BEGIN:STANDARD
TZOFFSETFROM:-0500
TZOFFSETTO:-0600
TZNAME:CST
DTSTART:20261101T070000
END:STANDARD
END:VTIMEZONE
BEGIN:VEVENT
DTSTART;TZID=America/Chicago:20250220T183000
DTEND;TZID=America/Chicago:20250220T193000
DTSTAMP:20260423T121005
CREATED:20250113T215353Z
LAST-MODIFIED:20250113T215353Z
UID:11063-1740076200-1740079800@clflwd.org
SUMMARY:Top Twenty Tough Native Plants
DESCRIPTION:Learn how to put down some roots and use native plants in your landscaping\, flower gardens\, and everywhere else. We will help identify some of our favorite no-fail natives for a wide variety of soils\, shade levels\, and overall hardiness. These are the rough\, tumble\, aggressive\, and easy to find native plants. Also learn some easy ways to integrate native plants into your current landscaping\, or start a whole new project. Participants will receive a free native plant book and there will be several gift certificates from local nurseries given away as door prizes.
URL:https://clflwd.org/event/top-twenty-tough-native-plants/
LOCATION:Chisago Lakes High School\, 29400 Olinda Trail\, Lindstrom\, MN\, United States
CATEGORIES:Workshops/Presentations
END:VEVENT
END:VCALENDAR