BEGIN:VCALENDAR
VERSION:2.0
PRODID:-//Comfort Lake Forest Lake Watershed District - ECPv6.15.14//NONSGML v1.0//EN
CALSCALE:GREGORIAN
METHOD:PUBLISH
X-ORIGINAL-URL:https://clflwd.org
X-WR-CALDESC:Events for Comfort Lake Forest Lake Watershed District
REFRESH-INTERVAL;VALUE=DURATION:PT1H
X-Robots-Tag:noindex
X-PUBLISHED-TTL:PT1H
BEGIN:VTIMEZONE
TZID:America/Chicago
BEGIN:DAYLIGHT
TZOFFSETFROM:-0600
TZOFFSETTO:-0500
TZNAME:CDT
DTSTART:20230312T080000
END:DAYLIGHT
BEGIN:STANDARD
TZOFFSETFROM:-0500
TZOFFSETTO:-0600
TZNAME:CST
DTSTART:20231105T070000
END:STANDARD
BEGIN:DAYLIGHT
TZOFFSETFROM:-0600
TZOFFSETTO:-0500
TZNAME:CDT
DTSTART:20240310T080000
END:DAYLIGHT
BEGIN:STANDARD
TZOFFSETFROM:-0500
TZOFFSETTO:-0600
TZNAME:CST
DTSTART:20241103T070000
END:STANDARD
BEGIN:DAYLIGHT
TZOFFSETFROM:-0600
TZOFFSETTO:-0500
TZNAME:CDT
DTSTART:20250309T080000
END:DAYLIGHT
BEGIN:STANDARD
TZOFFSETFROM:-0500
TZOFFSETTO:-0600
TZNAME:CST
DTSTART:20251102T070000
END:STANDARD
END:VTIMEZONE
BEGIN:VEVENT
DTSTART;TZID=America/Chicago:20240918T170000
DTEND;TZID=America/Chicago:20240918T193000
DTSTAMP:20260423T193014
CREATED:20240909T204319Z
LAST-MODIFIED:20240909T211424Z
UID:10107-1726678800-1726687800@clflwd.org
SUMMARY:State of the Watershed and 25th Anniversary Banquet
DESCRIPTION:The Comfort Lake – Forest Lake Watershed District (CLFLWD) would like to extend an invitation to the State of the Watershed and 25th Anniversary Banquet to be held on September 18th from 5:00 p.m. to 7:30 p.m. at the Forest Lake American Legion.\nThe State of the Watershed aims to provide citizens and partners with insight into the District’s programming\, projects\, and activities. The evening will commence with a social half hour followed by a comprehensive presentation by the District staff and board members.\nFollowing the presentation\, we will have a buffet-style dinner and 25th anniversary reception. During the reception\, the 2024 Watershed Champion Award recipients will be honored.\nWe look forward to seeing you and sharing in the evening’s programming and networking.\nPlease RSVP via email to adam.hjelm@clflwd.org or by phone to (651) 395-5850 by September 6th.\n\nOPEN MEETING NOTICE
URL:https://clflwd.org/event/state-of-the-watershed-and-25th-anniversary-banquet/
LOCATION:Forest Lake American Legion\, 355 W Broadway Ave\, Forest Lake\, MN\, 55025\, United States
CATEGORIES:Special Meeting,Workshops/Presentations
END:VEVENT
END:VCALENDAR