BEGIN:VCALENDAR
VERSION:2.0
PRODID:-//Comfort Lake Forest Lake Watershed District - ECPv6.15.14//NONSGML v1.0//EN
CALSCALE:GREGORIAN
METHOD:PUBLISH
X-ORIGINAL-URL:https://clflwd.org
X-WR-CALDESC:Events for Comfort Lake Forest Lake Watershed District
REFRESH-INTERVAL;VALUE=DURATION:PT1H
X-Robots-Tag:noindex
X-PUBLISHED-TTL:PT1H
BEGIN:VTIMEZONE
TZID:America/Chicago
BEGIN:DAYLIGHT
TZOFFSETFROM:-0600
TZOFFSETTO:-0500
TZNAME:CDT
DTSTART:20220313T080000
END:DAYLIGHT
BEGIN:STANDARD
TZOFFSETFROM:-0500
TZOFFSETTO:-0600
TZNAME:CST
DTSTART:20221106T070000
END:STANDARD
BEGIN:DAYLIGHT
TZOFFSETFROM:-0600
TZOFFSETTO:-0500
TZNAME:CDT
DTSTART:20230312T080000
END:DAYLIGHT
BEGIN:STANDARD
TZOFFSETFROM:-0500
TZOFFSETTO:-0600
TZNAME:CST
DTSTART:20231105T070000
END:STANDARD
BEGIN:DAYLIGHT
TZOFFSETFROM:-0600
TZOFFSETTO:-0500
TZNAME:CDT
DTSTART:20240310T080000
END:DAYLIGHT
BEGIN:STANDARD
TZOFFSETFROM:-0500
TZOFFSETTO:-0600
TZNAME:CST
DTSTART:20241103T070000
END:STANDARD
END:VTIMEZONE
BEGIN:VEVENT
DTSTART;TZID=America/Chicago:20230211T100000
DTEND;TZID=America/Chicago:20230211T120000
DTSTAMP:20260425T145354
CREATED:20240725T182529Z
LAST-MODIFIED:20240820T215834Z
UID:7080-1676109600-1676116800@clflwd.org
SUMMARY:From Corn and Beans\, to Goats and Greens: Conservation practices for farms of all sizes
DESCRIPTION:Our local farms\, big and small\, provide our community with food\, fuel\, and fiber. Their operations are detailed\, complex\, and driven by the latest scientific information. This presentation has been specifically developed for farmers of all sizes to learn more about soil health and conservation farming practices. Experts from the Comfort Lake-Forest Lake Watershed District (CLFLWD) will provide an introduction on various conservation practices and the funding resources that are available for implementing those practices. \nRSVP: https://forms.gle/dhvAWjN6VpACw8Wx8
URL:https://clflwd.org/event/from-corn-and-beans-to-goats-and-greens-conservation-practices-for-farms-of-all-sizes/
LOCATION:Hardwood Creek Library\, 19955 Forest Rd N\, Forest Lake\, MN\, 55025\, United States
CATEGORIES:Workshops/Presentations
END:VEVENT
END:VCALENDAR