BEGIN:VCALENDAR
VERSION:2.0
PRODID:-//Comfort Lake Forest Lake Watershed District - ECPv6.15.14//NONSGML v1.0//EN
CALSCALE:GREGORIAN
METHOD:PUBLISH
X-ORIGINAL-URL:https://clflwd.org
X-WR-CALDESC:Events for Comfort Lake Forest Lake Watershed District
REFRESH-INTERVAL;VALUE=DURATION:PT1H
X-Robots-Tag:noindex
X-PUBLISHED-TTL:PT1H
BEGIN:VTIMEZONE
TZID:America/Chicago
BEGIN:DAYLIGHT
TZOFFSETFROM:-0600
TZOFFSETTO:-0500
TZNAME:CDT
DTSTART:20240310T080000
END:DAYLIGHT
BEGIN:STANDARD
TZOFFSETFROM:-0500
TZOFFSETTO:-0600
TZNAME:CST
DTSTART:20241103T070000
END:STANDARD
BEGIN:DAYLIGHT
TZOFFSETFROM:-0600
TZOFFSETTO:-0500
TZNAME:CDT
DTSTART:20250309T080000
END:DAYLIGHT
BEGIN:STANDARD
TZOFFSETFROM:-0500
TZOFFSETTO:-0600
TZNAME:CST
DTSTART:20251102T070000
END:STANDARD
BEGIN:DAYLIGHT
TZOFFSETFROM:-0600
TZOFFSETTO:-0500
TZNAME:CDT
DTSTART:20260308T080000
END:DAYLIGHT
BEGIN:STANDARD
TZOFFSETFROM:-0500
TZOFFSETTO:-0600
TZNAME:CST
DTSTART:20261101T070000
END:STANDARD
END:VTIMEZONE
BEGIN:VEVENT
DTSTART;TZID=America/Chicago:20251001T090000
DTEND;TZID=America/Chicago:20251001T100000
DTSTAMP:20260423T000350
CREATED:20250929T164138Z
LAST-MODIFIED:20250929T164739Z
UID:13457-1759309200-1759312800@clflwd.org
SUMMARY:Alum On-Site Informational Event
DESCRIPTION:There will be an on-site informational event on October 1st from 9:00 – 10:00 a.m. at Forest Lake third lake boat launch (9467 North Shore Trail North\, Forest Lake\, MN 55025). This is a chance to see the alum treatment equipment firsthand and interact with CLFLWD staff\, engineers\, and the actual alum applicators themselves. This is an informal event\, and interested parties can just stop by the access anytime from 9:00 – 10:00 a.m.
URL:https://clflwd.org/event/alum-on-site-informational-event/
LOCATION:Forest Lake Launch 3\, 9467 North Shore Trail North\, Forest Lake\, MN\, 55025
CATEGORIES:Workshops/Presentations
END:VEVENT
BEGIN:VEVENT
DTSTART;TZID=America/Chicago:20251002T123000
DTEND;TZID=America/Chicago:20251002T140000
DTSTAMP:20260423T000350
CREATED:20250724T170720Z
LAST-MODIFIED:20250828T183809Z
UID:12980-1759408200-1759413600@clflwd.org
SUMMARY:Native Plant Walk and Talk
DESCRIPTION:Join CLFLWD’s Adam Hjelm for a walk and talk around the prairie and pond areas outside Hardwood Creek Library. We’ll learn about the plants and wildlife right outside the library’s back door. Each walk and talk is different and will change with the season. Participants are encouraged to take photos and stop and smell the flowers along the way. Please wear good walking shoes. \nProgram provided in cooperation with Comfort Lake- Forest Lake Watershed District. \nhttps://washcolib.libcal.com/event/14569955
URL:https://clflwd.org/event/native-plant-walk-and-talk-fall-2025/
LOCATION:Hardwood Creek Library\, 19955 Forest Rd N\, Forest Lake\, MN\, 55025\, United States
CATEGORIES:Workshops/Presentations
END:VEVENT
BEGIN:VEVENT
DTSTART;TZID=America/Chicago:20251002T180000
DTEND;TZID=America/Chicago:20251002T193000
DTSTAMP:20260423T000350
CREATED:20250917T140941Z
LAST-MODIFIED:20250917T151244Z
UID:13351-1759428000-1759433400@clflwd.org
SUMMARY:Forest Lake Fall Alum Treatment Informational Meeting
DESCRIPTION:How does an alum treatment improve water quality?\nWhy does Forest Lake need another alum treatment this fall? \nDr. Wilkinson is a civil engineer and limnologist at Emmons & Olivier Resources\, Inc. where she applies her expertise in watershed engineering\, primarily focused on lake and stream water quality and ecology. She will present an introduction to lake science and discuss Forest Lake’s overall water quality. She will also be discussing results from the first alum treatment on Forest Lake and the upcoming second alum treatment scheduled for mid-October. \nThis FREE workshop will be held at the Forest Lake Senior Community Center (767 4th St SW\, Forest Lake\, MN 55025) starting at 6:00 p.m. The workshop includes an hour presentation\, a box supper\, and time for open discussion after the presentation. \nPlease RSVP before noon on October 1st for this workshop\, so we have an accurate headcount for food and seating.\nTo register\, please contact the CLFLWD at 651-395-5850 or by email. \nEvent Flyer\nOpen Meeting Notice
URL:https://clflwd.org/event/forest-lake-fall-alum-treatment-informational-meeting/
LOCATION:Forest Lake Senior Community  Center\, 767 4th St SW\, Forest Lake\, MN\, 55025
CATEGORIES:Workshops/Presentations
END:VEVENT
BEGIN:VEVENT
DTSTART;TZID=America/Chicago:20251015T130000
DTEND;TZID=America/Chicago:20251015T140000
DTSTAMP:20260423T000350
CREATED:20251003T143236Z
LAST-MODIFIED:20251003T143429Z
UID:13499-1760533200-1760536800@clflwd.org
SUMMARY:10/15/25 County Commissioner Budget Meeting
DESCRIPTION:The Comfort Lake-Forest Lake Watershed District will meet with Washington County District 1 Commissioner to discuss the CLFLWD 2026 budget and planned activities. A quorum of the CLFLWD Board may be present. \nOpen Meeting Notice
URL:https://clflwd.org/event/10-15-25-county-commissioner-budget-meeting/
LOCATION:CLFLWD Office\, 44 Lake St. South\, Forest Lake\, MN\, 55025\, United States
CATEGORIES:Workshops/Presentations
END:VEVENT
BEGIN:VEVENT
DTSTART;TZID=America/Chicago:20251015T173000
DTEND;TZID=America/Chicago:20251015T183000
DTSTAMP:20260423T000350
CREATED:20250821T143408Z
LAST-MODIFIED:20250828T183751Z
UID:13155-1760549400-1760553000@clflwd.org
SUMMARY:Bugged Out Water
DESCRIPTION:Is there anything more exciting than playing with bugs? We will be digging right in and seeing what kind of buggy neighbors are swimming around the lakes and streams. This is a very hands-on session full of creepy crawly fun that will leave you with a better appreciation of how important insects are as well as what they can tell us about the water quality. All the supplies and materials are provided\, just bring your creativity. \nhttps://isd2144.ce.eleyo.com/course/3101/fall-2025/bugged-out-water
URL:https://clflwd.org/event/bugged-out-water-fall-2025-chisago-lakes-high-school/
LOCATION:Chisago Lakes High School\, 29400 Olinda Trail\, Lindstrom\, MN\, United States
CATEGORIES:Workshops/Presentations
END:VEVENT
BEGIN:VEVENT
DTSTART;TZID=America/Chicago:20251020T180000
DTEND;TZID=America/Chicago:20251020T190000
DTSTAMP:20260423T000350
CREATED:20250724T165650Z
LAST-MODIFIED:20250724T165650Z
UID:12964-1760983200-1760986800@clflwd.org
SUMMARY:Build Your Own Lures Parent/Child Ages 5-10
DESCRIPTION:Why do fish chase after one lure but ignore the next one? Do they see every color\, certain colors or none at all? We will be talking about and looking at a wide variety of gadgets and lures\, as well as giving you a chance to make your own to take home and try out. All the supplies and materials are provided\, just bring your creativity. \n\n\n\n\n\n\n\n\n\n\nhttps://forestlake.ce.eleyo.com/course/8271/fall-2025/build-your-own-lures-parent-child-ages-5-10
URL:https://clflwd.org/event/build-your-own-lures-parent-child-ages-5-10/
LOCATION:Forest Lake Area Schools Education Center\, 943 9th Ave SW\, Forest Lake\, MN\, 55025\, United States
CATEGORIES:Workshops/Presentations
END:VEVENT
BEGIN:VEVENT
DTSTART;TZID=America/Chicago:20251021T183000
DTEND;TZID=America/Chicago:20251021T193000
DTSTAMP:20260423T000350
CREATED:20250724T165810Z
LAST-MODIFIED:20250724T165810Z
UID:12967-1761071400-1761075000@clflwd.org
SUMMARY:Low Mow and Eco-Friendly Lawns
DESCRIPTION:We love our lush green lawns\, maybe a bit too much? Join us to learn what else we can plant to benefit the bees and birds\, while also keeping some green turf. We will discuss lawn alternatives that are more environmentally friendly that will keep your backyard buzzing. Small changes can go a long way towards improving the environment while saving you time and money. Participants will receive native plant books and several gift certificates from area nurseries will be given as door prizes. \n\n\n\n\n\n\n\n\n\n\nhttps://forestlake.ce.eleyo.com/course/8296/fall-2025/low-mow-and-eco-friendly-lawns
URL:https://clflwd.org/event/low-mow-and-eco-friendly-lawns/
LOCATION:Forest Lake Area Schools Education Center\, 943 9th Ave SW\, Forest Lake\, MN\, 55025\, United States
CATEGORIES:Workshops/Presentations
END:VEVENT
BEGIN:VEVENT
DTSTART;TZID=America/Chicago:20251027T183000
DTEND;TZID=America/Chicago:20251027T193000
DTSTAMP:20260423T000350
CREATED:20250724T170509Z
LAST-MODIFIED:20250828T183729Z
UID:12977-1761589800-1761593400@clflwd.org
SUMMARY:Buckthorn Removal and Replacement
DESCRIPTION:Local landscape professionals will walk us through the process of replacing this stubborn invader. Learn tricks\, techniques\, and tips that will help you be successful at eradicating buckthorn and replacing it with beautiful native plants. We’ll discuss which replacement plants are best to prevent buckthorn regrowth. \nParticipants will receive an informational folder full of great publications\, and several door prizes will be given away from local plant specialists. \nProgram provided at Hardwood Creek Library in cooperation with Comfort Lake- Forest Lake Watershed District \nhttps://washcolib.libcal.com/event/14570015
URL:https://clflwd.org/event/buckthorn-removal-and-replacement-fall-2025/
LOCATION:Hardwood Creek Library\, 19955 Forest Rd N\, Forest Lake\, MN\, 55025\, United States
CATEGORIES:Workshops/Presentations
END:VEVENT
BEGIN:VEVENT
DTSTART;TZID=America/Chicago:20251030T183000
DTEND;TZID=America/Chicago:20251030T193000
DTSTAMP:20260423T000350
CREATED:20250724T165912Z
LAST-MODIFIED:20250724T165912Z
UID:12969-1761849000-1761852600@clflwd.org
SUMMARY:Mulches and Composts
DESCRIPTION:Composts and mulches are nature’s way of recycling; it keeps waste out of landfills and fertilizes without chemicals. Learn how to use a variety of composts and various mulches for all your planting and landscaping needs whether you make them or buy them. We’ll cover pros\, cons and everything in between…especially how to use mulches to tuck your plants in for winter. Participants will receive a folder full of great information and a native plant book. Several door prizes will be given away from local plant specialists. \nhttps://forestlake.ce.eleyo.com/course/8295/fall-2025/mulches-and-composts
URL:https://clflwd.org/event/mulches-and-composts/
LOCATION:Forest Lake Area Schools Education Center\, 943 9th Ave SW\, Forest Lake\, MN\, 55025\, United States
CATEGORIES:Workshops/Presentations
END:VEVENT
END:VCALENDAR