BEGIN:VCALENDAR
VERSION:2.0
PRODID:-//Comfort Lake Forest Lake Watershed District - ECPv6.15.14//NONSGML v1.0//EN
CALSCALE:GREGORIAN
METHOD:PUBLISH
X-ORIGINAL-URL:https://clflwd.org
X-WR-CALDESC:Events for Comfort Lake Forest Lake Watershed District
REFRESH-INTERVAL;VALUE=DURATION:PT1H
X-Robots-Tag:noindex
X-PUBLISHED-TTL:PT1H
BEGIN:VTIMEZONE
TZID:America/Chicago
BEGIN:DAYLIGHT
TZOFFSETFROM:-0600
TZOFFSETTO:-0500
TZNAME:CDT
DTSTART:20240310T080000
END:DAYLIGHT
BEGIN:STANDARD
TZOFFSETFROM:-0500
TZOFFSETTO:-0600
TZNAME:CST
DTSTART:20241103T070000
END:STANDARD
BEGIN:DAYLIGHT
TZOFFSETFROM:-0600
TZOFFSETTO:-0500
TZNAME:CDT
DTSTART:20250309T080000
END:DAYLIGHT
BEGIN:STANDARD
TZOFFSETFROM:-0500
TZOFFSETTO:-0600
TZNAME:CST
DTSTART:20251102T070000
END:STANDARD
BEGIN:DAYLIGHT
TZOFFSETFROM:-0600
TZOFFSETTO:-0500
TZNAME:CDT
DTSTART:20260308T080000
END:DAYLIGHT
BEGIN:STANDARD
TZOFFSETFROM:-0500
TZOFFSETTO:-0600
TZNAME:CST
DTSTART:20261101T070000
END:STANDARD
END:VTIMEZONE
BEGIN:VEVENT
DTSTART;TZID=America/Chicago:20250710T183000
DTEND;TZID=America/Chicago:20250710T193000
DTSTAMP:20260423T035734
CREATED:20250507T162243Z
LAST-MODIFIED:20250507T162243Z
UID:12431-1752172200-1752175800@clflwd.org
SUMMARY:Bee Houses
DESCRIPTION:This is a Family Class…so kids bring an adult with you! \nCome and join us to learn about native bees. We will learn the bee basics and also the importance of these incredible insects. We will also be making bee houses that you will be able to take home. Turn your crafty creativity into functional fun. More bees means more fruits\, veggies\, and flowers in your own backyard! All the supplies and materials are provided\, just bring your creativity. \nhttps://isd2144.ce.eleyo.com/course/2899/summer-2025%E2%80%942/bee-houses
URL:https://clflwd.org/event/bee-houses/
LOCATION:Chisago Lakes High School\, 29400 Olinda Trail\, Lindstrom\, MN\, United States
CATEGORIES:Workshops/Presentations
END:VEVENT
BEGIN:VEVENT
DTSTART;TZID=America/Chicago:20250714T183000
DTEND;TZID=America/Chicago:20250714T193000
DTSTAMP:20260423T035734
CREATED:20250507T161535Z
LAST-MODIFIED:20250507T161546Z
UID:12420-1752517800-1752521400@clflwd.org
SUMMARY:Native Plants for Shade and Woodlands
DESCRIPTION:Do you have a dark and damp corner of your property that you want to bring out of the shadows with blooms and bunchgrasses? Let’s go beyond hostas and the humbugs of traditional green foliage for these tricky shade areas. There are lots of woodland treasures that will add a nice glow to the shadiest swaths. Participants will receive an informational folder full of great publications\, a native plant book and several door prizes from local plant specialists will be given away. This class will be held in White Bear Lake. \n\n\n\n\n\n\n\n\n\n\n\n\nhttps://forestlake.ce.eleyo.com/course/8015/spr-sum-2025-apr-aug/native-plants-for-shade-and-woodlands
URL:https://clflwd.org/event/native-plants-for-shade-and-woodlands/
LOCATION:Normandy Park Education Center / Senior Center\, 2484 County Rd F East\, White Bear Lake\, Minnesota\, 55110
CATEGORIES:Workshops/Presentations
END:VEVENT
BEGIN:VEVENT
DTSTART;TZID=America/Chicago:20250717T173000
DTEND;TZID=America/Chicago:20250717T190000
DTSTAMP:20260423T035734
CREATED:20250507T154446Z
LAST-MODIFIED:20250507T154446Z
UID:12408-1752773400-1752778800@clflwd.org
SUMMARY:Native Plant Walk and Talk
DESCRIPTION:Join CLFLWD’s Adam Hjelm for a walk and talk around the prairie and pond areas outside Hardwood Creek Library. We’ll learn about the plants and wildlife outside the library’s back door. Each walk and talk is different and will change with the season. Participants are encouraged to take photos and stop and smell the flowers along the way. Please wear good walking shoes. \n  \nRegister at https://washcolib.libcal.com/event/14562249
URL:https://clflwd.org/event/native-plant-walk-and-talk/
LOCATION:Hardwood Creek Library\, 19955 Forest Rd N\, Forest Lake\, MN\, 55025\, United States
CATEGORIES:Workshops/Presentations
END:VEVENT
BEGIN:VEVENT
DTSTART;TZID=America/Chicago:20250721T140000
DTEND;TZID=America/Chicago:20250721T150000
DTSTAMP:20260423T035734
CREATED:20250507T162855Z
LAST-MODIFIED:20250507T162905Z
UID:12437-1753106400-1753110000@clflwd.org
SUMMARY:Bugged Out Water
DESCRIPTION:Is there anything more exciting than playing with bugs? In this program at Hardwood Creek Library\, we will dive right in to see what kind of buggy neighbors are swimming around the lakes and streams in our area. This hands-on session is full of creepy-crawly fun that will leave you with a better appreciation of how important insects are and what they can tell us about the water. This program is put on by the Comfort Forest Lake Watershed District. \nThis class is for kids and their adults. This program will be outside in the courtyard off the children’s area. Please use one registration slot per child and adult pair. \nhttps://washcolib.libcal.com/event/14591383
URL:https://clflwd.org/event/bugged-out-water/
LOCATION:Hardwood Creek Library\, 19955 Forest Rd N\, Forest Lake\, MN\, 55025\, United States
CATEGORIES:Workshops/Presentations
END:VEVENT
BEGIN:VEVENT
DTSTART;TZID=America/Chicago:20250731T183000
DTEND;TZID=America/Chicago:20250731T193000
DTSTAMP:20260423T035734
CREATED:20250507T162133Z
LAST-MODIFIED:20250507T162133Z
UID:12429-1753986600-1753990200@clflwd.org
SUMMARY:Build Your Own Lures
DESCRIPTION:Get ready for a fun\, family-friendly adventure! Kids\, bring an adult along for the ride! \nEver wondered why fish chase after one lure but ignore the next? Do they see all colors\, just some\, or none at all? We’ll dive into these questions while exploring a variety of gadgets and lures. Plus\, you’ll have the chance to create your very own lure to take home and try out! All materials and supplies are provided—just bring your creativity and excitement! \nhttps://isd2144.ce.eleyo.com/course/2900/summer-2025%E2%80%942/build-your-own-lures
URL:https://clflwd.org/event/build-your-own-lures/
LOCATION:Chisago Lakes High School\, 29400 Olinda Trail\, Lindstrom\, MN\, United States
CATEGORIES:Workshops/Presentations
END:VEVENT
END:VCALENDAR