BEGIN:VCALENDAR
VERSION:2.0
PRODID:-//Comfort Lake Forest Lake Watershed District - ECPv6.15.14//NONSGML v1.0//EN
CALSCALE:GREGORIAN
METHOD:PUBLISH
X-ORIGINAL-URL:https://clflwd.org
X-WR-CALDESC:Events for Comfort Lake Forest Lake Watershed District
REFRESH-INTERVAL;VALUE=DURATION:PT1H
X-Robots-Tag:noindex
X-PUBLISHED-TTL:PT1H
BEGIN:VTIMEZONE
TZID:America/Chicago
BEGIN:DAYLIGHT
TZOFFSETFROM:-0600
TZOFFSETTO:-0500
TZNAME:CDT
DTSTART:20240310T080000
END:DAYLIGHT
BEGIN:STANDARD
TZOFFSETFROM:-0500
TZOFFSETTO:-0600
TZNAME:CST
DTSTART:20241103T070000
END:STANDARD
BEGIN:DAYLIGHT
TZOFFSETFROM:-0600
TZOFFSETTO:-0500
TZNAME:CDT
DTSTART:20250309T080000
END:DAYLIGHT
BEGIN:STANDARD
TZOFFSETFROM:-0500
TZOFFSETTO:-0600
TZNAME:CST
DTSTART:20251102T070000
END:STANDARD
BEGIN:DAYLIGHT
TZOFFSETFROM:-0600
TZOFFSETTO:-0500
TZNAME:CDT
DTSTART:20260308T080000
END:DAYLIGHT
BEGIN:STANDARD
TZOFFSETFROM:-0500
TZOFFSETTO:-0600
TZNAME:CST
DTSTART:20261101T070000
END:STANDARD
END:VTIMEZONE
BEGIN:VEVENT
DTSTART;TZID=America/Chicago:20250303T183000
DTEND;TZID=America/Chicago:20250303T193000
DTSTAMP:20260423T092459
CREATED:20250113T215731Z
LAST-MODIFIED:20250225T163311Z
UID:11069-1741026600-1741030200@clflwd.org
SUMMARY:Rain Barrels 101
DESCRIPTION:Rain barrels harvest rainwater from roofs and other structures that can then be used to water gardens\, lawns\, and potted plants. Installing a rain barrel is an excellent way to reduce run-off and pollution as well as save MONEY! As much as 40% of residential water is used for irrigation in the summer. Participants will learn the ins and outs of rain barrels\, site selection\, and other tips to use rain barrels most efficiently. We will also talk about the pros and cons of many of the commercially available rain barrels and how to make your own. Residents within the Comfort Lake – Forest Lake Watershed District may be eligible for free rain barrels….join us to learn more. Participants will receive a free native plant book and there will be several gift certificates from local nurseries given away as door prizes.
URL:https://clflwd.org/event/rain-barrels-101-2/
LOCATION:Chisago Lakes High School\, 29400 Olinda Trail\, Lindstrom\, MN\, United States
CATEGORIES:Workshops/Presentations
END:VEVENT
BEGIN:VEVENT
DTSTART;TZID=America/Chicago:20250306T183000
DTEND;TZID=America/Chicago:20250306T193000
DTSTAMP:20260423T092459
CREATED:20250113T215839Z
LAST-MODIFIED:20250225T163346Z
UID:11071-1741285800-1741289400@clflwd.org
SUMMARY:Shoreline Restoration and Maintenance
DESCRIPTION:Are you losing ground? Is your shoreline eroding\, unsightly or seem to be a goose magnet? Did the excessive rains last year take a toll? Is the ice pushing up a new ridge every year? Learn how to improve water quality\, reduce erosion and beautify your property using native plants\, simple installation techniques and smart planning for easier long-term maintenance. Participants will receive a free native plant book and there will be several gift certificates from local nurseries given away as door prizes.
URL:https://clflwd.org/event/shoreline-restoration-and-maintenance/
LOCATION:Chisago Lakes High School\, 29400 Olinda Trail\, Lindstrom\, MN\, United States
CATEGORIES:Workshops/Presentations
END:VEVENT
BEGIN:VEVENT
DTSTART;TZID=America/Chicago:20250310T183000
DTEND;TZID=America/Chicago:20250310T193000
DTSTAMP:20260423T092459
CREATED:20250113T215941Z
LAST-MODIFIED:20250225T163416Z
UID:11073-1741631400-1741635000@clflwd.org
SUMMARY:Pollinator Patch Plan and Plant
DESCRIPTION:A native wildflower garden will attract beautiful butterflies and bees to your yard and help pollinators stay healthy. You can plant a garden anywhere from the tiniest corner of your city lot to the shadiest area under a pine tree. We will cover it all from weeds to seeds to bountiful blooms for small spaces. Participants will receive an informational folder full of great publications and several door prizes from local plant specialists will be given away.
URL:https://clflwd.org/event/pollinator-patch-plan-and-plant/
LOCATION:Forest Lake Area Schools Education Center\, 943 9th Ave SW\, Forest Lake\, MN\, 55025\, United States
CATEGORIES:Workshops/Presentations
END:VEVENT
BEGIN:VEVENT
DTSTART;TZID=America/Chicago:20250324T183000
DTEND;TZID=America/Chicago:20250324T203000
DTSTAMP:20260423T092459
CREATED:20250113T220100Z
LAST-MODIFIED:20250225T163506Z
UID:11075-1742841000-1742848200@clflwd.org
SUMMARY:Native Plants for Hills and Slopes
DESCRIPTION:Are you struggling to establish plants and vegetation on a hill or slope? Are you fighting with erosion and washouts every time we get a big rain event? There are lots of varieties of native plants that will put down roots quickly and will hold their ground…and your ground. When it comes to native plants\, it is all about the roots! Participants will receive a free native plant book and there will be several gift certificates from local nurseries given away as door prizes.
URL:https://clflwd.org/event/native-plants-for-hills-and-slopes/
LOCATION:Chisago Lakes High School\, 29400 Olinda Trail\, Lindstrom\, MN\, United States
CATEGORIES:Workshops/Presentations
END:VEVENT
BEGIN:VEVENT
DTSTART;TZID=America/Chicago:20250326T180000
DTEND;TZID=America/Chicago:20250326T200000
DTSTAMP:20260423T092500
CREATED:20250310T154301Z
LAST-MODIFIED:20250319T184901Z
UID:11673-1743012000-1743019200@clflwd.org
SUMMARY:Shoreline Ice Ridge Informational Workshop
DESCRIPTION:Event Flyer\nOpen Meeting Notice \nDid the ice push up a ridge along your shoreline? What can you do about it? Are permits required to repair the damage? Are there grants available for repairs and improvements? Is there technical assistance available? How can you prevent an ice ridge from forming again? \nThe Comfort Lake – Forest Lake Watershed District (CLFLWD) is sponsoring an informational workshop to answer these questions and more about your shoreline. Speakers include DNR staff\, watershed staff\, and local lakeshore landscapers. \nThis FREE workshop will be held at the Forest Lake American Legion\, Hall A (355 West Broadway Avenue\, Forest Lake\, MN 55025) starting at 6:00 p.m. The workshop includes several presentations and time after for discussion. \nPlease RSVP before Friday\, March 21st for this workshop\, so we have an accurate headcount for materials and seating. To register\, please contact the CLFLWD at 651-395-5850 or email.
URL:https://clflwd.org/event/shoreline-ice-ridge-informational-workshop/
LOCATION:Forest Lake American Legion\, 355 W Broadway Ave\, Forest Lake\, MN\, 55025\, United States
CATEGORIES:Workshops/Presentations
END:VEVENT
BEGIN:VEVENT
DTSTART;TZID=America/Chicago:20250331T173000
DTEND;TZID=America/Chicago:20250331T190000
DTSTAMP:20260423T092500
CREATED:20250225T164038Z
LAST-MODIFIED:20250225T165130Z
UID:11532-1743442200-1743447600@clflwd.org
SUMMARY:Watershed Connections: The Alum Treatment Impacts on Forest Lake
DESCRIPTION:Dr. Wilkinson is a civil engineer and limnologist at EOR where she applies her expertise in watershed engineering\, primarily focused on lake and stream water quality and ecology. She will present an introduction to lake science and discuss Forest Lake’s overall water quality. The focus of the presentation will be on nutrient cycling and the recent alum treatment on Forest lake. How effective was the alum treatment\, what are the impacts of the treatment within the lake\, and what are the next steps for the water quality in Forest Lake? \n\nThis FREE workshop will be held at the Forest Lake Senior Community Center (767 4th St SW\, Forest Lake\, MN 55025) March 31\, 2025\, starting at 5:30 p.m. The workshop includes an hour presentation\, a box supper\, and time for open discussion after the presentation. Please RSVP before Friday\, March 21st for this workshop\, so we have an accurate headcount for food and seating.\nTo register\, please contact the CLFLWD at 651-395-5850 or by email.\n\nEvent Flyer\nOpen Meeting Notice
URL:https://clflwd.org/event/watershed-connections-the-alum-treatment-impacts-on-forest-lake/
LOCATION:Forest Lake Senior Community  Center\, 767 4th St SW\, Forest Lake\, MN\, 55025
CATEGORIES:Workshops/Presentations
END:VEVENT
END:VCALENDAR