BEGIN:VCALENDAR
VERSION:2.0
PRODID:-//Comfort Lake Forest Lake Watershed District - ECPv6.15.14//NONSGML v1.0//EN
CALSCALE:GREGORIAN
METHOD:PUBLISH
X-ORIGINAL-URL:https://clflwd.org
X-WR-CALDESC:Events for Comfort Lake Forest Lake Watershed District
REFRESH-INTERVAL;VALUE=DURATION:PT1H
X-Robots-Tag:noindex
X-PUBLISHED-TTL:PT1H
BEGIN:VTIMEZONE
TZID:America/Chicago
BEGIN:DAYLIGHT
TZOFFSETFROM:-0600
TZOFFSETTO:-0500
TZNAME:CDT
DTSTART:20230312T080000
END:DAYLIGHT
BEGIN:STANDARD
TZOFFSETFROM:-0500
TZOFFSETTO:-0600
TZNAME:CST
DTSTART:20231105T070000
END:STANDARD
BEGIN:DAYLIGHT
TZOFFSETFROM:-0600
TZOFFSETTO:-0500
TZNAME:CDT
DTSTART:20240310T080000
END:DAYLIGHT
BEGIN:STANDARD
TZOFFSETFROM:-0500
TZOFFSETTO:-0600
TZNAME:CST
DTSTART:20241103T070000
END:STANDARD
BEGIN:DAYLIGHT
TZOFFSETFROM:-0600
TZOFFSETTO:-0500
TZNAME:CDT
DTSTART:20250309T080000
END:DAYLIGHT
BEGIN:STANDARD
TZOFFSETFROM:-0500
TZOFFSETTO:-0600
TZNAME:CST
DTSTART:20251102T070000
END:STANDARD
END:VTIMEZONE
BEGIN:VEVENT
DTSTART;TZID=America/Chicago:20240715T183000
DTEND;TZID=America/Chicago:20240715T193000
DTSTAMP:20260423T204807
CREATED:20240725T183522Z
LAST-MODIFIED:20240814T230504Z
UID:7173-1721068200-1721071800@clflwd.org
SUMMARY:Rain Barrels Class
DESCRIPTION:Rain barrels harvest rainwater from roofs and other structures that can then be used to water gardens\, lawns\, and potted plants. Installing a rain barrel is an excellent way to reduce run-off and pollution as well as save MONEY! As much as 40% of residential water is used for irrigation in the summer. Participants will learn the ins and outs of rain barrels\, site selection\, and other tips to use rain barrels most efficiently. We will also talk about the pros and cons of many of the commercially available rain barrels and how to make your own. Participants will receive a native plant book\, and one lucky participant will win a rain barrel!
URL:https://clflwd.org/event/rain-barrels-class/
LOCATION:MN
CATEGORIES:Workshops/Presentations
END:VEVENT
BEGIN:VEVENT
DTSTART;TZID=America/Chicago:20240725T183000
DTEND;TZID=America/Chicago:20240725T193000
DTSTAMP:20260423T204807
CREATED:20240725T183631Z
LAST-MODIFIED:20240814T225659Z
UID:7174-1721932200-1721935800@clflwd.org
SUMMARY:Rain Gardens Class
DESCRIPTION:Do you want a rain garden that looks beautiful year-round\, requires little maintenance\, and will look great year after year? Learn about the latest trend in landscaping including sizing\, location\, installation and plant selection for your rain garden and rainwater harvesting. With the wide variety of plants and materials available you can create a rain garden with a natural wild look or an organized planting suitable for the most refined settings. Participants will receive a native plant book\, and several door prizes will be given away from local plant specialists.
URL:https://clflwd.org/event/rain-gardens-class/
LOCATION:MN
CATEGORIES:Workshops/Presentations
END:VEVENT
BEGIN:VEVENT
DTSTART;TZID=America/Chicago:20240729T140000
DTEND;TZID=America/Chicago:20240729T150000
DTSTAMP:20260423T204807
CREATED:20240725T183631Z
LAST-MODIFIED:20240814T225241Z
UID:7175-1722261600-1722265200@clflwd.org
SUMMARY:Making Bee Houses Class
DESCRIPTION:Come and join us to learn about native bees. We will learn the basics of bees and the importance of these incredible insects. We will also make bee houses that you can take home. Turn your crafty creativity into functional fun. More bees means more fruits\, veggies\, and flowers in your backyard! All the supplies and materials are provided\, just bring your creativity. This program is put on by the Comfort Forest Lake Watershed District at Hardwood Creek Library. \nThis class is for kids and their adults. This program will be outside in the reading loft. Please use one registration slot per child and adult pair.
URL:https://clflwd.org/event/making-bee-houses-class/
LOCATION:MN
CATEGORIES:Workshops/Presentations
END:VEVENT
END:VCALENDAR