BEGIN:VCALENDAR
VERSION:2.0
PRODID:-//Comfort Lake Forest Lake Watershed District - ECPv6.15.14//NONSGML v1.0//EN
CALSCALE:GREGORIAN
METHOD:PUBLISH
X-WR-CALNAME:Comfort Lake Forest Lake Watershed District
X-ORIGINAL-URL:https://clflwd.org
X-WR-CALDESC:Events for Comfort Lake Forest Lake Watershed District
REFRESH-INTERVAL;VALUE=DURATION:PT1H
X-Robots-Tag:noindex
X-PUBLISHED-TTL:PT1H
BEGIN:VTIMEZONE
TZID:America/Chicago
BEGIN:DAYLIGHT
TZOFFSETFROM:-0600
TZOFFSETTO:-0500
TZNAME:CDT
DTSTART:20220313T080000
END:DAYLIGHT
BEGIN:STANDARD
TZOFFSETFROM:-0500
TZOFFSETTO:-0600
TZNAME:CST
DTSTART:20221106T070000
END:STANDARD
BEGIN:DAYLIGHT
TZOFFSETFROM:-0600
TZOFFSETTO:-0500
TZNAME:CDT
DTSTART:20230312T080000
END:DAYLIGHT
BEGIN:STANDARD
TZOFFSETFROM:-0500
TZOFFSETTO:-0600
TZNAME:CST
DTSTART:20231105T070000
END:STANDARD
BEGIN:DAYLIGHT
TZOFFSETFROM:-0600
TZOFFSETTO:-0500
TZNAME:CDT
DTSTART:20240310T080000
END:DAYLIGHT
BEGIN:STANDARD
TZOFFSETFROM:-0500
TZOFFSETTO:-0600
TZNAME:CST
DTSTART:20241103T070000
END:STANDARD
END:VTIMEZONE
BEGIN:VEVENT
DTSTART;TZID=America/Chicago:20230606T163000
DTEND;TZID=America/Chicago:20230606T183000
DTSTAMP:20260424T194337
CREATED:20240725T182559Z
LAST-MODIFIED:20240820T210951Z
UID:7089-1686069000-1686076200@clflwd.org
SUMMARY:Community Open House
DESCRIPTION:Stop by our open house to share your opinions on the priorities for the District’s new office space! \nThe Comfort Lake-Forest Lake Watershed District is looking for a new office location with the watershed district. Our current building has been sold and no longer meets our needs. The CLFLWD is looking for community insight on the priorities for the future office building such as the potential for public meeting spaces\, demonstrations\, and water-focused activities. \nAgenda
URL:https://clflwd.org/event/community-open-house/
LOCATION:CLFLWD Office\, 44 Lake St. South\, Forest Lake\, MN\, 55025\, United States
CATEGORIES:Workshops/Presentations
END:VEVENT
BEGIN:VEVENT
DTSTART;TZID=America/Chicago:20230610T100000
DTEND;TZID=America/Chicago:20230610T120000
DTSTAMP:20260424T194337
CREATED:20240725T182559Z
LAST-MODIFIED:20240820T210657Z
UID:7091-1686391200-1686398400@clflwd.org
SUMMARY:RESCHEDULED: Resilient Shoreline Workshop
DESCRIPTION:RESCHEDULED – Due to unforeseen circumstances\, our workshop presenter is no longer available. As such\, the June 10th Shoreline Workshop has been rescheduled for Wednesday\, July 26th from 3:00-5:00pm. \nLearn the fundamentals of protecting your shoreline property! This workshop will include discussions on lakescaping and shoreline projects\, plant selection tips\, regulatory reminders\, and provide access to technical and financial resources. \nRSVP Encouraged: https://forms.gle/hCSGLPJJNnkei2MN8
URL:https://clflwd.org/event/rescheduled-resilient-shoreline-workshop/
LOCATION:MN
CATEGORIES:Workshops/Presentations
END:VEVENT
BEGIN:VEVENT
DTSTART;TZID=America/Chicago:20230624T100000
DTEND;TZID=America/Chicago:20230624T120000
DTSTAMP:20260424T194337
CREATED:20240820T190924Z
LAST-MODIFIED:20240820T191402Z
UID:9573-1687600800-1687608000@clflwd.org
SUMMARY:Alum Treatment Info Session
DESCRIPTION:The CLFLWD will be conducting a milestone water quality project on Forest Lake this September. The non-toxic alum treatment will result in a cleaner and clearer Forest Lake. Stop by anytime during the two-hour session to learn more about the alum treatment. There will be a 30-minute presentation beginning at 11:00am. \nRSVP to receive a reminder for this info session: https://forms.gle/iL2LEZtxGdDa2oUf9
URL:https://clflwd.org/event/alum-treatment-info-session-1/
LOCATION:CLFLWD Office\, 44 Lake St. South\, Forest Lake\, MN\, 55025\, United States
CATEGORIES:Workshops/Presentations
END:VEVENT
BEGIN:VEVENT
DTSTART;TZID=America/Chicago:20230629T170000
DTEND;TZID=America/Chicago:20230629T190000
DTSTAMP:20260424T194337
CREATED:20240725T182629Z
LAST-MODIFIED:20240820T191535Z
UID:7100-1688058000-1688065200@clflwd.org
SUMMARY:Alum Treatment Info Session
DESCRIPTION:The CLFLWD will be conducting a milestone water quality project on Forest Lake this September. The non-toxic alum treatment will result in a cleaner and clearer Forest Lake. Stop by anytime during the two-hour session to learn more about the alum treatment. There will be a 30-minute presentation beginning at 6:00pm. \nRSVP to receive a reminder for this info session: https://forms.gle/iL2LEZtxGdDa2oUf9
URL:https://clflwd.org/event/alum-treatment-info-session-2/
LOCATION:Lakeside Memorial Park\, 95 East Broadway Avenue\, Forest Lake\, MN\, 55025\, United States
CATEGORIES:Workshops/Presentations
END:VEVENT
END:VCALENDAR