BEGIN:VCALENDAR
VERSION:2.0
PRODID:-//Comfort Lake Forest Lake Watershed District - ECPv6.15.14//NONSGML v1.0//EN
CALSCALE:GREGORIAN
METHOD:PUBLISH
X-WR-CALNAME:Comfort Lake Forest Lake Watershed District
X-ORIGINAL-URL:https://clflwd.org
X-WR-CALDESC:Events for Comfort Lake Forest Lake Watershed District
REFRESH-INTERVAL;VALUE=DURATION:PT1H
X-Robots-Tag:noindex
X-PUBLISHED-TTL:PT1H
BEGIN:VTIMEZONE
TZID:America/Chicago
BEGIN:DAYLIGHT
TZOFFSETFROM:-0600
TZOFFSETTO:-0500
TZNAME:CDT
DTSTART:20240310T080000
END:DAYLIGHT
BEGIN:STANDARD
TZOFFSETFROM:-0500
TZOFFSETTO:-0600
TZNAME:CST
DTSTART:20241103T070000
END:STANDARD
BEGIN:DAYLIGHT
TZOFFSETFROM:-0600
TZOFFSETTO:-0500
TZNAME:CDT
DTSTART:20250309T080000
END:DAYLIGHT
BEGIN:STANDARD
TZOFFSETFROM:-0500
TZOFFSETTO:-0600
TZNAME:CST
DTSTART:20251102T070000
END:STANDARD
BEGIN:DAYLIGHT
TZOFFSETFROM:-0600
TZOFFSETTO:-0500
TZNAME:CDT
DTSTART:20260308T080000
END:DAYLIGHT
BEGIN:STANDARD
TZOFFSETFROM:-0500
TZOFFSETTO:-0600
TZNAME:CST
DTSTART:20261101T070000
END:STANDARD
END:VTIMEZONE
BEGIN:VEVENT
DTSTART;TZID=America/Chicago:20250730T173000
DTEND;TZID=America/Chicago:20250730T203000
DTSTAMP:20260423T191202
CREATED:20250724T163135Z
LAST-MODIFIED:20250724T163824Z
UID:12951-1753896600-1753907400@clflwd.org
SUMMARY:07/30/25 St. Croix River Workshop on the Water (WOW) Meeting Notice
DESCRIPTION:The workshop is designed for city councils\, planning commissions\, township boards\, county commissioners\, SWCD and watershed board members\, and other local leaders. \nThe annual St. Croix WOW offers a unique opportunity for community leaders to network\, access support from state and local government\, and learn about issues such as sustainable community development\, preventing harmful algal blooms\, community forestry\, healthy shorelines\, and St. Croix Watershed resources and connections. This year’s workshop will include a keynote welcome from Matt Poppleton\, Executive Director of Wild Rivers Conservancy of the St. Croix and Namekagon\, as well as five learning stations with mini-presentations. \nOpen Meeting Notice
URL:https://clflwd.org/event/07-30-25-st-croix-river-workshop-on-the-water-wow/
LOCATION:Taylor’s Falls Princess\, 220 South St\, Taylor's Falls\, MN\, 55084\, United States
CATEGORIES:Special Meeting
END:VEVENT
BEGIN:VEVENT
DTSTART;TZID=America/Chicago:20250811T180000
DTEND;TZID=America/Chicago:20250811T200000
DTSTAMP:20260423T191202
CREATED:20250807T183249Z
LAST-MODIFIED:20250807T183541Z
UID:13067-1754935200-1754942400@clflwd.org
SUMMARY:08/11/25 Special Board Meeting – Budget
DESCRIPTION:Remote Attendance Instructions:\nClick here to join the zoom meeting online or dial by phone: 301-715-8592. Meeting ID: 821 9881 0421 \nMeeting Notice & Agenda\n\nCall to Order of Special Meeting\nBudget Workshop\nAdjourn\n\na) Next regular board meeting – August 14\, 2025 6:30 pm
URL:https://clflwd.org/event/08-11-25-special-board-meeting-budget/
CATEGORIES:Special Meeting
END:VEVENT
BEGIN:VEVENT
DTSTART;TZID=America/Chicago:20250820T180000
DTEND;TZID=America/Chicago:20250820T200000
DTSTAMP:20260423T191202
CREATED:20250815T161822Z
LAST-MODIFIED:20250815T195853Z
UID:13121-1755712800-1755720000@clflwd.org
SUMMARY:08/20/25 Special Board Meeting – Budget
DESCRIPTION:Remote Attendance Instructions:\nClick here to join the zoom meeting online or dial by phone: 301-715-8592. Meeting ID: 814 4069 2507 \nMeeting Notice & Agenda\nFull agenda and board packet items will be posted on this page no later than 3 days immediately preceding the meeting. \n\nCall to Order of Special Meeting\nBudget Workshop\nAdjourn\n\na) Next regular board meeting – August 28\, 2025 6:30 pm
URL:https://clflwd.org/event/08-20-25-special-board-meeting-budget/
CATEGORIES:Special Meeting
END:VEVENT
BEGIN:VEVENT
DTSTART;TZID=America/Chicago:20251106T173000
DTEND;TZID=America/Chicago:20251106T193000
DTSTAMP:20260423T191202
CREATED:20251031T140543Z
LAST-MODIFIED:20251104T152216Z
UID:13653-1762450200-1762457400@clflwd.org
SUMMARY:11/06/25 Special Board Meeting
DESCRIPTION:Remote Attendance Instructions:\nClick here to join the zoom meeting online or dial by phone: 301-715-8592. Meeting ID: 841 9359 9576 \nMeeting Notice & Agenda\n\nCall to Order of Special Meeting\nMinnesota Watersheds Annual Conference and Delegates\nBudget Workshop\n\na) Memo\nb) Budget Changes Summary\nc) Budget Scenarios Comparison Table\nd) Budget Projection Option 1 (23.7% levy increase in 2026)\ne) Budget Projection Option 2 (15.6% levy increase in 2026)\nf) Budget Projection Option 3 (19.9% levy increase in 2026)\n\n\nAdjourn\n\na) Next regular board meeting – November 20\, 2025 6:30 pm
URL:https://clflwd.org/event/11-06-25-special-board-meeting/
CATEGORIES:Special Meeting
END:VEVENT
BEGIN:VEVENT
DTSTART;VALUE=DATE:20251203
DTEND;VALUE=DATE:20251206
DTSTAMP:20260423T191202
CREATED:20251016T175537Z
LAST-MODIFIED:20251117T181212Z
UID:13563-1764720000-1764979199@clflwd.org
SUMMARY:MN Watersheds Annual Conference 2025
DESCRIPTION:A quorum of the Comfort Lake-Forest Lake Watershed District Board of Managers may attend the Minnesota Watersheds Annual Conference in Nisswa\, MN. \nOpen Meeting Notice
URL:https://clflwd.org/event/mn-watersheds-annual-conference-2025/
LOCATION:Grand View Lodge\, 23521 Nokomis Ave\, Nisswa\, MN\, 56468\, United States
CATEGORIES:Special Meeting
END:VEVENT
END:VCALENDAR