BEGIN:VCALENDAR
VERSION:2.0
PRODID:-//Comfort Lake Forest Lake Watershed District - ECPv6.15.14//NONSGML v1.0//EN
CALSCALE:GREGORIAN
METHOD:PUBLISH
X-ORIGINAL-URL:https://clflwd.org
X-WR-CALDESC:Events for Comfort Lake Forest Lake Watershed District
REFRESH-INTERVAL;VALUE=DURATION:PT1H
X-Robots-Tag:noindex
X-PUBLISHED-TTL:PT1H
BEGIN:VTIMEZONE
TZID:America/Chicago
BEGIN:DAYLIGHT
TZOFFSETFROM:-0600
TZOFFSETTO:-0500
TZNAME:CDT
DTSTART:20250309T080000
END:DAYLIGHT
BEGIN:STANDARD
TZOFFSETFROM:-0500
TZOFFSETTO:-0600
TZNAME:CST
DTSTART:20251102T070000
END:STANDARD
BEGIN:DAYLIGHT
TZOFFSETFROM:-0600
TZOFFSETTO:-0500
TZNAME:CDT
DTSTART:20260308T080000
END:DAYLIGHT
BEGIN:STANDARD
TZOFFSETFROM:-0500
TZOFFSETTO:-0600
TZNAME:CST
DTSTART:20261101T070000
END:STANDARD
BEGIN:DAYLIGHT
TZOFFSETFROM:-0600
TZOFFSETTO:-0500
TZNAME:CDT
DTSTART:20270314T080000
END:DAYLIGHT
BEGIN:STANDARD
TZOFFSETFROM:-0500
TZOFFSETTO:-0600
TZNAME:CST
DTSTART:20271107T070000
END:STANDARD
END:VTIMEZONE
BEGIN:VEVENT
DTSTART;TZID=America/Chicago:20260409T183000
DTEND;TZID=America/Chicago:20260409T203000
DTSTAMP:20260420T063541
CREATED:20251114T152448Z
LAST-MODIFIED:20260417T151836Z
UID:13777-1775759400-1775766600@clflwd.org
SUMMARY:04/09/26 Regular Board Meeting
DESCRIPTION:Remote Attendance Instructions:\nClick here to join the zoom meeting online or dial by phone: 301-715-8592. Meeting ID: 898 9958 9723 \nMeeting Notice & Agenda\n\nCall to Order of Regular Meeting\nSetting of Meeting Agenda\nConsent Agenda: The consent agenda is considered as one item of business. It consists of routine administrative items or items not requiring discussion. Items can be removed from the consent agenda at the request of the Board member\, staff member\, or a member of the audience. Please state which item or items you wish to remove for separate discussion.\n\na) Regular Board Meeting Minutes – March 12\, 2026\n\nCLFLWD YouTube Channel (for watching past meetings)\n\n\n\n\nNew Business\n\na) Lower St. Croix Watershed Partnership Update\nb) 2026 MN Watersheds Request For Resolutions\nc) Manager Liaisons and Interagency Agendas\n\n\nOld Business\n\na) 2025 Comprehensive Monitoring Report\nb) 2025 Year-In-Review\, Annual Report\, Progress Report Presentation\n\nYouTube Presentation\nComments on 2025 Annual Report and Progress Report\n\n\nc) Natural Shoreline Outreach and Education Campaign Update\n\nYouTube Presentation\n\n\n\n\nProgram/Project Update\n\na) Project Update\nb) Program Update – Grant Research & Preparation\n\n\nReport of Officers and Managers\nSummary and Approval of Board Direction\nAdjourn\n\na) Next regular board meeting – April 23\, 2026\, 6:30 pm
URL:https://clflwd.org/event/04-09-26-regular-board-meeting/
CATEGORIES:Regular Meeting
END:VEVENT
END:VCALENDAR