BEGIN:VCALENDAR
VERSION:2.0
PRODID:-//Comfort Lake Forest Lake Watershed District - ECPv6.15.14//NONSGML v1.0//EN
CALSCALE:GREGORIAN
METHOD:PUBLISH
X-WR-CALNAME:Comfort Lake Forest Lake Watershed District
X-ORIGINAL-URL:https://clflwd.org
X-WR-CALDESC:Events for Comfort Lake Forest Lake Watershed District
REFRESH-INTERVAL;VALUE=DURATION:PT1H
X-Robots-Tag:noindex
X-PUBLISHED-TTL:PT1H
BEGIN:VTIMEZONE
TZID:America/Chicago
BEGIN:DAYLIGHT
TZOFFSETFROM:-0600
TZOFFSETTO:-0500
TZNAME:CDT
DTSTART:20250309T080000
END:DAYLIGHT
BEGIN:STANDARD
TZOFFSETFROM:-0500
TZOFFSETTO:-0600
TZNAME:CST
DTSTART:20251102T070000
END:STANDARD
BEGIN:DAYLIGHT
TZOFFSETFROM:-0600
TZOFFSETTO:-0500
TZNAME:CDT
DTSTART:20260308T080000
END:DAYLIGHT
BEGIN:STANDARD
TZOFFSETFROM:-0500
TZOFFSETTO:-0600
TZNAME:CST
DTSTART:20261101T070000
END:STANDARD
BEGIN:DAYLIGHT
TZOFFSETFROM:-0600
TZOFFSETTO:-0500
TZNAME:CDT
DTSTART:20270314T080000
END:DAYLIGHT
BEGIN:STANDARD
TZOFFSETFROM:-0500
TZOFFSETTO:-0600
TZNAME:CST
DTSTART:20271107T070000
END:STANDARD
END:VTIMEZONE
BEGIN:VEVENT
DTSTART;TZID=America/Chicago:20260312T183000
DTEND;TZID=America/Chicago:20260312T203000
DTSTAMP:20260420T080359
CREATED:20251114T143840Z
LAST-MODIFIED:20260312T210536Z
UID:13771-1773340200-1773347400@clflwd.org
SUMMARY:03/12/26 Regular Board Meeting
DESCRIPTION:Remote Attendance Instructions:\nClick here to join the zoom meeting online or dial by phone: 301-715-8592. Meeting ID: 842 3924 4545 \nMeeting Notice & Agenda\n\nCall to Order of Regular Meeting\nSetting of Meeting Agenda\nNew Business\n\na) 2026 Aquatic Invasive Species Prevention & Management Plan\n\nYouTube Presentation\n\n\nb) 2026 Water Monitoring Plan\nc) 2026 Cost-Share Program Framework\nd) FY27 Clean Water Fund Competitive Grant Applications (Updated 3/12/26)\ne) GreenCorps Host Site Application Resolution\nf) Heath Iron Enhanced Sand Filter Bid Solicitation\ng) MN Lakes and Rivers Letter of Support\n\n\nOld Business\n\na) 2026-2028 Forest Lake Cooperative Aquatic Invasive Species Agreement (Tri-Party Agreement)\n\n\nProgram/Project Update\n\na) Project Update\nb) Program Update – Permitting\n\nYouTube Presentation (added 3/11/26)\n\n\n\n\nReport of Officers and Managers\nSummary and Approval of Board Direction\nAdjourn\n\na) Next regular board meeting – March 26\, 2026\, 6:30 pm
URL:https://clflwd.org/event/03-12-26-regular-board-meeting/
CATEGORIES:Regular Meeting
END:VEVENT
END:VCALENDAR