BEGIN:VCALENDAR
VERSION:2.0
PRODID:-//Comfort Lake Forest Lake Watershed District - ECPv6.15.14//NONSGML v1.0//EN
CALSCALE:GREGORIAN
METHOD:PUBLISH
X-WR-CALNAME:Comfort Lake Forest Lake Watershed District
X-ORIGINAL-URL:https://clflwd.org
X-WR-CALDESC:Events for Comfort Lake Forest Lake Watershed District
REFRESH-INTERVAL;VALUE=DURATION:PT1H
X-Robots-Tag:noindex
X-PUBLISHED-TTL:PT1H
BEGIN:VTIMEZONE
TZID:America/Chicago
BEGIN:DAYLIGHT
TZOFFSETFROM:-0600
TZOFFSETTO:-0500
TZNAME:CDT
DTSTART:20250309T080000
END:DAYLIGHT
BEGIN:STANDARD
TZOFFSETFROM:-0500
TZOFFSETTO:-0600
TZNAME:CST
DTSTART:20251102T070000
END:STANDARD
BEGIN:DAYLIGHT
TZOFFSETFROM:-0600
TZOFFSETTO:-0500
TZNAME:CDT
DTSTART:20260308T080000
END:DAYLIGHT
BEGIN:STANDARD
TZOFFSETFROM:-0500
TZOFFSETTO:-0600
TZNAME:CST
DTSTART:20261101T070000
END:STANDARD
BEGIN:DAYLIGHT
TZOFFSETFROM:-0600
TZOFFSETTO:-0500
TZNAME:CDT
DTSTART:20270314T080000
END:DAYLIGHT
BEGIN:STANDARD
TZOFFSETFROM:-0500
TZOFFSETTO:-0600
TZNAME:CST
DTSTART:20271107T070000
END:STANDARD
END:VTIMEZONE
BEGIN:VEVENT
DTSTART;TZID=America/Chicago:20260108T183000
DTEND;TZID=America/Chicago:20260108T203000
DTSTAMP:20260420T103134
CREATED:20251114T142715Z
LAST-MODIFIED:20260116T194619Z
UID:13750-1767897000-1767904200@clflwd.org
SUMMARY:01/08/26 Regular Board Meeting
DESCRIPTION:Remote Attendance Instructions:\nClick here to join the zoom meeting online or dial by phone: 301-715-8592. Meeting ID: 851 9347 1516 \nMeeting Notice & Agenda\n\nCall to Order of Regular Meeting\nSetting of Meeting Agenda\nNew Business\n\na) Election of Officers and Liaison Appointments\nb) Community Advisory Committee Appointments\nc) Designation of Newspapers and Banks\nd) Review Bank Signers-Viewers-Credit Card Holders\ne) Lower St. Croix Partnership Metro Convene Meeting\nf) Section 125 POP\n\n\nOld Business\n\na) Bone Lake South Property Short-term Management\nb) Rule 9 Revision Resolution\n\n\nProgram/Project Update\n\na) Project Update\n\n\nReport of Officers and Managers\n\nLSC-Keeping Our Communities Growing and Clean Water Flowing\n\n\nSummary and Approval of Board Direction\nAdjourn\n\na) Next regular board meeting – January 22\, 2026\, 6:30 pm
URL:https://clflwd.org/event/01-08-26-regular-board-meeting/
CATEGORIES:Regular Meeting
END:VEVENT
END:VCALENDAR