BEGIN:VCALENDAR
VERSION:2.0
PRODID:-//Comfort Lake Forest Lake Watershed District - ECPv6.15.14//NONSGML v1.0//EN
CALSCALE:GREGORIAN
METHOD:PUBLISH
X-ORIGINAL-URL:https://clflwd.org
X-WR-CALDESC:Events for Comfort Lake Forest Lake Watershed District
REFRESH-INTERVAL;VALUE=DURATION:PT1H
X-Robots-Tag:noindex
X-PUBLISHED-TTL:PT1H
BEGIN:VTIMEZONE
TZID:America/Chicago
BEGIN:DAYLIGHT
TZOFFSETFROM:-0600
TZOFFSETTO:-0500
TZNAME:CDT
DTSTART:20240310T080000
END:DAYLIGHT
BEGIN:STANDARD
TZOFFSETFROM:-0500
TZOFFSETTO:-0600
TZNAME:CST
DTSTART:20241103T070000
END:STANDARD
BEGIN:DAYLIGHT
TZOFFSETFROM:-0600
TZOFFSETTO:-0500
TZNAME:CDT
DTSTART:20250309T080000
END:DAYLIGHT
BEGIN:STANDARD
TZOFFSETFROM:-0500
TZOFFSETTO:-0600
TZNAME:CST
DTSTART:20251102T070000
END:STANDARD
BEGIN:DAYLIGHT
TZOFFSETFROM:-0600
TZOFFSETTO:-0500
TZNAME:CDT
DTSTART:20260308T080000
END:DAYLIGHT
BEGIN:STANDARD
TZOFFSETFROM:-0500
TZOFFSETTO:-0600
TZNAME:CST
DTSTART:20261101T070000
END:STANDARD
END:VTIMEZONE
BEGIN:VEVENT
DTSTART;TZID=America/Chicago:20250925T183000
DTEND;TZID=America/Chicago:20250925T203000
DTSTAMP:20260420T161706
CREATED:20241127T203814Z
LAST-MODIFIED:20251002T164610Z
UID:10790-1758825000-1758832200@clflwd.org
SUMMARY:09/25/25 Regular Board Meeting
DESCRIPTION:The 09/25/25 Regular Board Meeting and the 2026 Budget and Levy Public Hearing will be held at the District Offices at 44 Lake Street South\, Suite A\, Forest Lake\, MN. \nThe meeting and hearing may be attended remotely via Zoom following the instructions below. \nRemote Attendance Instructions:\nClick here to register for the zoom meeting online \nMeeting Notice & Agenda\n\nCall to Order of Regular Meeting\nOath of Office\nSetting of Meeting Agenda\nConsent Agenda: The consent agenda is considered as one item of business. It consists of routine administrative items or items not requiring discussion. Items can be removed from the consent agenda at the request of the Board member\, staff member\, or a member of the audience. Please state which item or items you wish to remove for separate discussion.\n\na) Special Board Meeting Minutes – July 28\, 2025\nb) Special Board Meeting Minutes – August 11\, 2025\nc) Regular Board Meeting Minutes – August 14\, 2025\nd) Special Board Meeting Minutes – August 20\, 2025\ne) Regular Board Meeting Minutes – August 28\, 2025\n\nCLFLWD YouTube Channel (for watching past meetings)\n\n\n\n\nPublic Hearing: 2026 Budget & Levy\n\nPresentation\n\n\nPublic Open Forum\nAdvisory Committee Updates\nNew Business\n\na) New Manager and Board Officer Positions\nb) 2026 Budget & Levy Adoption\nc) Permit Fee Structure Rule Revision\n\nPresentation\n\n\nd) Resident Shoreline Award Recognition\n\n\nOld Business\n\na) State of the Watershed Update\n\n\nReport of Staff\n\na) Administrator\n\nUpdate on Lessard-Sams Outdoor Heritage Fund\n\n\nb) Emmons and Olivier Resources\nc) Smith Partners\n\n\nReport of Treasurer and Approval of Bills\nReport of Officers and Managers\nSummary and Approval of Board Direction\n Adjourn\n\na) Next regular board meeting – October 9\, 2025\, 6:30 pm
URL:https://clflwd.org/event/09-25-25-regular-board-meeting/
CATEGORIES:Regular Meeting
END:VEVENT
END:VCALENDAR