BEGIN:VCALENDAR
VERSION:2.0
PRODID:-//Comfort Lake Forest Lake Watershed District - ECPv6.15.14//NONSGML v1.0//EN
CALSCALE:GREGORIAN
METHOD:PUBLISH
X-ORIGINAL-URL:https://clflwd.org
X-WR-CALDESC:Events for Comfort Lake Forest Lake Watershed District
REFRESH-INTERVAL;VALUE=DURATION:PT1H
X-Robots-Tag:noindex
X-PUBLISHED-TTL:PT1H
BEGIN:VTIMEZONE
TZID:America/Chicago
BEGIN:DAYLIGHT
TZOFFSETFROM:-0600
TZOFFSETTO:-0500
TZNAME:CDT
DTSTART:20240310T080000
END:DAYLIGHT
BEGIN:STANDARD
TZOFFSETFROM:-0500
TZOFFSETTO:-0600
TZNAME:CST
DTSTART:20241103T070000
END:STANDARD
BEGIN:DAYLIGHT
TZOFFSETFROM:-0600
TZOFFSETTO:-0500
TZNAME:CDT
DTSTART:20250309T080000
END:DAYLIGHT
BEGIN:STANDARD
TZOFFSETFROM:-0500
TZOFFSETTO:-0600
TZNAME:CST
DTSTART:20251102T070000
END:STANDARD
BEGIN:DAYLIGHT
TZOFFSETFROM:-0600
TZOFFSETTO:-0500
TZNAME:CDT
DTSTART:20260308T080000
END:DAYLIGHT
BEGIN:STANDARD
TZOFFSETFROM:-0500
TZOFFSETTO:-0600
TZNAME:CST
DTSTART:20261101T070000
END:STANDARD
END:VTIMEZONE
BEGIN:VEVENT
DTSTART;TZID=America/Chicago:20250911T183000
DTEND;TZID=America/Chicago:20250911T203000
DTSTAMP:20260420T161706
CREATED:20241127T203713Z
LAST-MODIFIED:20250908T163433Z
UID:10788-1757615400-1757622600@clflwd.org
SUMMARY:09/11/25 Regular Board Meeting
DESCRIPTION:Remote Attendance Instructions:\nClick here to join the zoom meeting online or dial by phone: 301-715-8592. Meeting ID: 844 9243 0853 \nMeeting Notice & Agenda\nFull agenda and board packet items will be posted on this page no later than the Monday immediately preceding the meeting. \n\nCall to Order of Regular Meeting\nSetting of Meeting Agenda\nNew Business\n\na) MN Water Resources Conference Manager Registration\nb) Watershed Based Implementation Funding Agreement Extension\n\n\nOld Business\n\na) Building Architect Consultants\nb) 2026 Budget & Accomplishments Outreach\n\n\nProgram/Project Update\n\na) Project Update\nb) Program Update – Grant Research & Preparation\n\nYouTube Presentation\n\n\n\n\nReport of Officers and Managers\nSummary and Approval of Board Direction\nAdjourn\n\na) Next regular board meeting – September 25\, 2025\, 6:30 pm
URL:https://clflwd.org/event/09-11-25-regular-board-meeting/
CATEGORIES:Regular Meeting
END:VEVENT
END:VCALENDAR