BEGIN:VCALENDAR
VERSION:2.0
PRODID:-//Comfort Lake Forest Lake Watershed District - ECPv6.15.14//NONSGML v1.0//EN
CALSCALE:GREGORIAN
METHOD:PUBLISH
X-WR-CALNAME:Comfort Lake Forest Lake Watershed District
X-ORIGINAL-URL:https://clflwd.org
X-WR-CALDESC:Events for Comfort Lake Forest Lake Watershed District
REFRESH-INTERVAL;VALUE=DURATION:PT1H
X-Robots-Tag:noindex
X-PUBLISHED-TTL:PT1H
BEGIN:VTIMEZONE
TZID:America/Chicago
BEGIN:DAYLIGHT
TZOFFSETFROM:-0600
TZOFFSETTO:-0500
TZNAME:CDT
DTSTART:20230312T080000
END:DAYLIGHT
BEGIN:STANDARD
TZOFFSETFROM:-0500
TZOFFSETTO:-0600
TZNAME:CST
DTSTART:20231105T070000
END:STANDARD
BEGIN:DAYLIGHT
TZOFFSETFROM:-0600
TZOFFSETTO:-0500
TZNAME:CDT
DTSTART:20240310T080000
END:DAYLIGHT
BEGIN:STANDARD
TZOFFSETFROM:-0500
TZOFFSETTO:-0600
TZNAME:CST
DTSTART:20241103T070000
END:STANDARD
BEGIN:DAYLIGHT
TZOFFSETFROM:-0600
TZOFFSETTO:-0500
TZNAME:CDT
DTSTART:20250309T080000
END:DAYLIGHT
BEGIN:STANDARD
TZOFFSETFROM:-0500
TZOFFSETTO:-0600
TZNAME:CST
DTSTART:20251102T070000
END:STANDARD
END:VTIMEZONE
BEGIN:VEVENT
DTSTART;TZID=America/Chicago:20240411T183000
DTEND;TZID=America/Chicago:20240411T203000
DTSTAMP:20260421T154755
CREATED:20240725T182736Z
LAST-MODIFIED:20240816T184953Z
UID:7122-1712860200-1712867400@clflwd.org
SUMMARY:04/11/24 Regular Board Meeting
DESCRIPTION:Remote Attendance Instructions:\nClick here to join the zoom meeting online or dial by phone: 301-715-8592. Meeting ID: 822 7754 9006 \nMeeting Notice & Agenda\n\nCall to Order of Regular Meeting\nSetting of Meeting Agenda\nNew Business\n\na) PLM Service Agreement for Flowering Rush and Purple Loosestrife Management\nb) Records Retention Policy\n\n\nOld Business\n\na) 2023 Water Quality Monitoring Report\n\nPresentation\n\n\nb) 2023 Year in Review\, Annual Report\, and Progress Report\n\nYear in Review (Revised)\nPresentation\n\n\n\n\nProgram/Project Update\n\na) Project Update\nb) Program Update – Bone Lake Delisting Celebration\n\n\nSummary and Approval of Board Direction\nAdjourn\n\na) Next Regular Board Meeting – April 25\, 2024
URL:https://clflwd.org/event/04-11-24-regular-board-meeting/
CATEGORIES:Regular Meeting
END:VEVENT
END:VCALENDAR