BEGIN:VCALENDAR
VERSION:2.0
PRODID:-//Comfort Lake Forest Lake Watershed District - ECPv6.15.14//NONSGML v1.0//EN
CALSCALE:GREGORIAN
METHOD:PUBLISH
X-ORIGINAL-URL:https://clflwd.org
X-WR-CALDESC:Events for Comfort Lake Forest Lake Watershed District
REFRESH-INTERVAL;VALUE=DURATION:PT1H
X-Robots-Tag:noindex
X-PUBLISHED-TTL:PT1H
BEGIN:VTIMEZONE
TZID:America/Chicago
BEGIN:DAYLIGHT
TZOFFSETFROM:-0600
TZOFFSETTO:-0500
TZNAME:CDT
DTSTART:20220313T080000
END:DAYLIGHT
BEGIN:STANDARD
TZOFFSETFROM:-0500
TZOFFSETTO:-0600
TZNAME:CST
DTSTART:20221106T070000
END:STANDARD
BEGIN:DAYLIGHT
TZOFFSETFROM:-0600
TZOFFSETTO:-0500
TZNAME:CDT
DTSTART:20230312T080000
END:DAYLIGHT
BEGIN:STANDARD
TZOFFSETFROM:-0500
TZOFFSETTO:-0600
TZNAME:CST
DTSTART:20231105T070000
END:STANDARD
BEGIN:DAYLIGHT
TZOFFSETFROM:-0600
TZOFFSETTO:-0500
TZNAME:CDT
DTSTART:20240310T080000
END:DAYLIGHT
BEGIN:STANDARD
TZOFFSETFROM:-0500
TZOFFSETTO:-0600
TZNAME:CST
DTSTART:20241103T070000
END:STANDARD
END:VTIMEZONE
BEGIN:VEVENT
DTSTART;TZID=America/Chicago:20230511T183000
DTEND;TZID=America/Chicago:20230511T200000
DTSTAMP:20260422T102141
CREATED:20240725T182444Z
LAST-MODIFIED:20240820T212757Z
UID:7066-1683829800-1683835200@clflwd.org
SUMMARY:5/11/23 Board Meeting
DESCRIPTION:Join us in-person at our office or attend virtually! \nRemote Attendance Instructions:\nClick here to join the zoom meeting online or dial by phone: 301-715-8592. Meeting ID: 189 134 191 \nMeeting Notice & Agenda\n\nCall to Order of Regular Meeting\nSetting of Meeting Agenda\nProject Hearing: Forest Lake Alum Treatment Project Ordering\nNew Business\n\na) Forest Lake Alum Treatment Project Ordering\nPresentation\nb) Forest Lake Downtown Agreement\nc) Comfort Lake Point-Intercept Survey\n\n\nOld Business\nProgram/Project Update\n\na) Project Update\nb) Program Update\n\n\nSummary and Approval of Board Direction\nAdjourn\n\na) Next Regular Board Meeting – May\, 25\, 2023
URL:https://clflwd.org/event/5-11-23-board-meeting/
CATEGORIES:Regular Meeting
END:VEVENT
END:VCALENDAR