BEGIN:VCALENDAR
VERSION:2.0
PRODID:-//Comfort Lake Forest Lake Watershed District - ECPv6.15.14//NONSGML v1.0//EN
CALSCALE:GREGORIAN
METHOD:PUBLISH
X-ORIGINAL-URL:https://clflwd.org
X-WR-CALDESC:Events for Comfort Lake Forest Lake Watershed District
REFRESH-INTERVAL;VALUE=DURATION:PT1H
X-Robots-Tag:noindex
X-PUBLISHED-TTL:PT1H
BEGIN:VTIMEZONE
TZID:America/Chicago
BEGIN:DAYLIGHT
TZOFFSETFROM:-0600
TZOFFSETTO:-0500
TZNAME:CDT
DTSTART:20230312T080000
END:DAYLIGHT
BEGIN:STANDARD
TZOFFSETFROM:-0500
TZOFFSETTO:-0600
TZNAME:CST
DTSTART:20231105T070000
END:STANDARD
BEGIN:DAYLIGHT
TZOFFSETFROM:-0600
TZOFFSETTO:-0500
TZNAME:CDT
DTSTART:20240310T080000
END:DAYLIGHT
BEGIN:STANDARD
TZOFFSETFROM:-0500
TZOFFSETTO:-0600
TZNAME:CST
DTSTART:20241103T070000
END:STANDARD
BEGIN:DAYLIGHT
TZOFFSETFROM:-0600
TZOFFSETTO:-0500
TZNAME:CDT
DTSTART:20250309T080000
END:DAYLIGHT
BEGIN:STANDARD
TZOFFSETFROM:-0500
TZOFFSETTO:-0600
TZNAME:CST
DTSTART:20251102T070000
END:STANDARD
END:VTIMEZONE
BEGIN:VEVENT
DTSTART;TZID=America/Chicago:20240314T183000
DTEND;TZID=America/Chicago:20240314T203000
DTSTAMP:20260421T160723
CREATED:20240725T182736Z
LAST-MODIFIED:20240816T185605Z
UID:7120-1710441000-1710448200@clflwd.org
SUMMARY:03/14/24 Regular Board Meeting
DESCRIPTION:Remote Attendance Instructions:\nClick here to join the zoom meeting online or dial by phone: 301-715-8592. Meeting ID: 822 7754 9006 \nMeeting Notice & Agenda\n\nCall to Order of Regular Meeting\nSetting of Meeting Agenda\nNew Business\n\na) 2024 Aquatic Invasive Species Prevention & Management Plan\nb) 2024 Water Monitoring Plan & Scope of Work\nc) 2024 Cost-Share Program Policy\n\n\nOld Business\nProgram/Project Update\n\na) Project Update\nb) Permitting Program Update\nc) Education & Outreach Program Update\n\n\nSummary and Approval of Board Direction\nAdjourn\n\na) Next Regular Board Meeting – March 28\, 2024
URL:https://clflwd.org/event/03-14-24-regular-board-meeting/
CATEGORIES:Regular Meeting
END:VEVENT
BEGIN:VEVENT
DTSTART;TZID=America/Chicago:20240328T183000
DTEND;TZID=America/Chicago:20240328T203000
DTSTAMP:20260421T160724
CREATED:20240725T182736Z
LAST-MODIFIED:20240816T185152Z
UID:7121-1711650600-1711657800@clflwd.org
SUMMARY:03/28/24 Regular Board Meeting
DESCRIPTION:Remote Attendance Instructions:\nClick here to join the zoom meeting online or dial by phone: 301-715-8592. Meeting ID: 822 7754 9006 \nMeeting Notice & Agenda\n\nCall to Order of Regular Meeting\nSetting of Meeting Agenda\nConsent Agenda: The consent agenda is considered as one item of business. It consists of routine administrative items or items not requiring discussion. Items can be removed from the consent agenda at the request of the Board member\, staff member\, or a member of the audience. Please state which item or items you wish to remove for separate discussion.\n\na) Special Board Meeting Minutes – January 23\, 2024\nb) Regular Board Meeting Minutes – January 25\, 2024\nc) Regular Board Meeting Minutes – February 8\, 2024\nd) Regular Board Meeting Minutes – February 22\, 2024\ne) State Grant Conflict of Interest Resolution\n\n\nPublic Open Forum\nCitizen Advisory Committee Update\nNew Business\n\na) Curly-Leaf Pondweed Control Contract for Forest Lake\nb) 2023 CAT & DIY Monitoring Report\n\nRECORDED PRESENTATION – Please Watch Before Meeting\nSlides\n\n\nc) 2023 Monitoring Report\nd) 2023 Year-In-Review\, Annual Report\, Progress Report\n\nMemo\nYear in Review\nAnnual Report\nProgress Report\n\n\n\n\nOld Business\n\na) 2024 Cost-Share Policy\n\n\nReport of Staff\n\na) Administrator\nb) Emmons and Olivier Resources\nc) Smith Partners\n\n\nReport of Treasurer and Approval of Bills \nReport of Officers and Managers\nSummary and Approval of Board Direction\n Adjourn\n\na) Next Regular Board Meeting – April 11\, 2024
URL:https://clflwd.org/event/03-28-24-regular-board-meeting/
CATEGORIES:Regular Meeting
END:VEVENT
END:VCALENDAR