BEGIN:VCALENDAR
VERSION:2.0
PRODID:-//Comfort Lake Forest Lake Watershed District - ECPv6.15.14//NONSGML v1.0//EN
CALSCALE:GREGORIAN
METHOD:PUBLISH
X-WR-CALNAME:Comfort Lake Forest Lake Watershed District
X-ORIGINAL-URL:https://clflwd.org
X-WR-CALDESC:Events for Comfort Lake Forest Lake Watershed District
REFRESH-INTERVAL;VALUE=DURATION:PT1H
X-Robots-Tag:noindex
X-PUBLISHED-TTL:PT1H
BEGIN:VTIMEZONE
TZID:America/Chicago
BEGIN:DAYLIGHT
TZOFFSETFROM:-0600
TZOFFSETTO:-0500
TZNAME:CDT
DTSTART:20230312T080000
END:DAYLIGHT
BEGIN:STANDARD
TZOFFSETFROM:-0500
TZOFFSETTO:-0600
TZNAME:CST
DTSTART:20231105T070000
END:STANDARD
BEGIN:DAYLIGHT
TZOFFSETFROM:-0600
TZOFFSETTO:-0500
TZNAME:CDT
DTSTART:20240310T080000
END:DAYLIGHT
BEGIN:STANDARD
TZOFFSETFROM:-0500
TZOFFSETTO:-0600
TZNAME:CST
DTSTART:20241103T070000
END:STANDARD
BEGIN:DAYLIGHT
TZOFFSETFROM:-0600
TZOFFSETTO:-0500
TZNAME:CDT
DTSTART:20250309T080000
END:DAYLIGHT
BEGIN:STANDARD
TZOFFSETFROM:-0500
TZOFFSETTO:-0600
TZNAME:CST
DTSTART:20251102T070000
END:STANDARD
END:VTIMEZONE
BEGIN:VEVENT
DTSTART;TZID=America/Chicago:20240111T183000
DTEND;TZID=America/Chicago:20240111T203000
DTSTAMP:20260421T193235
CREATED:20240725T182721Z
LAST-MODIFIED:20240816T191009Z
UID:7116-1704997800-1705005000@clflwd.org
SUMMARY:1/11/24 Regular Board Meeting
DESCRIPTION:Remote Attendance Instructions:\nClick here to join the zoom meeting online or dial by phone: 301-715-8592. Meeting ID: 189 134 191 \nMeeting Notice & Agenda\n\nCall to Order of Regular Meeting\nSetting of Meeting Agenda\nNew Business\n\na) Election of Officers & Liaison Appointments\nb) Citizen Advisory Committee Appointments\nc) Designation of Official Newspapers & Banks\nd) Review Bank Signers\, Viewers\, & Credit Card Holders\ne) Lower St. Croix Partnership Metro Convene Meeting\n\n\n\nPresentation Slides\n\n\n\n\n\n\nOld Business\nProgram/Project Update\n\na) Cost-Share Program Update\nb) Project Update\n\n\nSummary and Approval of Board Direction\nAdministrator Review\nAdjourn\n\na) Next Regular Board Meeting – January 25\, 2024
URL:https://clflwd.org/event/1-11-24-regular-board-meeting/
CATEGORIES:Regular Meeting
END:VEVENT
BEGIN:VEVENT
DTSTART;TZID=America/Chicago:20240125T183000
DTEND;TZID=America/Chicago:20240125T203000
DTSTAMP:20260421T193235
CREATED:20240725T182721Z
LAST-MODIFIED:20240816T190401Z
UID:7117-1706207400-1706214600@clflwd.org
SUMMARY:1/25/24 Regular Board Meeting
DESCRIPTION:Remote Attendance Instructions:\nClick here to join the zoom meeting online or dial by phone: 301-715-8592. Meeting ID: 189 134 191 \nMeeting Notice & Agenda\n\nCall to Order of Regular Meeting\nSetting of Meeting Agenda\nConsent Agenda: The consent agenda is considered as one item of business. It consists of routine administrative items or items not requiring discussion. Items can be removed from the consent agenda at the request of the Board member\, staff member\, or a member of the audience. Please state which item or items you wish to remove for separate discussion.\n\na) Regular Board Meeting Minutes – December 20\, 2023\n\n\nPublic Open Forum\nCitizen Advisory Committee Update\nAquatic Invasive Species Update\n\na) 2023 AIS and Watercraft Inspection Reports\nb) 2023 Blue Water Science Reports\nc) 2024 Blue Water Science Service Agreement\nd) 2024 WCI Program Delegation Agreement\n\n\nNew Business\n\na) Joint Grant Application Letter of Support\n\n\nOld Business\nReport of Staff\n\na) Administrator\nb) Emmons and Olivier Resources\nc) Smith Partners\n\n\nReport of Treasurer\nReport of Officers and Managers\nSummary and Approval of Board Direction\nAdministrator Review [may convene in closed session]\n Adjourn\n\na) Next Regular Board Meeting – February 8\, 2024\n\n\n\n  \nBlue Water Science Presentation Slides
URL:https://clflwd.org/event/1-25-24-regular-board-meeting/
CATEGORIES:Regular Meeting
END:VEVENT
END:VCALENDAR