BEGIN:VCALENDAR
VERSION:2.0
PRODID:-//Comfort Lake Forest Lake Watershed District - ECPv6.15.14//NONSGML v1.0//EN
CALSCALE:GREGORIAN
METHOD:PUBLISH
X-ORIGINAL-URL:https://clflwd.org
X-WR-CALDESC:Events for Comfort Lake Forest Lake Watershed District
REFRESH-INTERVAL;VALUE=DURATION:PT1H
X-Robots-Tag:noindex
X-PUBLISHED-TTL:PT1H
BEGIN:VTIMEZONE
TZID:America/Chicago
BEGIN:DAYLIGHT
TZOFFSETFROM:-0600
TZOFFSETTO:-0500
TZNAME:CDT
DTSTART:20220313T080000
END:DAYLIGHT
BEGIN:STANDARD
TZOFFSETFROM:-0500
TZOFFSETTO:-0600
TZNAME:CST
DTSTART:20221106T070000
END:STANDARD
BEGIN:DAYLIGHT
TZOFFSETFROM:-0600
TZOFFSETTO:-0500
TZNAME:CDT
DTSTART:20230312T080000
END:DAYLIGHT
BEGIN:STANDARD
TZOFFSETFROM:-0500
TZOFFSETTO:-0600
TZNAME:CST
DTSTART:20231105T070000
END:STANDARD
BEGIN:DAYLIGHT
TZOFFSETFROM:-0600
TZOFFSETTO:-0500
TZNAME:CDT
DTSTART:20240310T080000
END:DAYLIGHT
BEGIN:STANDARD
TZOFFSETFROM:-0500
TZOFFSETTO:-0600
TZNAME:CST
DTSTART:20241103T070000
END:STANDARD
END:VTIMEZONE
BEGIN:VEVENT
DTSTART;TZID=America/Chicago:20231012T183000
DTEND;TZID=America/Chicago:20231012T203000
DTSTAMP:20260422T000036
CREATED:20240725T182514Z
LAST-MODIFIED:20240816T200558Z
UID:7076-1697135400-1697142600@clflwd.org
SUMMARY:10/12/23 Board Meeting
DESCRIPTION:Remote Attendance Instructions:\nClick here to join the zoom meeting online or dial by phone: 301-715-8592. Meeting ID: 189 134 191 \nMeeting Notice & Agenda\n\nCall to Order of Regular Meeting\nSetting of Meeting Agenda\nNew Business\n\na) EOR Staff Introduction\n\n\nOld Business\n\na) Moody Lake Capstone Project Contract Award\nb) Lessard-Sams Outdoor Heritage Fund Grant Agreement\nc) Credit Card Policy\n\n\nProgram/Project Update\n\na) Project Update\n\n\nSummary and Approval of Board Direction\nAdjourn\n\na) Next Regular Board Meeting – October\, 26\, 2023
URL:https://clflwd.org/event/10-12-23-board-meeting/
CATEGORIES:Regular Meeting
END:VEVENT
BEGIN:VEVENT
DTSTART;TZID=America/Chicago:20231026T183000
DTEND;TZID=America/Chicago:20231026T203000
DTSTAMP:20260422T000036
CREATED:20240725T182514Z
LAST-MODIFIED:20240816T195948Z
UID:7077-1698345000-1698352200@clflwd.org
SUMMARY:10/26/23 Board Meeting
DESCRIPTION:Remote Attendance Instructions:\nClick here to join the zoom meeting online or dial by phone: 301-715-8592. Meeting ID: 189 134 191 \nMeeting Notice & Agenda\n\nCall to Order of Regular Meeting\nSetting of Meeting Agenda\nConsent Agenda: The consent agenda is considered as one item of business. It consists of routine administrative items or items not requiring discussion. Items can be removed from the consent agenda at the request of the Board member\, staff member\, or a member of the audience. Please state which item or items you wish to remove for separate discussion.\n\na) Special Board Meeting Minutes – September 5\, 2023\nb) Special Board Meeting Minutes – September 12\, 2023\nc) Regular Board Meeting Minutes – September 14\, 2023\nd) Regular Board Meeting Minutes – September 28\, 2023\n\n\nSmith Partners’ Chloride Legislation Support\nPublic Open Forum\nCitizen Advisory Committee Update\nAquatic Invasive Species Update\nNew Business\n\na) Permit 23-024 Commercial Plumbing & Heating Building Expansion\nb) 2024 Board Meeting Schedule\nc) MN Watersheds Conference Attendance\nd) Watershed Based Implementation Funding Opportunity\n\n\nOld Business\n\na) Sunrise River/Highway 61 Wetland Enhancement Project Closeout\nb) AIS Prevention Partnership Grant Opportunities\nc) Bone Lake South Wetland Acquisition\n\n\nReport of Staff\n\na) Administrator\nb) Emmons and Olivier Resources\nc) Smith Partners\n\n\nReport of Treasurer\n\na) Approval of Bills and Treasurer’s Report\n\n\nReport of Officers and Managers\nSummary and Approval of Board Direction\nAdjourn\n\na) Next Regular Board Meeting – November 16\, 2023
URL:https://clflwd.org/event/10-26-23-board-meeting/
CATEGORIES:Regular Meeting
END:VEVENT
END:VCALENDAR