BEGIN:VCALENDAR
VERSION:2.0
PRODID:-//Comfort Lake Forest Lake Watershed District - ECPv6.15.14//NONSGML v1.0//EN
CALSCALE:GREGORIAN
METHOD:PUBLISH
X-ORIGINAL-URL:https://clflwd.org
X-WR-CALDESC:Events for Comfort Lake Forest Lake Watershed District
REFRESH-INTERVAL;VALUE=DURATION:PT1H
X-Robots-Tag:noindex
X-PUBLISHED-TTL:PT1H
BEGIN:VTIMEZONE
TZID:America/Chicago
BEGIN:DAYLIGHT
TZOFFSETFROM:-0600
TZOFFSETTO:-0500
TZNAME:CDT
DTSTART:20220313T080000
END:DAYLIGHT
BEGIN:STANDARD
TZOFFSETFROM:-0500
TZOFFSETTO:-0600
TZNAME:CST
DTSTART:20221106T070000
END:STANDARD
BEGIN:DAYLIGHT
TZOFFSETFROM:-0600
TZOFFSETTO:-0500
TZNAME:CDT
DTSTART:20230312T080000
END:DAYLIGHT
BEGIN:STANDARD
TZOFFSETFROM:-0500
TZOFFSETTO:-0600
TZNAME:CST
DTSTART:20231105T070000
END:STANDARD
BEGIN:DAYLIGHT
TZOFFSETFROM:-0600
TZOFFSETTO:-0500
TZNAME:CDT
DTSTART:20240310T080000
END:DAYLIGHT
BEGIN:STANDARD
TZOFFSETFROM:-0500
TZOFFSETTO:-0600
TZNAME:CST
DTSTART:20241103T070000
END:STANDARD
END:VTIMEZONE
BEGIN:VEVENT
DTSTART;TZID=America/Chicago:20230914T183000
DTEND;TZID=America/Chicago:20230914T203000
DTSTAMP:20260422T013738
CREATED:20240725T182514Z
LAST-MODIFIED:20240819T164023Z
UID:7074-1694716200-1694723400@clflwd.org
SUMMARY:9/14/23 Board Meeting
DESCRIPTION:Remote Attendance Instructions:\nClick here to join the zoom meeting online or dial by phone: 301-715-8592. Meeting ID: 189 134 191 \nMeeting Notice & Agenda\n\nCall to Order of Regular Meeting\nSetting of Meeting Agenda\nNew Business\n\na) Permit 22-043 Rolling Acres 61\nb) WJD-6 Wetland Contract Award\nc) Moody Lake Capstone Solicitation of Bids\nd) Great River Greening Cooperative Grant Agreement\ne) Partnership Grant Opportunity\n\n\nOld Business\n\na) MN Watersheds Resolution – Expanding Watershed Districts\nb) 2023 Board Meeting Schedule – Amendment\nc) Office Space/ISG Update\nd) Floodplain Vulnerability Assessment\n\n\nProgram/Project Update\n\na) Project Update\n\n\nSummary and Approval of Board Direction\nAdjourn\n\na) Next Regular Board Meeting – September\, 28\, 2023
URL:https://clflwd.org/event/9-14-23-board-meeting/
CATEGORIES:Regular Meeting
END:VEVENT
BEGIN:VEVENT
DTSTART;TZID=America/Chicago:20230928T183000
DTEND;TZID=America/Chicago:20230928T203000
DTSTAMP:20260422T013738
CREATED:20240725T182514Z
LAST-MODIFIED:20240816T200852Z
UID:7075-1695925800-1695933000@clflwd.org
SUMMARY:9/28/23 Board Meeting
DESCRIPTION:Remote Attendance Instructions:\nClick here to join the zoom meeting online or dial by phone: 301-715-8592. Meeting ID: 189 134 191 \nMeeting Notice & Agenda\n\nCall to Order of Regular Meeting\nSetting of Meeting Agenda\nConsent Agenda: The consent agenda is considered as one item of business. It consists of routine administrative items or items not requiring discussion. Items can be removed from the consent agenda at the request of the Board member\, staff member\, or a member of the audience. Please state which item or items you wish to remove for separate discussion.\n\na) Board Meeting Minutes – August 10\, 2023 \nb) Board Meeting Minutes – August 24\, 2023\n\n\nPublic Open Forum\nCitizen Advisory Committee Update\nAquatic Invasive Species Update\nNew Business\n\na) Permit 23-010 Ingersoll Ponds\nb) Project Presentation to Lower St. Croix Policy Committee\n\nRevised Presentation Slides\n\n\n\n\nOld Business\n\na) Floodplain Vulnerability Assessment Scope of Work\nb) Authorized Bank Users\n\n\nReport of Staff\n\na) Administrator\nb) Emmons and Olivier Resources\nc) Smith Partners\n\n\nReport of Treasurer\n\na) Approval of Bills and Treasurer’s Report\n\n\nReport of Officers and Managers\nSummary and Approval of Board Direction\nAdjourn\n\na) Next Regular Board Meeting – October 12\, 2023
URL:https://clflwd.org/event/9-28-23-board-meeting/
CATEGORIES:Regular Meeting
END:VEVENT
END:VCALENDAR