BEGIN:VCALENDAR
VERSION:2.0
PRODID:-//Comfort Lake Forest Lake Watershed District - ECPv6.15.14//NONSGML v1.0//EN
CALSCALE:GREGORIAN
METHOD:PUBLISH
X-WR-CALNAME:Comfort Lake Forest Lake Watershed District
X-ORIGINAL-URL:https://clflwd.org
X-WR-CALDESC:Events for Comfort Lake Forest Lake Watershed District
REFRESH-INTERVAL;VALUE=DURATION:PT1H
X-Robots-Tag:noindex
X-PUBLISHED-TTL:PT1H
BEGIN:VTIMEZONE
TZID:America/Chicago
BEGIN:DAYLIGHT
TZOFFSETFROM:-0600
TZOFFSETTO:-0500
TZNAME:CDT
DTSTART:20220313T080000
END:DAYLIGHT
BEGIN:STANDARD
TZOFFSETFROM:-0500
TZOFFSETTO:-0600
TZNAME:CST
DTSTART:20221106T070000
END:STANDARD
BEGIN:DAYLIGHT
TZOFFSETFROM:-0600
TZOFFSETTO:-0500
TZNAME:CDT
DTSTART:20230312T080000
END:DAYLIGHT
BEGIN:STANDARD
TZOFFSETFROM:-0500
TZOFFSETTO:-0600
TZNAME:CST
DTSTART:20231105T070000
END:STANDARD
BEGIN:DAYLIGHT
TZOFFSETFROM:-0600
TZOFFSETTO:-0500
TZNAME:CDT
DTSTART:20240310T080000
END:DAYLIGHT
BEGIN:STANDARD
TZOFFSETFROM:-0500
TZOFFSETTO:-0600
TZNAME:CST
DTSTART:20241103T070000
END:STANDARD
END:VTIMEZONE
BEGIN:VEVENT
DTSTART;TZID=America/Chicago:20230810T183000
DTEND;TZID=America/Chicago:20230810T203000
DTSTAMP:20260422T030944
CREATED:20240725T182459Z
LAST-MODIFIED:20240820T184137Z
UID:7072-1691692200-1691699400@clflwd.org
SUMMARY:8/10/23 Board Meeting
DESCRIPTION:Remote Attendance Instructions:\nClick here to join the zoom meeting online or dial by phone: 301-715-8592. Meeting ID: 189 134 191 \nMeeting Notice & Agenda\n\nCall to Order of Regular Meeting\nSetting of Meeting Agenda\nNew Business\n\na) Permit Application 21-041 Katies Glen\nb) WJD-6 Wetland Restoration Solicitation of Bids\nc) FY24 Clean Water Funds Grant Applications\nd) MN Association of Watershed District Awards & Resolutions\ne) Clean Water Partnership Loan C\nf) Manager Apparel\n\n\nOld Business\n\na) Communication & Public Relations\n\n\nProject Update\nSummary and Approval of Board Direction\nAdjourn\n\na) Next Regular Board Meeting – August\, 24\, 2023
URL:https://clflwd.org/event/8-10-23-board-meeting/
CATEGORIES:Regular Meeting
END:VEVENT
BEGIN:VEVENT
DTSTART;TZID=America/Chicago:20230824T183000
DTEND;TZID=America/Chicago:20230824T203000
DTSTAMP:20260422T030944
CREATED:20240725T182500Z
LAST-MODIFIED:20240820T183902Z
UID:7073-1692901800-1692909000@clflwd.org
SUMMARY:8/24/23 Board Meeting
DESCRIPTION:Remote Attendance Instructions:\nClick here to join the zoom meeting online or dial by phone: 301-715-8592. Meeting ID: 189 134 191 \nMeeting Notice & Agenda\n\nCall to Order of Regular Meeting\nSetting of Meeting Agenda\nConsent Agenda: The consent agenda is considered as one item of business. It consists of routine administrative items or items not requiring discussion. Items can be removed from the consent agenda at the request of the Board member\, staff member\, or a member of the audience. Please state which item or items you wish to remove for separate discussion.\n\na) Board Meeting Minutes – July\, 6\, 2023\nb) Board Meeting Minutes – July\, 13\, 2023 \nc) Board Meeting Minutes – July\, 20 2023\nd) Board Meeting Minutes – July\, 27\, 2023\n\n\nPublic Open Forum\nPublic Hearing – 2024 Budget & Levy\n\nPresentation\n\n\nCitizen Advisory Committee Update\nAquatic Invasive Species Update\nNew Business\n\na) Expedited Conservation Projects Grant Application – Forest Lake\nb) Conservation Partners Legacy Grant Application – Bone Lake\nc) Conservation Partners Legacy Grant Application – Little Comfort Lake\n\n\nOld Business\n\na) Clean Water Partnership Loan\nb) 2024 Budget\n\nMemo\n2024 Budget\nManager Overview\n\n\n\n\nReport of Staff\n\na) Administrator\nb) Emmons and Olivier Resources\nc) Smith Partners\n\n\nReport of Treasurer\n\na) Approval of Bills and Treasurer’s Report\n\n\nReport of Officers and managers\nSummary and Approval of Board Direction\nLand Acquisition – Bone Lake South (May convene in closed session)\nAdjourn\n\na) Next Regular Board Meeting – September\, 14\, 2023
URL:https://clflwd.org/event/8-24-23-board-meeting/
CATEGORIES:Regular Meeting
END:VEVENT
END:VCALENDAR