BEGIN:VCALENDAR
VERSION:2.0
PRODID:-//Comfort Lake Forest Lake Watershed District - ECPv6.15.14//NONSGML v1.0//EN
CALSCALE:GREGORIAN
METHOD:PUBLISH
X-ORIGINAL-URL:https://clflwd.org
X-WR-CALDESC:Events for Comfort Lake Forest Lake Watershed District
REFRESH-INTERVAL;VALUE=DURATION:PT1H
X-Robots-Tag:noindex
X-PUBLISHED-TTL:PT1H
BEGIN:VTIMEZONE
TZID:America/Chicago
BEGIN:DAYLIGHT
TZOFFSETFROM:-0600
TZOFFSETTO:-0500
TZNAME:CDT
DTSTART:20220313T080000
END:DAYLIGHT
BEGIN:STANDARD
TZOFFSETFROM:-0500
TZOFFSETTO:-0600
TZNAME:CST
DTSTART:20221106T070000
END:STANDARD
BEGIN:DAYLIGHT
TZOFFSETFROM:-0600
TZOFFSETTO:-0500
TZNAME:CDT
DTSTART:20230312T080000
END:DAYLIGHT
BEGIN:STANDARD
TZOFFSETFROM:-0500
TZOFFSETTO:-0600
TZNAME:CST
DTSTART:20231105T070000
END:STANDARD
BEGIN:DAYLIGHT
TZOFFSETFROM:-0600
TZOFFSETTO:-0500
TZNAME:CDT
DTSTART:20240310T080000
END:DAYLIGHT
BEGIN:STANDARD
TZOFFSETFROM:-0500
TZOFFSETTO:-0600
TZNAME:CST
DTSTART:20241103T070000
END:STANDARD
END:VTIMEZONE
BEGIN:VEVENT
DTSTART;TZID=America/Chicago:20230608T183000
DTEND;TZID=America/Chicago:20230608T200000
DTSTAMP:20260422T060047
CREATED:20240725T182445Z
LAST-MODIFIED:20240820T210823Z
UID:7068-1686249000-1686254400@clflwd.org
SUMMARY:6/8/23 Board Meeting
DESCRIPTION:Remote Attendance Instructions:\nClick here to join the zoom meeting online or dial by phone: 301-715-8592. Meeting ID: 189 134 191 \nMeeting Notice & Agenda\n\nCall to Order of Regular Meeting\nSetting of Meeting Agenda\nNew Business\n\na) Comprehensive Education and Outreach Plan\n\n\nOld Business\n\na) Governance Manual\n\n\nProgram/Project Update\n\na) Project Update\n\n\nSummary and Approval of Board Direction\nAdministrator SMART Goals [May convene in closed session]\nAdjourn\n\na) Next Budget Workshop – June\, 14\, 2023 3:00 pm\nb) Next Regular Board Meeting – June\, 22\, 2023 6:30 pm
URL:https://clflwd.org/event/6-8-23-board-meeting/
CATEGORIES:Regular Meeting
END:VEVENT
BEGIN:VEVENT
DTSTART;TZID=America/Chicago:20230622T183000
DTEND;TZID=America/Chicago:20230622T200000
DTSTAMP:20260422T060047
CREATED:20240725T182459Z
LAST-MODIFIED:20240820T191857Z
UID:7069-1687458600-1687464000@clflwd.org
SUMMARY:6/22/23 Board Meeting
DESCRIPTION:Remote Attendance Instructions:\nClick here to join the zoom meeting online or dial by phone: 301-715-8592. Meeting ID: 189 134 191 \nMeeting Notice & Agenda\nFull agenda and board packet items will be posted on this page no later than the Monday immediately preceding the meeting. \n\nCall to Order of Regular Meeting\nSetting of Meeting Agenda\nConsent Agenda: The consent agenda is considered as one item of business. It consists of routine administrative items or items not requiring discussion. Items can be removed from the consent agenda at the request of the Board member\, staff member\, or a member of the audience. Please state which item or items you wish to remove for separate discussion.\n\na) Board Meeting Minutes – May\, 11\, 2023\nb) Board Meeting Minutes – May 24\, 2023\nc) Board Meeting Minutes – May\, 25\, 023\n\n\nPublic Open Forum\nCitizen Advisory Committee Update\nAquatic Invasive Species Update\nNew Business\n\na) Permit #23-007 Mister Carwash\n\n\nOld Business\n\na) Forest Lake Cooperative AIS Agreement\n\n\nReport of Staff\n\na) Administrator\nb) Emmons and Olivier Resources\nc) Smith Partners\n\n\nReport of Treasurer\n\na) Approval of Bills and Treasurer’s Report\n\n\nReport of Officers and managers\nSummary and Approval of Board Direction\nAdjourn\n\na) Next Regular Board Meeting – July\, 13\, 2023
URL:https://clflwd.org/event/6-22-23-board-meeting/
CATEGORIES:Regular Meeting
END:VEVENT
END:VCALENDAR