BEGIN:VCALENDAR
VERSION:2.0
PRODID:-//Comfort Lake Forest Lake Watershed District - ECPv6.15.14//NONSGML v1.0//EN
CALSCALE:GREGORIAN
METHOD:PUBLISH
X-ORIGINAL-URL:https://clflwd.org
X-WR-CALDESC:Events for Comfort Lake Forest Lake Watershed District
REFRESH-INTERVAL;VALUE=DURATION:PT1H
X-Robots-Tag:noindex
X-PUBLISHED-TTL:PT1H
BEGIN:VTIMEZONE
TZID:America/Chicago
BEGIN:DAYLIGHT
TZOFFSETFROM:-0600
TZOFFSETTO:-0500
TZNAME:CDT
DTSTART:20220313T080000
END:DAYLIGHT
BEGIN:STANDARD
TZOFFSETFROM:-0500
TZOFFSETTO:-0600
TZNAME:CST
DTSTART:20221106T070000
END:STANDARD
BEGIN:DAYLIGHT
TZOFFSETFROM:-0600
TZOFFSETTO:-0500
TZNAME:CDT
DTSTART:20230312T080000
END:DAYLIGHT
BEGIN:STANDARD
TZOFFSETFROM:-0500
TZOFFSETTO:-0600
TZNAME:CST
DTSTART:20231105T070000
END:STANDARD
BEGIN:DAYLIGHT
TZOFFSETFROM:-0600
TZOFFSETTO:-0500
TZNAME:CDT
DTSTART:20240310T080000
END:DAYLIGHT
BEGIN:STANDARD
TZOFFSETFROM:-0500
TZOFFSETTO:-0600
TZNAME:CST
DTSTART:20241103T070000
END:STANDARD
END:VTIMEZONE
BEGIN:VEVENT
DTSTART;TZID=America/Chicago:20230309T183000
DTEND;TZID=America/Chicago:20230309T200000
DTSTAMP:20260422T115203
CREATED:20240725T182430Z
LAST-MODIFIED:20240820T213859Z
UID:7063-1678386600-1678392000@clflwd.org
SUMMARY:3/9/23 Board Meeting
DESCRIPTION:Remote Attendance Instructions:\nClick here to join the zoom meeting online or dial by phone: 301-715-8592. Meeting ID: 189 134 191 \nMeeting Notice & Agenda\n\nCall to Order of Regular Meeting\nSetting of Meeting Agenda\nConsent Agenda: The consent agenda is considered as one item of business. It consists of routine administrative items or items not requiring discussion. Items can be removed from the consent agenda at the request of the Board member\, staff member\, or a member of the audience. Please state which item or items you wish to remove for separate discussion.\n\na) Board Meeting Minutes – January\, 12\, 2023 \nb) Board Meeting Minutes – January\, 26\, 2023\n\n\nPublic Open Hearing: Moody Lake Capstone Project Ordering\nNew Business\n\na) 2023 AIS Prevention & Management Plan\nb) 2023 CLFLWD and Chisago County WCI Joint Powers Agreement\nc) Moody Lake Capstone Project Ordering & Scope of Work\nd) Little Comfort Infiltration Basin Feasibility Scope of Work\ne) Residential Cost-Share Program Framework\nf) Washington County Tax Forfeit Properties\n\n\nOld Business\n\na) Comfort Lakes Association Whole Lake Fluridone Treatment Reimbursement Request\n\n\nProgram/Project Update\n\na) Project Update\n\n\nSummary and Approval of Board Direction\nAdjourn\n\na) Next Regular Board Meeting – March\, 23\, 2023
URL:https://clflwd.org/event/3-9-23-board-meeting/
CATEGORIES:Regular Meeting
END:VEVENT
BEGIN:VEVENT
DTSTART;TZID=America/Chicago:20230323T183000
DTEND;TZID=America/Chicago:20230323T200000
DTSTAMP:20260422T115203
CREATED:20240725T182429Z
LAST-MODIFIED:20240820T213602Z
UID:7062-1679596200-1679601600@clflwd.org
SUMMARY:3/23/23 Board Meeting
DESCRIPTION:Remote Attendance Instructions:\nClick here to join the zoom meeting online or dial by phone: 301-715-8592. Meeting ID: 189 134 191 \nMeeting Notice & Agenda\n\nCall to Order of Regular Meeting\nSetting of Meeting Agenda\nConsent Agenda: The consent agenda is considered as one item of business. It consists of routine administrative items or items not requiring discussion. Items can be removed from the consent agenda at the request of the Board member\, staff member\, or a member of the audience. Please state which item or items you wish to remove for separate discussion.\n\na) Board Meeting Minutes – January\, 26\, 2023\nb) Board Meeting Minutes – February\, 9\, 2023\nc) Board Meeting Minutes – February 23\, 2023\n\n\nPublic Open Forum\nCitizen Advisory Committee Update\n\na) CAC Member Appointment \n\n\nAquatic Invasive Species Update\nNew Business\n\na) Forest Lake Alum Treatment Scope of Work\nEmmons and Olivier Resources Presentation\nb) 2022 Year in Review\, Annual Report\, Progress Report\nc) 2022 DIY and CAT Water Monitoring Report\n\n\nOld Business\n\na) Residential Cost-Share Program Framework\nb) Clean Water Partnership Loan B\n\n\nReport of Staff\n\na) Administrator\nb) Emmons and Olivier Resources\nc) Smith Partners\n\n\nReport of Treasurer\n\na) Approval of Bills and Treasurer’s Report\n\n\nReport of Officers and managers\nSummary and Approval of Board Direction\nAdjourn\n\na) Next Regular Board Meeting – April\, 13\, 2023
URL:https://clflwd.org/event/3-23-23-board-meeting/
CATEGORIES:Regular Meeting
END:VEVENT
END:VCALENDAR