BEGIN:VCALENDAR
VERSION:2.0
PRODID:-//Comfort Lake Forest Lake Watershed District - ECPv6.15.14//NONSGML v1.0//EN
CALSCALE:GREGORIAN
METHOD:PUBLISH
X-WR-CALNAME:Comfort Lake Forest Lake Watershed District
X-ORIGINAL-URL:https://clflwd.org
X-WR-CALDESC:Events for Comfort Lake Forest Lake Watershed District
REFRESH-INTERVAL;VALUE=DURATION:PT1H
X-Robots-Tag:noindex
X-PUBLISHED-TTL:PT1H
BEGIN:VTIMEZONE
TZID:America/Chicago
BEGIN:DAYLIGHT
TZOFFSETFROM:-0600
TZOFFSETTO:-0500
TZNAME:CDT
DTSTART:20220313T080000
END:DAYLIGHT
BEGIN:STANDARD
TZOFFSETFROM:-0500
TZOFFSETTO:-0600
TZNAME:CST
DTSTART:20221106T070000
END:STANDARD
BEGIN:DAYLIGHT
TZOFFSETFROM:-0600
TZOFFSETTO:-0500
TZNAME:CDT
DTSTART:20230312T080000
END:DAYLIGHT
BEGIN:STANDARD
TZOFFSETFROM:-0500
TZOFFSETTO:-0600
TZNAME:CST
DTSTART:20231105T070000
END:STANDARD
BEGIN:DAYLIGHT
TZOFFSETFROM:-0600
TZOFFSETTO:-0500
TZNAME:CDT
DTSTART:20240310T080000
END:DAYLIGHT
BEGIN:STANDARD
TZOFFSETFROM:-0500
TZOFFSETTO:-0600
TZNAME:CST
DTSTART:20241103T070000
END:STANDARD
END:VTIMEZONE
BEGIN:VEVENT
DTSTART;TZID=America/Chicago:20231114T170000
DTEND;TZID=America/Chicago:20231114T183000
DTSTAMP:20260423T095457
CREATED:20240725T182414Z
LAST-MODIFIED:20240816T195040Z
UID:7057-1699981200-1699986600@clflwd.org
SUMMARY:11/14/23 CAC Meeting
DESCRIPTION:Meeting Notice & Agenda\nFull agenda and meeting items will be posted on this page no later than the Monday immediately preceding the meeting. \nOnline: https://us02web.zoom.us/j/3185987668 | Phone: 1.312.626.679 | Meeting ID: 318 598 7668
URL:https://clflwd.org/event/11-14-23-cac-meeting/
CATEGORIES:CAC Meeting
END:VEVENT
BEGIN:VEVENT
DTSTART;TZID=America/Chicago:20231017T170000
DTEND;TZID=America/Chicago:20231017T183000
DTSTAMP:20260423T095457
CREATED:20240725T182414Z
LAST-MODIFIED:20240816T200427Z
UID:7056-1697562000-1697567400@clflwd.org
SUMMARY:10/17/23 CAC Meeting
DESCRIPTION:Meeting Notice & Agenda\nFull agenda and meeting items will be posted on this page no later than the Monday immediately preceding the meeting. \nOnline: https://us02web.zoom.us/j/3185987668 | Phone: 1.312.626.679 | Meeting ID: 318 598 7668
URL:https://clflwd.org/event/10-17-23-cac-meeting/
CATEGORIES:CAC Meeting
END:VEVENT
BEGIN:VEVENT
DTSTART;TZID=America/Chicago:20230919T170000
DTEND;TZID=America/Chicago:20230919T183000
DTSTAMP:20260423T095457
CREATED:20240725T182414Z
LAST-MODIFIED:20240819T163733Z
UID:7055-1695142800-1695148200@clflwd.org
SUMMARY:9/19/23 CAC Meeting
DESCRIPTION:Meeting Notice & Agenda\nFull agenda and meeting items will be posted on this page no later than the Monday immediately preceding the meeting. \nOnline: https://us02web.zoom.us/j/3185987668 | Phone: 1.312.626.679 | Meeting ID: 318 598 7668
URL:https://clflwd.org/event/9-19-23-cac-meeting/
CATEGORIES:CAC Meeting
END:VEVENT
BEGIN:VEVENT
DTSTART;TZID=America/Chicago:20230815T170000
DTEND;TZID=America/Chicago:20230815T183000
DTSTAMP:20260423T095457
CREATED:20240725T182414Z
LAST-MODIFIED:20240820T184016Z
UID:7054-1692118800-1692124200@clflwd.org
SUMMARY:8/15/23 CAC Meeting
DESCRIPTION:Meeting Notice & Agenda\nFull agenda and meeting items will be posted on this page no later than the Monday immediately preceding the meeting. \nOnline: https://us02web.zoom.us/j/3185987668 | Phone: 1.312.626.679 | Meeting ID: 318 598 7668
URL:https://clflwd.org/event/8-15-23-cac-meeting/
CATEGORIES:CAC Meeting
END:VEVENT
BEGIN:VEVENT
DTSTART;TZID=America/Chicago:20230718T170000
DTEND;TZID=America/Chicago:20230718T183000
DTSTAMP:20260423T095457
CREATED:20240725T182359Z
LAST-MODIFIED:20240820T184847Z
UID:7053-1689699600-1689705000@clflwd.org
SUMMARY:7/18/23 CAC Meeting
DESCRIPTION:Meeting Notice & Agenda\nFull agenda and meeting items will be posted on this page no later than the Monday immediately preceding the meeting. \nOnline: https://us02web.zoom.us/j/3185987668 | Phone: 1.312.626.679 | Meeting ID: 318 598 7668
URL:https://clflwd.org/event/7-18-23-cac-meeting/
CATEGORIES:CAC Meeting
END:VEVENT
BEGIN:VEVENT
DTSTART;TZID=America/Chicago:20230613T170000
DTEND;TZID=America/Chicago:20230613T183000
DTSTAMP:20260423T095457
CREATED:20240725T182359Z
LAST-MODIFIED:20240820T210536Z
UID:7052-1686675600-1686681000@clflwd.org
SUMMARY:6/13/23 CAC Meeting
DESCRIPTION:Meeting Notice & Agenda\nFull agenda and meeting items will be posted on this page no later than the Monday immediately preceding the meeting. \nOnline: https://us02web.zoom.us/j/3185987668 | Phone: 1.312.626.679 | Meeting ID: 318 598 7668
URL:https://clflwd.org/event/6-13-23-cac-meeting/
CATEGORIES:CAC Meeting
END:VEVENT
BEGIN:VEVENT
DTSTART;TZID=America/Chicago:20230516T170000
DTEND;TZID=America/Chicago:20230516T183000
DTSTAMP:20260423T095457
CREATED:20240725T182359Z
LAST-MODIFIED:20240820T212618Z
UID:7051-1684256400-1684261800@clflwd.org
SUMMARY:5/16/23 CAC Meeting
DESCRIPTION:Meeting Notice & Agenda\nFull agenda and meeting items will be posted on this page no later than the Monday immediately preceding the meeting. \nOnline: https://us02web.zoom.us/j/3185987668 | Phone: 1.312.626.679 | Meeting ID: 318 598 7668
URL:https://clflwd.org/event/5-16-23-cac-meeting/
CATEGORIES:CAC Meeting
END:VEVENT
BEGIN:VEVENT
DTSTART;TZID=America/Chicago:20230418T170000
DTEND;TZID=America/Chicago:20230418T183000
DTSTAMP:20260423T095457
CREATED:20240725T182359Z
LAST-MODIFIED:20240820T213238Z
UID:7050-1681837200-1681842600@clflwd.org
SUMMARY:4/18/23 CAC Meeting
DESCRIPTION:Meeting Notice & Agenda\nFull agenda and meeting items will be posted on this page no later than the Monday immediately preceding the meeting. \nOnline: https://us02web.zoom.us/j/3185987668 | Phone: 1.312.626.679 | Meeting ID: 318 598 7668
URL:https://clflwd.org/event/4-18-23-cac-meeting/
CATEGORIES:CAC Meeting
END:VEVENT
BEGIN:VEVENT
DTSTART;TZID=America/Chicago:20230314T170000
DTEND;TZID=America/Chicago:20230314T183000
DTSTAMP:20260423T095457
CREATED:20240725T182359Z
LAST-MODIFIED:20240820T213723Z
UID:7049-1678813200-1678818600@clflwd.org
SUMMARY:3/14/23 CAC Meeting
DESCRIPTION:Meeting Notice & Agenda\nFull agenda and meeting items will be posted on this page no later than the Monday immediately preceding the meeting. \nOnline: https://us02web.zoom.us/j/3185987668 | Phone: 1.312.626.679 | Meeting ID: 318 598 7668
URL:https://clflwd.org/event/3-14-23-cac-meeting/
CATEGORIES:CAC Meeting
END:VEVENT
BEGIN:VEVENT
DTSTART;TZID=America/Chicago:20230214T170000
DTEND;TZID=America/Chicago:20230214T183000
DTSTAMP:20260423T095457
CREATED:20240725T182358Z
LAST-MODIFIED:20240820T215642Z
UID:7048-1676394000-1676399400@clflwd.org
SUMMARY:2/14/23 CAC Meeting
DESCRIPTION:Meeting Notice & Agenda\nFull agenda and meeting items will be posted on this page no later than the Monday immediately preceding the meeting. \nOnline: https://us02web.zoom.us/j/3185987668 | Phone: 1.312.626.679 | Meeting ID: 318 598 7668
URL:https://clflwd.org/event/2-14-23-cac-meeting/
CATEGORIES:CAC Meeting
END:VEVENT
BEGIN:VEVENT
DTSTART;TZID=America/Chicago:20230117T170000
DTEND;TZID=America/Chicago:20230117T183000
DTSTAMP:20260423T095457
CREATED:20240725T182358Z
LAST-MODIFIED:20240820T221051Z
UID:7047-1673974800-1673980200@clflwd.org
SUMMARY:1/17/23 CAC Meeting
DESCRIPTION:Meeting Notice & Agenda\nFull agenda and meeting items will be posted on this page no later than the Monday immediately preceding the meeting. \nOnline: https://us02web.zoom.us/j/3185987668 | Phone: 1.312.626.679 | Meeting ID: 318 598 7668
URL:https://clflwd.org/event/1-17-23-cac-meeting/
CATEGORIES:CAC Meeting
END:VEVENT
END:VCALENDAR