BEGIN:VCALENDAR
VERSION:2.0
PRODID:-//Comfort Lake Forest Lake Watershed District - ECPv6.15.14//NONSGML v1.0//EN
CALSCALE:GREGORIAN
METHOD:PUBLISH
X-ORIGINAL-URL:https://clflwd.org
X-WR-CALDESC:Events for Comfort Lake Forest Lake Watershed District
REFRESH-INTERVAL;VALUE=DURATION:PT1H
X-Robots-Tag:noindex
X-PUBLISHED-TTL:PT1H
BEGIN:VTIMEZONE
TZID:America/Chicago
BEGIN:DAYLIGHT
TZOFFSETFROM:-0600
TZOFFSETTO:-0500
TZNAME:CDT
DTSTART:20240310T080000
END:DAYLIGHT
BEGIN:STANDARD
TZOFFSETFROM:-0500
TZOFFSETTO:-0600
TZNAME:CST
DTSTART:20241103T070000
END:STANDARD
BEGIN:DAYLIGHT
TZOFFSETFROM:-0600
TZOFFSETTO:-0500
TZNAME:CDT
DTSTART:20250309T080000
END:DAYLIGHT
BEGIN:STANDARD
TZOFFSETFROM:-0500
TZOFFSETTO:-0600
TZNAME:CST
DTSTART:20251102T070000
END:STANDARD
BEGIN:DAYLIGHT
TZOFFSETFROM:-0600
TZOFFSETTO:-0500
TZNAME:CDT
DTSTART:20260308T080000
END:DAYLIGHT
BEGIN:STANDARD
TZOFFSETFROM:-0500
TZOFFSETTO:-0600
TZNAME:CST
DTSTART:20261101T070000
END:STANDARD
BEGIN:DAYLIGHT
TZOFFSETFROM:-0600
TZOFFSETTO:-0500
TZNAME:CDT
DTSTART:20270314T080000
END:DAYLIGHT
BEGIN:STANDARD
TZOFFSETFROM:-0500
TZOFFSETTO:-0600
TZNAME:CST
DTSTART:20271107T070000
END:STANDARD
END:VTIMEZONE
BEGIN:VEVENT
DTSTART;TZID=America/Chicago:20250318T170000
DTEND;TZID=America/Chicago:20250318T180000
DTSTAMP:20260425T092500
CREATED:20250407T190840Z
LAST-MODIFIED:20250407T190840Z
UID:11996-1742317200-1742320800@clflwd.org
SUMMARY:03/18/25 CAC Meeting
DESCRIPTION:
URL:https://clflwd.org/event/03-18-25-cac-meeting/
CATEGORIES:CAC Meeting
END:VEVENT
BEGIN:VEVENT
DTSTART;TZID=America/Chicago:20250415T170000
DTEND;TZID=America/Chicago:20250415T180000
DTSTAMP:20260425T092500
CREATED:20250407T190901Z
LAST-MODIFIED:20250407T190901Z
UID:11998-1744736400-1744740000@clflwd.org
SUMMARY:04/15/25 CAC Meeting
DESCRIPTION:
URL:https://clflwd.org/event/04-15-25-cac-meeting/
CATEGORIES:CAC Meeting
END:VEVENT
BEGIN:VEVENT
DTSTART;TZID=America/Chicago:20250513T170000
DTEND;TZID=America/Chicago:20250513T180000
DTSTAMP:20260425T092500
CREATED:20250407T190929Z
LAST-MODIFIED:20250407T190929Z
UID:12000-1747155600-1747159200@clflwd.org
SUMMARY:05/13/25 CAC Meeting
DESCRIPTION:
URL:https://clflwd.org/event/05-13-25-cac-meeting/
CATEGORIES:CAC Meeting
END:VEVENT
BEGIN:VEVENT
DTSTART;TZID=America/Chicago:20250617T170000
DTEND;TZID=America/Chicago:20250617T180000
DTSTAMP:20260425T092500
CREATED:20250407T190956Z
LAST-MODIFIED:20250407T190956Z
UID:12002-1750179600-1750183200@clflwd.org
SUMMARY:06/17/25 CAC Meeting
DESCRIPTION:
URL:https://clflwd.org/event/06-17-25-cac-meeting/
CATEGORIES:CAC Meeting
END:VEVENT
BEGIN:VEVENT
DTSTART;TZID=America/Chicago:20250715T170000
DTEND;TZID=America/Chicago:20250715T173000
DTSTAMP:20260425T092500
CREATED:20250407T191041Z
LAST-MODIFIED:20250407T191041Z
UID:12004-1752598800-1752600600@clflwd.org
SUMMARY:07/15/25 CAC Meeting
DESCRIPTION:
URL:https://clflwd.org/event/07-15-25-cac-meeting/
CATEGORIES:CAC Meeting
END:VEVENT
BEGIN:VEVENT
DTSTART;TZID=America/Chicago:20250819T170000
DTEND;TZID=America/Chicago:20250819T180000
DTSTAMP:20260425T092500
CREATED:20250407T191108Z
LAST-MODIFIED:20250407T191108Z
UID:12006-1755622800-1755626400@clflwd.org
SUMMARY:08/19/25 CAC Meeting
DESCRIPTION:
URL:https://clflwd.org/event/08-19-25-cac-meeting/
CATEGORIES:CAC Meeting
END:VEVENT
BEGIN:VEVENT
DTSTART;TZID=America/Chicago:20250819T170000
DTEND;TZID=America/Chicago:20250819T190000
DTSTAMP:20260425T092500
CREATED:20250805T192327Z
LAST-MODIFIED:20250805T192327Z
UID:13046-1755622800-1755630000@clflwd.org
SUMMARY:Pontoon Shoreline Tour of Bone Lake
DESCRIPTION:Join the CLFLWD Citizen Advisory Committee\, the Bone Lake Association and other local leaders for a tour of natural shorelines on Bone Lake. We will be visiting several examples of natural shorelines and learning more about their importance to the health of Bone Lake. Aidan Read\, CLFLWD Land Management Specialist\, will be leading the tour\, and he will also be discussing the technical and financial resources available through the CLFLWD. \nWe will be meeting at Patti Ray’s house located at 23370 Melanie Trail North and loading the pontoons there. The pontoon tour will be from 5:15 to 6:15 p.m. followed by a light supper back at Patti’s property. \nPlease RSVP via email or by phone to (651) 395-5850 by August 11th. Any questions or concerns about the event can also be directed to Adam’s email or by phone. \nOpen Meeting Law Notice
URL:https://clflwd.org/event/pontoon-shoreline-tour-of-bone-lake/
CATEGORIES:CAC Meeting
END:VEVENT
BEGIN:VEVENT
DTSTART;TZID=America/Chicago:20250916T170000
DTEND;TZID=America/Chicago:20250916T180000
DTSTAMP:20260425T092500
CREATED:20250407T191359Z
LAST-MODIFIED:20250407T191359Z
UID:12008-1758042000-1758045600@clflwd.org
SUMMARY:09/16/25 CAC Meeting
DESCRIPTION:
URL:https://clflwd.org/event/09-16-25-cac-meeting/
CATEGORIES:CAC Meeting
END:VEVENT
BEGIN:VEVENT
DTSTART;TZID=America/Chicago:20251014T170000
DTEND;TZID=America/Chicago:20251014T180000
DTSTAMP:20260425T092500
CREATED:20250407T191431Z
LAST-MODIFIED:20250407T191431Z
UID:12010-1760461200-1760464800@clflwd.org
SUMMARY:10/14/25 CAC Meeting
DESCRIPTION:
URL:https://clflwd.org/event/10-14-25-cac-meeting/
CATEGORIES:CAC Meeting
END:VEVENT
BEGIN:VEVENT
DTSTART;TZID=America/Chicago:20251118T170000
DTEND;TZID=America/Chicago:20251118T180000
DTSTAMP:20260425T092500
CREATED:20250407T191504Z
LAST-MODIFIED:20250407T191504Z
UID:12012-1763485200-1763488800@clflwd.org
SUMMARY:11/18/25 CAC Meeting
DESCRIPTION:
URL:https://clflwd.org/event/11-18-25-cac-meeting/
CATEGORIES:CAC Meeting
END:VEVENT
BEGIN:VEVENT
DTSTART;TZID=America/Chicago:20251216T170000
DTEND;TZID=America/Chicago:20251216T180000
DTSTAMP:20260425T092500
CREATED:20250407T191531Z
LAST-MODIFIED:20250407T191531Z
UID:12014-1765904400-1765908000@clflwd.org
SUMMARY:12/16/25 CAC Meeting
DESCRIPTION:
URL:https://clflwd.org/event/12-16-25-cac-meeting/
CATEGORIES:CAC Meeting
END:VEVENT
BEGIN:VEVENT
DTSTART;TZID=America/Chicago:20260113T170000
DTEND;TZID=America/Chicago:20260113T180000
DTSTAMP:20260425T092500
CREATED:20251114T142839Z
LAST-MODIFIED:20251114T142839Z
UID:13752-1768323600-1768327200@clflwd.org
SUMMARY:01/13/26 CAC Meeting
DESCRIPTION:
URL:https://clflwd.org/event/01-13-26-cac-meeting/
CATEGORIES:CAC Meeting
END:VEVENT
BEGIN:VEVENT
DTSTART;TZID=America/Chicago:20260217T170000
DTEND;TZID=America/Chicago:20260217T180000
DTSTAMP:20260425T092500
CREATED:20251114T143517Z
LAST-MODIFIED:20260223T155937Z
UID:13763-1771347600-1771351200@clflwd.org
SUMMARY:02/17/26 CAC Meeting
DESCRIPTION:
URL:https://clflwd.org/event/02-17-26-cac-meeting/
CATEGORIES:CAC Meeting
END:VEVENT
BEGIN:VEVENT
DTSTART;TZID=America/Chicago:20260317T170000
DTEND;TZID=America/Chicago:20260317T180000
DTSTAMP:20260425T092500
CREATED:20251114T144033Z
LAST-MODIFIED:20260302T160027Z
UID:13773-1773766800-1773770400@clflwd.org
SUMMARY:03/17/26 CAC Meeting
DESCRIPTION:Open Meeting Notice
URL:https://clflwd.org/event/03-17-26-cac-meeting/
CATEGORIES:CAC Meeting
END:VEVENT
BEGIN:VEVENT
DTSTART;TZID=America/Chicago:20260414T170000
DTEND;TZID=America/Chicago:20260414T180000
DTSTAMP:20260425T092500
CREATED:20251114T152543Z
LAST-MODIFIED:20260223T155910Z
UID:13779-1776186000-1776189600@clflwd.org
SUMMARY:04/14/26 CAC Meeting
DESCRIPTION:
URL:https://clflwd.org/event/04-14-26-cac-meeting/
CATEGORIES:CAC Meeting
END:VEVENT
BEGIN:VEVENT
DTSTART;TZID=America/Chicago:20260519T170000
DTEND;TZID=America/Chicago:20260519T180000
DTSTAMP:20260425T092500
CREATED:20251114T152828Z
LAST-MODIFIED:20260223T155802Z
UID:13785-1779210000-1779213600@clflwd.org
SUMMARY:05/19/26 CAC Meeting
DESCRIPTION:
URL:https://clflwd.org/event/05-19-26-cac-meeting/
CATEGORIES:CAC Meeting
END:VEVENT
BEGIN:VEVENT
DTSTART;TZID=America/Chicago:20260616T170000
DTEND;TZID=America/Chicago:20260616T180000
DTSTAMP:20260425T092500
CREATED:20251120T170116Z
LAST-MODIFIED:20260223T155604Z
UID:13850-1781629200-1781632800@clflwd.org
SUMMARY:06/16/26 CAC Meeting
DESCRIPTION:
URL:https://clflwd.org/event/06-16-26-cac-meeting/
CATEGORIES:CAC Meeting
END:VEVENT
BEGIN:VEVENT
DTSTART;TZID=America/Chicago:20260714T170000
DTEND;TZID=America/Chicago:20260714T180000
DTSTAMP:20260425T092500
CREATED:20251120T170821Z
LAST-MODIFIED:20260223T155622Z
UID:13860-1784048400-1784052000@clflwd.org
SUMMARY:07/14/26 CAC Meeting
DESCRIPTION:
URL:https://clflwd.org/event/07-14-26-cac-meeting/
CATEGORIES:CAC Meeting
END:VEVENT
BEGIN:VEVENT
DTSTART;TZID=America/Chicago:20260818T170000
DTEND;TZID=America/Chicago:20260818T180000
DTSTAMP:20260425T092500
CREATED:20251120T172627Z
LAST-MODIFIED:20260223T155640Z
UID:13869-1787072400-1787076000@clflwd.org
SUMMARY:08/18/26 CAC Meeting
DESCRIPTION:
URL:https://clflwd.org/event/08-18-26-cac-meeting/
CATEGORIES:CAC Meeting
END:VEVENT
BEGIN:VEVENT
DTSTART;TZID=America/Chicago:20260915T170000
DTEND;TZID=America/Chicago:20260915T180000
DTSTAMP:20260425T092500
CREATED:20251120T173919Z
LAST-MODIFIED:20260223T155713Z
UID:13877-1789491600-1789495200@clflwd.org
SUMMARY:09/15/26 CAC Meeting
DESCRIPTION:
URL:https://clflwd.org/event/09-15-26-cac-meeting/
CATEGORIES:CAC Meeting
END:VEVENT
BEGIN:VEVENT
DTSTART;TZID=America/Chicago:20261013T170000
DTEND;TZID=America/Chicago:20261013T180000
DTSTAMP:20260425T092500
CREATED:20251120T174234Z
LAST-MODIFIED:20260223T155740Z
UID:13885-1791910800-1791914400@clflwd.org
SUMMARY:10/13/26 CAC Meeting
DESCRIPTION:
URL:https://clflwd.org/event/10-13-26-cac-meeting/
CATEGORIES:CAC Meeting
END:VEVENT
BEGIN:VEVENT
DTSTART;TZID=America/Chicago:20261117T170000
DTEND;TZID=America/Chicago:20261117T180000
DTSTAMP:20260425T092500
CREATED:20251120T174550Z
LAST-MODIFIED:20260223T155454Z
UID:13891-1794934800-1794938400@clflwd.org
SUMMARY:11/17/26 CAC Meeting
DESCRIPTION:
URL:https://clflwd.org/event/11-17-26-cac-meeting/
CATEGORIES:CAC Meeting
END:VEVENT
BEGIN:VEVENT
DTSTART;TZID=America/Chicago:20261215T170000
DTEND;TZID=America/Chicago:20261215T180000
DTSTAMP:20260425T092500
CREATED:20251120T175115Z
LAST-MODIFIED:20260223T155406Z
UID:13903-1797354000-1797357600@clflwd.org
SUMMARY:12/15/26 CAC Meeting
DESCRIPTION:
URL:https://clflwd.org/event/12-15-26-cac-meeting/
CATEGORIES:CAC Meeting
END:VEVENT
END:VCALENDAR