BEGIN:VCALENDAR
VERSION:2.0
PRODID:-//Comfort Lake Forest Lake Watershed District - ECPv6.15.14//NONSGML v1.0//EN
CALSCALE:GREGORIAN
METHOD:PUBLISH
X-WR-CALNAME:Comfort Lake Forest Lake Watershed District
X-ORIGINAL-URL:https://clflwd.org
X-WR-CALDESC:Events for Comfort Lake Forest Lake Watershed District
REFRESH-INTERVAL;VALUE=DURATION:PT1H
X-Robots-Tag:noindex
X-PUBLISHED-TTL:PT1H
BEGIN:VTIMEZONE
TZID:America/Chicago
BEGIN:DAYLIGHT
TZOFFSETFROM:-0600
TZOFFSETTO:-0500
TZNAME:CDT
DTSTART:20240310T080000
END:DAYLIGHT
BEGIN:STANDARD
TZOFFSETFROM:-0500
TZOFFSETTO:-0600
TZNAME:CST
DTSTART:20241103T070000
END:STANDARD
BEGIN:DAYLIGHT
TZOFFSETFROM:-0600
TZOFFSETTO:-0500
TZNAME:CDT
DTSTART:20250309T080000
END:DAYLIGHT
BEGIN:STANDARD
TZOFFSETFROM:-0500
TZOFFSETTO:-0600
TZNAME:CST
DTSTART:20251102T070000
END:STANDARD
BEGIN:DAYLIGHT
TZOFFSETFROM:-0600
TZOFFSETTO:-0500
TZNAME:CDT
DTSTART:20260308T080000
END:DAYLIGHT
BEGIN:STANDARD
TZOFFSETFROM:-0500
TZOFFSETTO:-0600
TZNAME:CST
DTSTART:20261101T070000
END:STANDARD
END:VTIMEZONE
BEGIN:VEVENT
DTSTART;TZID=America/Chicago:20250616T180000
DTEND;TZID=America/Chicago:20250616T200000
DTSTAMP:20260424T060436
CREATED:20250606T135300Z
LAST-MODIFIED:20250804T133815Z
UID:12630-1750096800-1750104000@clflwd.org
SUMMARY:06/16/25 Special Board Meeting - Budget
DESCRIPTION:Remote Attendance Instructions:\nClick here to join the zoom meeting online or dial by phone: 301-715-8592. Meeting ID: 820 6449 9549 \nMeeting Notice & Agenda\n\nCall to Order of Special Meeting\nStrategic Plan\nBudget Workshop\nAdjourn\n\na) Next regular board meeting – June 26\, 2025\, 6:30 pm
URL:https://clflwd.org/event/06-16-25-special-board-meeting-budget/
LOCATION:MN
CATEGORIES:Special Meeting
END:VEVENT
BEGIN:VEVENT
DTSTART;TZID=America/Chicago:20250616T183000
DTEND;TZID=America/Chicago:20250616T193000
DTSTAMP:20260424T060436
CREATED:20250507T162350Z
LAST-MODIFIED:20250507T162350Z
UID:12433-1750098600-1750102200@clflwd.org
SUMMARY:Living Fence Lines
DESCRIPTION:Natural fences constructed of shrubbery\, tall flowers\, and clumping grasses are attractive and environmentally friendly. These living fences add an eye-catching way to define your property boundaries\, while also adding pollinator plants that serve as effective privacy screens. Good fences make for good neighbors….and good habitat! Participants will receive an informational folder full of great publications\, and several door prizes will be given away from local plant specialists. \n\n\n\n\n\n\n\n\n\n\nhttps://isd2144.ce.eleyo.com/course/2897/summer-2025%E2%80%942/living-fence-lines
URL:https://clflwd.org/event/living-fence-lines/
LOCATION:Chisago Lakes High School\, 29400 Olinda Trail\, Lindstrom\, MN\, United States
CATEGORIES:Workshops/Presentations
END:VEVENT
END:VCALENDAR