BEGIN:VCALENDAR
VERSION:2.0
PRODID:-//Comfort Lake Forest Lake Watershed District - ECPv6.15.14//NONSGML v1.0//EN
CALSCALE:GREGORIAN
METHOD:PUBLISH
X-ORIGINAL-URL:https://clflwd.org
X-WR-CALDESC:Events for Comfort Lake Forest Lake Watershed District
REFRESH-INTERVAL;VALUE=DURATION:PT1H
X-Robots-Tag:noindex
X-PUBLISHED-TTL:PT1H
BEGIN:VTIMEZONE
TZID:America/Chicago
BEGIN:DAYLIGHT
TZOFFSETFROM:-0600
TZOFFSETTO:-0500
TZNAME:CDT
DTSTART:20220313T080000
END:DAYLIGHT
BEGIN:STANDARD
TZOFFSETFROM:-0500
TZOFFSETTO:-0600
TZNAME:CST
DTSTART:20221106T070000
END:STANDARD
BEGIN:DAYLIGHT
TZOFFSETFROM:-0600
TZOFFSETTO:-0500
TZNAME:CDT
DTSTART:20230312T080000
END:DAYLIGHT
BEGIN:STANDARD
TZOFFSETFROM:-0500
TZOFFSETTO:-0600
TZNAME:CST
DTSTART:20231105T070000
END:STANDARD
BEGIN:DAYLIGHT
TZOFFSETFROM:-0600
TZOFFSETTO:-0500
TZNAME:CDT
DTSTART:20240310T080000
END:DAYLIGHT
BEGIN:STANDARD
TZOFFSETFROM:-0500
TZOFFSETTO:-0600
TZNAME:CST
DTSTART:20241103T070000
END:STANDARD
END:VTIMEZONE
BEGIN:VEVENT
DTSTART;TZID=America/Chicago:20230925T163000
DTEND;TZID=America/Chicago:20230925T180000
DTSTAMP:20260425T201001
CREATED:20240725T182629Z
LAST-MODIFIED:20240816T201055Z
UID:7102-1695659400-1695664800@clflwd.org
SUMMARY:Resilient Shoreline Workshop
DESCRIPTION:Learn the fundamentals of protecting your shoreline property! This workshop will include discussions on lakescaping and shoreline projects\, plant selection tips\, regulatory reminders\, and provide access to technical and financial resources. \nRSVP Encouraged: https://forms.gle/hcEc6kK3BXfBe2J37
URL:https://clflwd.org/event/resilient-shoreline-workshop-3/
LOCATION:CLFLWD Office\, 44 Lake St. South\, Forest Lake\, MN\, 55025\, United States
CATEGORIES:Workshops/Presentations
END:VEVENT
END:VCALENDAR